BEGIN:VCALENDAR
VERSION:2.0
PRODID:-//Upcoming Events in Savannah, GA - ECPv6.15.20//NONSGML v1.0//EN
CALSCALE:GREGORIAN
METHOD:PUBLISH
X-WR-CALNAME:Upcoming Events in Savannah, GA
X-ORIGINAL-URL:https://events.neighborhoodcomics.com
X-WR-CALDESC:Events for Upcoming Events in Savannah, GA
REFRESH-INTERVAL;VALUE=DURATION:PT1H
X-Robots-Tag:noindex
X-PUBLISHED-TTL:PT1H
BEGIN:VTIMEZONE
TZID:America/New_York
BEGIN:DAYLIGHT
TZOFFSETFROM:-0500
TZOFFSETTO:-0400
TZNAME:EDT
DTSTART:20300310T070000
END:DAYLIGHT
BEGIN:STANDARD
TZOFFSETFROM:-0400
TZOFFSETTO:-0500
TZNAME:EST
DTSTART:20301103T060000
END:STANDARD
BEGIN:DAYLIGHT
TZOFFSETFROM:-0500
TZOFFSETTO:-0400
TZNAME:EDT
DTSTART:20310309T070000
END:DAYLIGHT
BEGIN:STANDARD
TZOFFSETFROM:-0400
TZOFFSETTO:-0500
TZNAME:EST
DTSTART:20311102T060000
END:STANDARD
BEGIN:DAYLIGHT
TZOFFSETFROM:-0500
TZOFFSETTO:-0400
TZNAME:EDT
DTSTART:20320314T070000
END:DAYLIGHT
BEGIN:STANDARD
TZOFFSETFROM:-0400
TZOFFSETTO:-0500
TZNAME:EST
DTSTART:20321107T060000
END:STANDARD
END:VTIMEZONE
BEGIN:VEVENT
DTSTART;TZID=America/New_York:20310101T180000
DTEND;TZID=America/New_York:20310101T210000
DTSTAMP:20260422T140912
CREATED:20230817T153919Z
LAST-MODIFIED:20230817T154622Z
UID:10002163-1925056800-1925067600@events.neighborhoodcomics.com
SUMMARY:Neighborhood Drink N Draw
DESCRIPTION:Sequential artists and illustrators meet-up 2x/month \n \n1st\, 3rd & 5th Wednesdays of the month – 6PM-9PM at White Whale Craft Ales. \nAll art supplies at Neighborhood Comics are 10% off from 6-7! \nHosted by Jamie Jones. \nMeet and network with local sequential artists and illustrators while you sketch and imbibe with your new best friends.
URL:https://events.neighborhoodcomics.com/event/neighborhood-drink-n-draw-2/2031-01-01/
LOCATION:White Whale Craft Ales\, 1207 Bull St\, Savannah\, GA\, 31401\, United States
CATEGORIES:Artists
ATTACH;FMTTYPE=image/png:https://events.neighborhoodcomics.com/wp-content/uploads/2023/08/drinkdraw.png
END:VEVENT
BEGIN:VEVENT
DTSTART;TZID=America/New_York:20310115T180000
DTEND;TZID=America/New_York:20310115T210000
DTSTAMP:20260422T140912
CREATED:20230817T154036Z
LAST-MODIFIED:20230817T154622Z
UID:10002194-1926266400-1926277200@events.neighborhoodcomics.com
SUMMARY:Neighborhood Drink N Draw
DESCRIPTION:Sequential artists and illustrators meet-up 2x/month \n \n1st\, 3rd & 5th Wednesdays of the month – 6PM-9PM at White Whale Craft Ales. \nAll art supplies at Neighborhood Comics are 10% off from 6-7! \nHosted by Jamie Jones. \nMeet and network with local sequential artists and illustrators while you sketch and imbibe with your new best friends.
URL:https://events.neighborhoodcomics.com/event/neighborhood-drink-n-draw-3/2031-01-15/
LOCATION:White Whale Craft Ales\, 1207 Bull St\, Savannah\, GA\, 31401\, United States
CATEGORIES:Artists
ATTACH;FMTTYPE=image/png:https://events.neighborhoodcomics.com/wp-content/uploads/2023/08/drinkdraw.png
END:VEVENT
BEGIN:VEVENT
DTSTART;TZID=America/New_York:20310126T190000
DTEND;TZID=America/New_York:20310126T210000
DTSTAMP:20260422T140912
CREATED:20260422T165541Z
LAST-MODIFIED:20260422T165541Z
UID:10002735-1927220400-1927227600@events.neighborhoodcomics.com
SUMMARY:Open CoMIC Night
DESCRIPTION:Join local writers and artists as they share their comic creations. You can participate by having a digital link to your comic at the ready. Sign up at the door.
URL:https://events.neighborhoodcomics.com/event/open-comic-night/2031-01-26/
LOCATION:Neighborhood Comics\, 1205 Bull St.\, Savannah\, GA\, 31401\, United States
CATEGORIES:Artists,Community,Readers
ATTACH;FMTTYPE=image/jpeg:https://events.neighborhoodcomics.com/wp-content/uploads/2026/04/utot.jpg
END:VEVENT
BEGIN:VEVENT
DTSTART;TZID=America/New_York:20310129T180000
DTEND;TZID=America/New_York:20310129T210000
DTSTAMP:20260422T140912
CREATED:20230817T153727Z
LAST-MODIFIED:20260320T005326Z
UID:10002134-1927476000-1927486800@events.neighborhoodcomics.com
SUMMARY:Neighborhood Drink N Draw
DESCRIPTION:Sequential artists and illustrators meet-up 2-3 x/month \n\n\n\n1st\, 3rd & 5th Wednesdays of the month – 6PM-9PM at White Whale Craft Ales. \n\n\n\nAll art supplies at Neighborhood Comics are 10% off from 6-7! \n\n\n\nHosted by Anthony Barbara. \n\n\n\nMeet and network with local sequential artists and illustrators while you sketch and imbibe with your new best friends.
URL:https://events.neighborhoodcomics.com/event/neighborhood-drink-n-draw/2031-01-29/
LOCATION:White Whale Craft Ales\, 1207 Bull St\, Savannah\, GA\, 31401\, United States
CATEGORIES:Artists
ATTACH;FMTTYPE=image/png:https://events.neighborhoodcomics.com/wp-content/uploads/2023/08/drinkdraw.png
END:VEVENT
END:VCALENDAR