BEGIN:VCALENDAR
VERSION:2.0
PRODID:-//Upcoming Events in Savannah, GA - ECPv6.15.20//NONSGML v1.0//EN
CALSCALE:GREGORIAN
METHOD:PUBLISH
X-ORIGINAL-URL:https://events.neighborhoodcomics.com
X-WR-CALDESC:Events for Upcoming Events in Savannah, GA
REFRESH-INTERVAL;VALUE=DURATION:PT1H
X-Robots-Tag:noindex
X-PUBLISHED-TTL:PT1H
BEGIN:VTIMEZONE
TZID:America/New_York
BEGIN:DAYLIGHT
TZOFFSETFROM:-0500
TZOFFSETTO:-0400
TZNAME:EDT
DTSTART:20240310T070000
END:DAYLIGHT
BEGIN:STANDARD
TZOFFSETFROM:-0400
TZOFFSETTO:-0500
TZNAME:EST
DTSTART:20241103T060000
END:STANDARD
BEGIN:DAYLIGHT
TZOFFSETFROM:-0500
TZOFFSETTO:-0400
TZNAME:EDT
DTSTART:20250309T070000
END:DAYLIGHT
BEGIN:STANDARD
TZOFFSETFROM:-0400
TZOFFSETTO:-0500
TZNAME:EST
DTSTART:20251102T060000
END:STANDARD
BEGIN:DAYLIGHT
TZOFFSETFROM:-0500
TZOFFSETTO:-0400
TZNAME:EDT
DTSTART:20260308T070000
END:DAYLIGHT
BEGIN:STANDARD
TZOFFSETFROM:-0400
TZOFFSETTO:-0500
TZNAME:EST
DTSTART:20261101T060000
END:STANDARD
END:VTIMEZONE
BEGIN:VEVENT
DTSTART;TZID=America/New_York:20250420T110000
DTEND;TZID=America/New_York:20250420T130000
DTSTAMP:20260420T050453
CREATED:20250320T201333Z
LAST-MODIFIED:20250320T201333Z
UID:10000674-1745146800-1745154000@events.neighborhoodcomics.com
SUMMARY:Neighborhood Sundays with Deanna
DESCRIPTION:Join us for Neighborhood Sundays! In the month of April\, we’re expanding our chill Sunday morning routine and we want you to be a part of it. We’ll have tables and chairs out with special zero stakes zine\, minicomic and craft workshops from this month’s artist-in-residence Deanna Soukiasian.
URL:https://events.neighborhoodcomics.com/event/neighborhood-sundays-with-deanna/2025-04-20/
LOCATION:Neighborhood Comics\, 1205 Bull St.\, Savannah\, GA\, 31401\, United States
CATEGORIES:Community
ATTACH;FMTTYPE=image/jpeg:https://events.neighborhoodcomics.com/wp-content/uploads/2025/02/Neighborhood-Sundays.jpg
ORGANIZER;CN="Neighborhood Comics":MAILTO:team@neighborhoodcomics.com
END:VEVENT
BEGIN:VEVENT
DTSTART;TZID=America/New_York:20250427T110000
DTEND;TZID=America/New_York:20250427T130000
DTSTAMP:20260420T050453
CREATED:20250320T201333Z
LAST-MODIFIED:20250320T201333Z
UID:10000675-1745751600-1745758800@events.neighborhoodcomics.com
SUMMARY:Neighborhood Sundays with Deanna
DESCRIPTION:Join us for Neighborhood Sundays! In the month of April\, we’re expanding our chill Sunday morning routine and we want you to be a part of it. We’ll have tables and chairs out with special zero stakes zine\, minicomic and craft workshops from this month’s artist-in-residence Deanna Soukiasian.
URL:https://events.neighborhoodcomics.com/event/neighborhood-sundays-with-deanna/2025-04-27/
LOCATION:Neighborhood Comics\, 1205 Bull St.\, Savannah\, GA\, 31401\, United States
CATEGORIES:Community
ATTACH;FMTTYPE=image/jpeg:https://events.neighborhoodcomics.com/wp-content/uploads/2025/02/Neighborhood-Sundays.jpg
ORGANIZER;CN="Neighborhood Comics":MAILTO:team@neighborhoodcomics.com
END:VEVENT
END:VCALENDAR