BEGIN:VCALENDAR
VERSION:2.0
PRODID:-//Upcoming Events in Savannah, GA - ECPv6.15.20//NONSGML v1.0//EN
CALSCALE:GREGORIAN
METHOD:PUBLISH
X-ORIGINAL-URL:https://events.neighborhoodcomics.com
X-WR-CALDESC:Events for Upcoming Events in Savannah, GA
REFRESH-INTERVAL;VALUE=DURATION:PT1H
X-Robots-Tag:noindex
X-PUBLISHED-TTL:PT1H
BEGIN:VTIMEZONE
TZID:America/New_York
BEGIN:DAYLIGHT
TZOFFSETFROM:-0500
TZOFFSETTO:-0400
TZNAME:EDT
DTSTART:20240310T070000
END:DAYLIGHT
BEGIN:STANDARD
TZOFFSETFROM:-0400
TZOFFSETTO:-0500
TZNAME:EST
DTSTART:20241103T060000
END:STANDARD
BEGIN:DAYLIGHT
TZOFFSETFROM:-0500
TZOFFSETTO:-0400
TZNAME:EDT
DTSTART:20250309T070000
END:DAYLIGHT
BEGIN:STANDARD
TZOFFSETFROM:-0400
TZOFFSETTO:-0500
TZNAME:EST
DTSTART:20251102T060000
END:STANDARD
BEGIN:DAYLIGHT
TZOFFSETFROM:-0500
TZOFFSETTO:-0400
TZNAME:EDT
DTSTART:20260308T070000
END:DAYLIGHT
BEGIN:STANDARD
TZOFFSETFROM:-0400
TZOFFSETTO:-0500
TZNAME:EST
DTSTART:20261101T060000
END:STANDARD
END:VTIMEZONE
BEGIN:VEVENT
DTSTART;TZID=America/New_York:20250824T183000
DTEND;TZID=America/New_York:20250824T200000
DTSTAMP:20260419T222217
CREATED:20250817T143615Z
LAST-MODIFIED:20250817T144424Z
UID:10000827-1756060200-1756065600@events.neighborhoodcomics.com
SUMMARY:Open Comic Night
DESCRIPTION:Sunday\, August 24\, is the debut of Open CoMic Night! We’re partnering with UTOT KOMIKS to bring you Savannah’s premiere comic creators in an intimate setting to read and share their comic work\,\,\, and you’re invited\, not only to listen – but to participate! \nHere’s how it works: We have three creators slated to bookend the night. In between their readings\, you can share your work. Bring a physical book (preferred) or digital PDF on a portable USB drive. Sign in at the counter when the doors open. The first sign ups will get a spot. \nThe event is hosted by Dani Chuatico. Emotional support/poster by Richard Mercado. Featured creators are Kamilah Wong\, Kit Joseph and Peter Paizy. Doors open at 6:30 and the event starts at 7PM.
URL:https://events.neighborhoodcomics.com/event/open-comic-night/
LOCATION:Neighborhood Comics\, 1205 Bull St.\, Savannah\, GA\, 31401\, United States
CATEGORIES:Community
ATTACH;FMTTYPE=image/jpeg:https://events.neighborhoodcomics.com/wp-content/uploads/2025/08/toot.jpg
ORGANIZER;CN="Neighborhood Comics":MAILTO:team@neighborhoodcomics.com
END:VEVENT
BEGIN:VEVENT
DTSTART;TZID=America/New_York:20250831T100000
DTEND;TZID=America/New_York:20250831T150000
DTSTAMP:20260419T222217
CREATED:20250819T194408Z
LAST-MODIFIED:20250819T194408Z
UID:10000828-1756634400-1756652400@events.neighborhoodcomics.com
SUMMARY:Volunteer Day
DESCRIPTION:Meet up with the Neighborhood crew on Sunday morning at 10AM for a volunteer shift full of good vibes and dirty fingernails. We’re going to be cleaning\, landscaping and brainstorming ways to make the store experience even better. We look forward to seeing you! \nIn the event of rain\, the event will be rescheduled.
URL:https://events.neighborhoodcomics.com/event/volunteer-day/
LOCATION:Neighborhood Comics\, 1205 Bull St.\, Savannah\, GA\, 31401\, United States
CATEGORIES:Community
ATTACH;FMTTYPE=image/png:https://events.neighborhoodcomics.com/wp-content/uploads/2025/08/vol.png
ORGANIZER;CN="Neighborhood Comics":MAILTO:team@neighborhoodcomics.com
END:VEVENT
END:VCALENDAR