BEGIN:VCALENDAR
VERSION:2.0
PRODID:-//Upcoming Events in Savannah, GA - ECPv6.15.20//NONSGML v1.0//EN
CALSCALE:GREGORIAN
METHOD:PUBLISH
X-ORIGINAL-URL:https://events.neighborhoodcomics.com
X-WR-CALDESC:Events for Upcoming Events in Savannah, GA
REFRESH-INTERVAL;VALUE=DURATION:PT1H
X-Robots-Tag:noindex
X-PUBLISHED-TTL:PT1H
BEGIN:VTIMEZONE
TZID:America/New_York
BEGIN:DAYLIGHT
TZOFFSETFROM:-0500
TZOFFSETTO:-0400
TZNAME:EDT
DTSTART:20250309T070000
END:DAYLIGHT
BEGIN:STANDARD
TZOFFSETFROM:-0400
TZOFFSETTO:-0500
TZNAME:EST
DTSTART:20251102T060000
END:STANDARD
BEGIN:DAYLIGHT
TZOFFSETFROM:-0500
TZOFFSETTO:-0400
TZNAME:EDT
DTSTART:20260308T070000
END:DAYLIGHT
BEGIN:STANDARD
TZOFFSETFROM:-0400
TZOFFSETTO:-0500
TZNAME:EST
DTSTART:20261101T060000
END:STANDARD
BEGIN:DAYLIGHT
TZOFFSETFROM:-0500
TZOFFSETTO:-0400
TZNAME:EDT
DTSTART:20270314T070000
END:DAYLIGHT
BEGIN:STANDARD
TZOFFSETFROM:-0400
TZOFFSETTO:-0500
TZNAME:EST
DTSTART:20271107T060000
END:STANDARD
END:VTIMEZONE
BEGIN:VEVENT
DTSTART;TZID=America/New_York:20260427T180000
DTEND;TZID=America/New_York:20260427T200000
DTSTAMP:20260419T204256
CREATED:20260406T193620Z
LAST-MODIFIED:20260406T193621Z
UID:10002669-1777312800-1777320000@events.neighborhoodcomics.com
SUMMARY:Magic the Gathering: Secrets of Strixhaven - Two-Headed Giant Commander Night!
DESCRIPTION:Two-Headed Giant Commander Night is a Commander event in which players can earn promo cards (while supplies last!) by pairing up to battle other two-player teams. Each player has their own 100-card Commander deck\, but they share a 60-point life total. Play follows the normal Two-Headed Giant rules.
URL:https://events.neighborhoodcomics.com/event/magic-the-gathering-secrets-of-strixhaven-two-headed-giant-commander-night/
LOCATION:Neighborhood Comics\, 1205 Bull St.\, Savannah\, GA\, 31401\, United States
CATEGORIES:Community
ATTACH;FMTTYPE=image/jpeg:https://events.neighborhoodcomics.com/wp-content/uploads/2026/04/MTGSOS_sma_key_1920x1080_en.jpg
ORGANIZER;CN="Neighborhood Comics":MAILTO:team@neighborhoodcomics.com
END:VEVENT
BEGIN:VEVENT
DTSTART;TZID=America/New_York:20260501T160000
DTEND;TZID=America/New_York:20260501T200000
DTSTAMP:20260419T204256
CREATED:20260320T004420Z
LAST-MODIFIED:20260320T004422Z
UID:10001781-1777651200-1777665600@events.neighborhoodcomics.com
SUMMARY:Friday Night Magic in Savannah
DESCRIPTION:FNM @ NBRHD! \n\n\n\nCome out for some Commander open play starting at 4PM. \n\n\n\n\nCommunity
URL:https://events.neighborhoodcomics.com/event/friday-night-magic-in-savannah/2026-05-01/
LOCATION:Neighborhood Comics\, 1205 Bull St.\, Savannah\, GA\, 31401\, United States
CATEGORIES:Community
ATTACH;FMTTYPE=image/jpeg:https://events.neighborhoodcomics.com/wp-content/uploads/2025/09/mtg.jpg
ORGANIZER;CN="Neighborhood Comics":MAILTO:team@neighborhoodcomics.com
END:VEVENT
BEGIN:VEVENT
DTSTART;TZID=America/New_York:20260501T180000
DTEND;TZID=America/New_York:20260501T200000
DTSTAMP:20260419T204256
CREATED:20260406T193747Z
LAST-MODIFIED:20260406T193748Z
UID:10002670-1777658400-1777665600@events.neighborhoodcomics.com
SUMMARY:Magic the Gathering: Secrets of Strixhaven Commander Party!
DESCRIPTION:Commander Party is a story-inspired Commander event that immerses players in the setting of the latest set release. The vibe is fun and casual\, and the events are outstanding opportunities to welcome in broad groups from your community\, from new players to lore enthusiasts to Commander fans. The event features special rules designed specifically for Lorwyn Eclipsed and includes play aids and party cards to support play. Each pod of three to four players receives a play aid\, and party cards are placed in the designated area of the play aid. New Players and New Faces always welcome!
URL:https://events.neighborhoodcomics.com/event/magic-the-gathering-secrets-of-strixhaven-commander-party/
LOCATION:Neighborhood Comics\, 1205 Bull St.\, Savannah\, GA\, 31401\, United States
CATEGORIES:Community
ATTACH;FMTTYPE=image/jpeg:https://events.neighborhoodcomics.com/wp-content/uploads/2026/04/MTGSOS_sma_key_1920x1080_en.jpg
ORGANIZER;CN="Neighborhood Comics":MAILTO:team@neighborhoodcomics.com
END:VEVENT
BEGIN:VEVENT
DTSTART;TZID=America/New_York:20260504T160000
DTEND;TZID=America/New_York:20260504T200000
DTSTAMP:20260419T204256
CREATED:20260319T225714Z
LAST-MODIFIED:20260320T145716Z
UID:10001516-1777910400-1777924800@events.neighborhoodcomics.com
SUMMARY:Magic the Gathering Mondays
DESCRIPTION:Join us Mondays from 4-8PM for Magic Mondays! New players are welcome. We’ll have extra decks available on hand to borrow for anyone wanting to try out the game!
URL:https://events.neighborhoodcomics.com/event/magic-the-gathering-mondays-2/2026-05-04/
LOCATION:GA
CATEGORIES:Community
ATTACH;FMTTYPE=image/jpeg:https://events.neighborhoodcomics.com/wp-content/uploads/2025/09/mtg.jpg
END:VEVENT
BEGIN:VEVENT
DTSTART;TZID=America/New_York:20260508T160000
DTEND;TZID=America/New_York:20260508T200000
DTSTAMP:20260419T204256
CREATED:20260320T004420Z
LAST-MODIFIED:20260320T004422Z
UID:10001782-1778256000-1778270400@events.neighborhoodcomics.com
SUMMARY:Friday Night Magic in Savannah
DESCRIPTION:FNM @ NBRHD! \n\n\n\nCome out for some Commander open play starting at 4PM. \n\n\n\n\nCommunity
URL:https://events.neighborhoodcomics.com/event/friday-night-magic-in-savannah/2026-05-08/
LOCATION:Neighborhood Comics\, 1205 Bull St.\, Savannah\, GA\, 31401\, United States
CATEGORIES:Community
ATTACH;FMTTYPE=image/jpeg:https://events.neighborhoodcomics.com/wp-content/uploads/2025/09/mtg.jpg
ORGANIZER;CN="Neighborhood Comics":MAILTO:team@neighborhoodcomics.com
END:VEVENT
BEGIN:VEVENT
DTSTART;TZID=America/New_York:20260511T160000
DTEND;TZID=America/New_York:20260511T200000
DTSTAMP:20260419T204256
CREATED:20260319T225714Z
LAST-MODIFIED:20260320T145716Z
UID:10001517-1778515200-1778529600@events.neighborhoodcomics.com
SUMMARY:Magic the Gathering Mondays
DESCRIPTION:Join us Mondays from 4-8PM for Magic Mondays! New players are welcome. We’ll have extra decks available on hand to borrow for anyone wanting to try out the game!
URL:https://events.neighborhoodcomics.com/event/magic-the-gathering-mondays-2/2026-05-11/
LOCATION:GA
CATEGORIES:Community
ATTACH;FMTTYPE=image/jpeg:https://events.neighborhoodcomics.com/wp-content/uploads/2025/09/mtg.jpg
END:VEVENT
BEGIN:VEVENT
DTSTART;TZID=America/New_York:20260515T160000
DTEND;TZID=America/New_York:20260515T200000
DTSTAMP:20260419T204256
CREATED:20260320T004420Z
LAST-MODIFIED:20260320T004422Z
UID:10001783-1778860800-1778875200@events.neighborhoodcomics.com
SUMMARY:Friday Night Magic in Savannah
DESCRIPTION:FNM @ NBRHD! \n\n\n\nCome out for some Commander open play starting at 4PM. \n\n\n\n\nCommunity
URL:https://events.neighborhoodcomics.com/event/friday-night-magic-in-savannah/2026-05-15/
LOCATION:Neighborhood Comics\, 1205 Bull St.\, Savannah\, GA\, 31401\, United States
CATEGORIES:Community
ATTACH;FMTTYPE=image/jpeg:https://events.neighborhoodcomics.com/wp-content/uploads/2025/09/mtg.jpg
ORGANIZER;CN="Neighborhood Comics":MAILTO:team@neighborhoodcomics.com
END:VEVENT
BEGIN:VEVENT
DTSTART;TZID=America/New_York:20260518T160000
DTEND;TZID=America/New_York:20260518T200000
DTSTAMP:20260419T204256
CREATED:20260319T225714Z
LAST-MODIFIED:20260320T145716Z
UID:10001518-1779120000-1779134400@events.neighborhoodcomics.com
SUMMARY:Magic the Gathering Mondays
DESCRIPTION:Join us Mondays from 4-8PM for Magic Mondays! New players are welcome. We’ll have extra decks available on hand to borrow for anyone wanting to try out the game!
URL:https://events.neighborhoodcomics.com/event/magic-the-gathering-mondays-2/2026-05-18/
LOCATION:GA
CATEGORIES:Community
ATTACH;FMTTYPE=image/jpeg:https://events.neighborhoodcomics.com/wp-content/uploads/2025/09/mtg.jpg
END:VEVENT
BEGIN:VEVENT
DTSTART;TZID=America/New_York:20260522T160000
DTEND;TZID=America/New_York:20260522T200000
DTSTAMP:20260419T204256
CREATED:20260320T004420Z
LAST-MODIFIED:20260320T004422Z
UID:10001784-1779465600-1779480000@events.neighborhoodcomics.com
SUMMARY:Friday Night Magic in Savannah
DESCRIPTION:FNM @ NBRHD! \n\n\n\nCome out for some Commander open play starting at 4PM. \n\n\n\n\nCommunity
URL:https://events.neighborhoodcomics.com/event/friday-night-magic-in-savannah/2026-05-22/
LOCATION:Neighborhood Comics\, 1205 Bull St.\, Savannah\, GA\, 31401\, United States
CATEGORIES:Community
ATTACH;FMTTYPE=image/jpeg:https://events.neighborhoodcomics.com/wp-content/uploads/2025/09/mtg.jpg
ORGANIZER;CN="Neighborhood Comics":MAILTO:team@neighborhoodcomics.com
END:VEVENT
BEGIN:VEVENT
DTSTART;TZID=America/New_York:20260525T160000
DTEND;TZID=America/New_York:20260525T200000
DTSTAMP:20260419T204256
CREATED:20260319T225714Z
LAST-MODIFIED:20260320T145716Z
UID:10001519-1779724800-1779739200@events.neighborhoodcomics.com
SUMMARY:Magic the Gathering Mondays
DESCRIPTION:Join us Mondays from 4-8PM for Magic Mondays! New players are welcome. We’ll have extra decks available on hand to borrow for anyone wanting to try out the game!
URL:https://events.neighborhoodcomics.com/event/magic-the-gathering-mondays-2/2026-05-25/
LOCATION:GA
CATEGORIES:Community
ATTACH;FMTTYPE=image/jpeg:https://events.neighborhoodcomics.com/wp-content/uploads/2025/09/mtg.jpg
END:VEVENT
BEGIN:VEVENT
DTSTART;TZID=America/New_York:20260529T160000
DTEND;TZID=America/New_York:20260529T200000
DTSTAMP:20260419T204256
CREATED:20260320T004420Z
LAST-MODIFIED:20260320T004422Z
UID:10001785-1780070400-1780084800@events.neighborhoodcomics.com
SUMMARY:Friday Night Magic in Savannah
DESCRIPTION:FNM @ NBRHD! \n\n\n\nCome out for some Commander open play starting at 4PM. \n\n\n\n\nCommunity
URL:https://events.neighborhoodcomics.com/event/friday-night-magic-in-savannah/2026-05-29/
LOCATION:Neighborhood Comics\, 1205 Bull St.\, Savannah\, GA\, 31401\, United States
CATEGORIES:Community
ATTACH;FMTTYPE=image/jpeg:https://events.neighborhoodcomics.com/wp-content/uploads/2025/09/mtg.jpg
ORGANIZER;CN="Neighborhood Comics":MAILTO:team@neighborhoodcomics.com
END:VEVENT
BEGIN:VEVENT
DTSTART;TZID=America/New_York:20260601T160000
DTEND;TZID=America/New_York:20260601T200000
DTSTAMP:20260419T204256
CREATED:20260319T225714Z
LAST-MODIFIED:20260320T145716Z
UID:10001520-1780329600-1780344000@events.neighborhoodcomics.com
SUMMARY:Magic the Gathering Mondays
DESCRIPTION:Join us Mondays from 4-8PM for Magic Mondays! New players are welcome. We’ll have extra decks available on hand to borrow for anyone wanting to try out the game!
URL:https://events.neighborhoodcomics.com/event/magic-the-gathering-mondays-2/2026-06-01/
LOCATION:GA
CATEGORIES:Community
ATTACH;FMTTYPE=image/jpeg:https://events.neighborhoodcomics.com/wp-content/uploads/2025/09/mtg.jpg
END:VEVENT
BEGIN:VEVENT
DTSTART;TZID=America/New_York:20260605T000000
DTEND;TZID=America/New_York:20260605T235959
DTSTAMP:20260419T204256
CREATED:20250527T183806Z
LAST-MODIFIED:20260319T210714Z
UID:10000691-1780617600-1780703999@events.neighborhoodcomics.com
SUMMARY:Doom Patrol Day
DESCRIPTION:On the HBO Doom Patrol adaptation\, it was on June 5 that the town of Cloverton threw a city-wide celebration of the most unlikely superhero team ever. We’re keeping that spirit going by offering HALF OFF any one Doom Patrol or Vertigo Comics release including single issues\, paperbacks and hardcovers.
URL:https://events.neighborhoodcomics.com/event/doom-patrol-day/2026-06-05/
LOCATION:Neighborhood Comics\, 1205 Bull St.\, Savannah\, GA\, 31401\, United States
CATEGORIES:Community,Free Comics
ATTACH;FMTTYPE=image/png:https://events.neighborhoodcomics.com/wp-content/uploads/2025/05/DPD2.png
ORGANIZER;CN="Neighborhood Comics":MAILTO:team@neighborhoodcomics.com
END:VEVENT
BEGIN:VEVENT
DTSTART;TZID=America/New_York:20260605T160000
DTEND;TZID=America/New_York:20260605T200000
DTSTAMP:20260419T204256
CREATED:20260320T004420Z
LAST-MODIFIED:20260320T004422Z
UID:10001786-1780675200-1780689600@events.neighborhoodcomics.com
SUMMARY:Friday Night Magic in Savannah
DESCRIPTION:FNM @ NBRHD! \n\n\n\nCome out for some Commander open play starting at 4PM. \n\n\n\n\nCommunity
URL:https://events.neighborhoodcomics.com/event/friday-night-magic-in-savannah/2026-06-05/
LOCATION:Neighborhood Comics\, 1205 Bull St.\, Savannah\, GA\, 31401\, United States
CATEGORIES:Community
ATTACH;FMTTYPE=image/jpeg:https://events.neighborhoodcomics.com/wp-content/uploads/2025/09/mtg.jpg
ORGANIZER;CN="Neighborhood Comics":MAILTO:team@neighborhoodcomics.com
END:VEVENT
BEGIN:VEVENT
DTSTART;TZID=America/New_York:20260608T160000
DTEND;TZID=America/New_York:20260608T200000
DTSTAMP:20260419T204256
CREATED:20260319T225714Z
LAST-MODIFIED:20260320T145716Z
UID:10001521-1780934400-1780948800@events.neighborhoodcomics.com
SUMMARY:Magic the Gathering Mondays
DESCRIPTION:Join us Mondays from 4-8PM for Magic Mondays! New players are welcome. We’ll have extra decks available on hand to borrow for anyone wanting to try out the game!
URL:https://events.neighborhoodcomics.com/event/magic-the-gathering-mondays-2/2026-06-08/
LOCATION:GA
CATEGORIES:Community
ATTACH;FMTTYPE=image/jpeg:https://events.neighborhoodcomics.com/wp-content/uploads/2025/09/mtg.jpg
END:VEVENT
BEGIN:VEVENT
DTSTART;TZID=America/New_York:20260612T160000
DTEND;TZID=America/New_York:20260612T200000
DTSTAMP:20260419T204256
CREATED:20260320T004420Z
LAST-MODIFIED:20260320T004422Z
UID:10001787-1781280000-1781294400@events.neighborhoodcomics.com
SUMMARY:Friday Night Magic in Savannah
DESCRIPTION:FNM @ NBRHD! \n\n\n\nCome out for some Commander open play starting at 4PM. \n\n\n\n\nCommunity
URL:https://events.neighborhoodcomics.com/event/friday-night-magic-in-savannah/2026-06-12/
LOCATION:Neighborhood Comics\, 1205 Bull St.\, Savannah\, GA\, 31401\, United States
CATEGORIES:Community
ATTACH;FMTTYPE=image/jpeg:https://events.neighborhoodcomics.com/wp-content/uploads/2025/09/mtg.jpg
ORGANIZER;CN="Neighborhood Comics":MAILTO:team@neighborhoodcomics.com
END:VEVENT
BEGIN:VEVENT
DTSTART;TZID=America/New_York:20260615T160000
DTEND;TZID=America/New_York:20260615T200000
DTSTAMP:20260419T204256
CREATED:20260319T225714Z
LAST-MODIFIED:20260320T145716Z
UID:10001522-1781539200-1781553600@events.neighborhoodcomics.com
SUMMARY:Magic the Gathering Mondays
DESCRIPTION:Join us Mondays from 4-8PM for Magic Mondays! New players are welcome. We’ll have extra decks available on hand to borrow for anyone wanting to try out the game!
URL:https://events.neighborhoodcomics.com/event/magic-the-gathering-mondays-2/2026-06-15/
LOCATION:GA
CATEGORIES:Community
ATTACH;FMTTYPE=image/jpeg:https://events.neighborhoodcomics.com/wp-content/uploads/2025/09/mtg.jpg
END:VEVENT
BEGIN:VEVENT
DTSTART;TZID=America/New_York:20260619T160000
DTEND;TZID=America/New_York:20260619T200000
DTSTAMP:20260419T204256
CREATED:20260320T004420Z
LAST-MODIFIED:20260320T004422Z
UID:10001788-1781884800-1781899200@events.neighborhoodcomics.com
SUMMARY:Friday Night Magic in Savannah
DESCRIPTION:FNM @ NBRHD! \n\n\n\nCome out for some Commander open play starting at 4PM. \n\n\n\n\nCommunity
URL:https://events.neighborhoodcomics.com/event/friday-night-magic-in-savannah/2026-06-19/
LOCATION:Neighborhood Comics\, 1205 Bull St.\, Savannah\, GA\, 31401\, United States
CATEGORIES:Community
ATTACH;FMTTYPE=image/jpeg:https://events.neighborhoodcomics.com/wp-content/uploads/2025/09/mtg.jpg
ORGANIZER;CN="Neighborhood Comics":MAILTO:team@neighborhoodcomics.com
END:VEVENT
BEGIN:VEVENT
DTSTART;TZID=America/New_York:20260622T160000
DTEND;TZID=America/New_York:20260622T200000
DTSTAMP:20260419T204256
CREATED:20260319T225714Z
LAST-MODIFIED:20260320T145716Z
UID:10001523-1782144000-1782158400@events.neighborhoodcomics.com
SUMMARY:Magic the Gathering Mondays
DESCRIPTION:Join us Mondays from 4-8PM for Magic Mondays! New players are welcome. We’ll have extra decks available on hand to borrow for anyone wanting to try out the game!
URL:https://events.neighborhoodcomics.com/event/magic-the-gathering-mondays-2/2026-06-22/
LOCATION:GA
CATEGORIES:Community
ATTACH;FMTTYPE=image/jpeg:https://events.neighborhoodcomics.com/wp-content/uploads/2025/09/mtg.jpg
END:VEVENT
BEGIN:VEVENT
DTSTART;TZID=America/New_York:20260626T160000
DTEND;TZID=America/New_York:20260626T200000
DTSTAMP:20260419T204256
CREATED:20260320T004420Z
LAST-MODIFIED:20260320T004422Z
UID:10001789-1782489600-1782504000@events.neighborhoodcomics.com
SUMMARY:Friday Night Magic in Savannah
DESCRIPTION:FNM @ NBRHD! \n\n\n\nCome out for some Commander open play starting at 4PM. \n\n\n\n\nCommunity
URL:https://events.neighborhoodcomics.com/event/friday-night-magic-in-savannah/2026-06-26/
LOCATION:Neighborhood Comics\, 1205 Bull St.\, Savannah\, GA\, 31401\, United States
CATEGORIES:Community
ATTACH;FMTTYPE=image/jpeg:https://events.neighborhoodcomics.com/wp-content/uploads/2025/09/mtg.jpg
ORGANIZER;CN="Neighborhood Comics":MAILTO:team@neighborhoodcomics.com
END:VEVENT
BEGIN:VEVENT
DTSTART;TZID=America/New_York:20260629T160000
DTEND;TZID=America/New_York:20260629T200000
DTSTAMP:20260419T204256
CREATED:20260319T225714Z
LAST-MODIFIED:20260320T145716Z
UID:10001524-1782748800-1782763200@events.neighborhoodcomics.com
SUMMARY:Magic the Gathering Mondays
DESCRIPTION:Join us Mondays from 4-8PM for Magic Mondays! New players are welcome. We’ll have extra decks available on hand to borrow for anyone wanting to try out the game!
URL:https://events.neighborhoodcomics.com/event/magic-the-gathering-mondays-2/2026-06-29/
LOCATION:GA
CATEGORIES:Community
ATTACH;FMTTYPE=image/jpeg:https://events.neighborhoodcomics.com/wp-content/uploads/2025/09/mtg.jpg
END:VEVENT
BEGIN:VEVENT
DTSTART;TZID=America/New_York:20260703T160000
DTEND;TZID=America/New_York:20260703T200000
DTSTAMP:20260419T204256
CREATED:20260320T004420Z
LAST-MODIFIED:20260320T004422Z
UID:10001790-1783094400-1783108800@events.neighborhoodcomics.com
SUMMARY:Friday Night Magic in Savannah
DESCRIPTION:FNM @ NBRHD! \n\n\n\nCome out for some Commander open play starting at 4PM. \n\n\n\n\nCommunity
URL:https://events.neighborhoodcomics.com/event/friday-night-magic-in-savannah/2026-07-03/
LOCATION:Neighborhood Comics\, 1205 Bull St.\, Savannah\, GA\, 31401\, United States
CATEGORIES:Community
ATTACH;FMTTYPE=image/jpeg:https://events.neighborhoodcomics.com/wp-content/uploads/2025/09/mtg.jpg
ORGANIZER;CN="Neighborhood Comics":MAILTO:team@neighborhoodcomics.com
END:VEVENT
BEGIN:VEVENT
DTSTART;TZID=America/New_York:20260706T160000
DTEND;TZID=America/New_York:20260706T200000
DTSTAMP:20260419T204256
CREATED:20260319T225714Z
LAST-MODIFIED:20260320T145716Z
UID:10001525-1783353600-1783368000@events.neighborhoodcomics.com
SUMMARY:Magic the Gathering Mondays
DESCRIPTION:Join us Mondays from 4-8PM for Magic Mondays! New players are welcome. We’ll have extra decks available on hand to borrow for anyone wanting to try out the game!
URL:https://events.neighborhoodcomics.com/event/magic-the-gathering-mondays-2/2026-07-06/
LOCATION:GA
CATEGORIES:Community
ATTACH;FMTTYPE=image/jpeg:https://events.neighborhoodcomics.com/wp-content/uploads/2025/09/mtg.jpg
END:VEVENT
BEGIN:VEVENT
DTSTART;TZID=America/New_York:20260710T160000
DTEND;TZID=America/New_York:20260710T200000
DTSTAMP:20260419T204256
CREATED:20260320T004420Z
LAST-MODIFIED:20260320T004422Z
UID:10001791-1783699200-1783713600@events.neighborhoodcomics.com
SUMMARY:Friday Night Magic in Savannah
DESCRIPTION:FNM @ NBRHD! \n\n\n\nCome out for some Commander open play starting at 4PM. \n\n\n\n\nCommunity
URL:https://events.neighborhoodcomics.com/event/friday-night-magic-in-savannah/2026-07-10/
LOCATION:Neighborhood Comics\, 1205 Bull St.\, Savannah\, GA\, 31401\, United States
CATEGORIES:Community
ATTACH;FMTTYPE=image/jpeg:https://events.neighborhoodcomics.com/wp-content/uploads/2025/09/mtg.jpg
ORGANIZER;CN="Neighborhood Comics":MAILTO:team@neighborhoodcomics.com
END:VEVENT
BEGIN:VEVENT
DTSTART;TZID=America/New_York:20260713T160000
DTEND;TZID=America/New_York:20260713T200000
DTSTAMP:20260419T204256
CREATED:20260319T225714Z
LAST-MODIFIED:20260320T145716Z
UID:10001526-1783958400-1783972800@events.neighborhoodcomics.com
SUMMARY:Magic the Gathering Mondays
DESCRIPTION:Join us Mondays from 4-8PM for Magic Mondays! New players are welcome. We’ll have extra decks available on hand to borrow for anyone wanting to try out the game!
URL:https://events.neighborhoodcomics.com/event/magic-the-gathering-mondays-2/2026-07-13/
LOCATION:GA
CATEGORIES:Community
ATTACH;FMTTYPE=image/jpeg:https://events.neighborhoodcomics.com/wp-content/uploads/2025/09/mtg.jpg
END:VEVENT
BEGIN:VEVENT
DTSTART;TZID=America/New_York:20260717T160000
DTEND;TZID=America/New_York:20260717T200000
DTSTAMP:20260419T204256
CREATED:20260320T004420Z
LAST-MODIFIED:20260320T004422Z
UID:10001792-1784304000-1784318400@events.neighborhoodcomics.com
SUMMARY:Friday Night Magic in Savannah
DESCRIPTION:FNM @ NBRHD! \n\n\n\nCome out for some Commander open play starting at 4PM. \n\n\n\n\nCommunity
URL:https://events.neighborhoodcomics.com/event/friday-night-magic-in-savannah/2026-07-17/
LOCATION:Neighborhood Comics\, 1205 Bull St.\, Savannah\, GA\, 31401\, United States
CATEGORIES:Community
ATTACH;FMTTYPE=image/jpeg:https://events.neighborhoodcomics.com/wp-content/uploads/2025/09/mtg.jpg
ORGANIZER;CN="Neighborhood Comics":MAILTO:team@neighborhoodcomics.com
END:VEVENT
BEGIN:VEVENT
DTSTART;TZID=America/New_York:20260720T160000
DTEND;TZID=America/New_York:20260720T200000
DTSTAMP:20260419T204256
CREATED:20260319T225714Z
LAST-MODIFIED:20260320T145716Z
UID:10001527-1784563200-1784577600@events.neighborhoodcomics.com
SUMMARY:Magic the Gathering Mondays
DESCRIPTION:Join us Mondays from 4-8PM for Magic Mondays! New players are welcome. We’ll have extra decks available on hand to borrow for anyone wanting to try out the game!
URL:https://events.neighborhoodcomics.com/event/magic-the-gathering-mondays-2/2026-07-20/
LOCATION:GA
CATEGORIES:Community
ATTACH;FMTTYPE=image/jpeg:https://events.neighborhoodcomics.com/wp-content/uploads/2025/09/mtg.jpg
END:VEVENT
BEGIN:VEVENT
DTSTART;TZID=America/New_York:20260724T160000
DTEND;TZID=America/New_York:20260724T200000
DTSTAMP:20260419T204256
CREATED:20260320T004420Z
LAST-MODIFIED:20260320T004422Z
UID:10001793-1784908800-1784923200@events.neighborhoodcomics.com
SUMMARY:Friday Night Magic in Savannah
DESCRIPTION:FNM @ NBRHD! \n\n\n\nCome out for some Commander open play starting at 4PM. \n\n\n\n\nCommunity
URL:https://events.neighborhoodcomics.com/event/friday-night-magic-in-savannah/2026-07-24/
LOCATION:Neighborhood Comics\, 1205 Bull St.\, Savannah\, GA\, 31401\, United States
CATEGORIES:Community
ATTACH;FMTTYPE=image/jpeg:https://events.neighborhoodcomics.com/wp-content/uploads/2025/09/mtg.jpg
ORGANIZER;CN="Neighborhood Comics":MAILTO:team@neighborhoodcomics.com
END:VEVENT
BEGIN:VEVENT
DTSTART;TZID=America/New_York:20260727T160000
DTEND;TZID=America/New_York:20260727T200000
DTSTAMP:20260419T204256
CREATED:20260319T225714Z
LAST-MODIFIED:20260320T145716Z
UID:10001528-1785168000-1785182400@events.neighborhoodcomics.com
SUMMARY:Magic the Gathering Mondays
DESCRIPTION:Join us Mondays from 4-8PM for Magic Mondays! New players are welcome. We’ll have extra decks available on hand to borrow for anyone wanting to try out the game!
URL:https://events.neighborhoodcomics.com/event/magic-the-gathering-mondays-2/2026-07-27/
LOCATION:GA
CATEGORIES:Community
ATTACH;FMTTYPE=image/jpeg:https://events.neighborhoodcomics.com/wp-content/uploads/2025/09/mtg.jpg
END:VEVENT
BEGIN:VEVENT
DTSTART;TZID=America/New_York:20260731T160000
DTEND;TZID=America/New_York:20260731T200000
DTSTAMP:20260419T204256
CREATED:20260320T004420Z
LAST-MODIFIED:20260320T004422Z
UID:10001794-1785513600-1785528000@events.neighborhoodcomics.com
SUMMARY:Friday Night Magic in Savannah
DESCRIPTION:FNM @ NBRHD! \n\n\n\nCome out for some Commander open play starting at 4PM. \n\n\n\n\nCommunity
URL:https://events.neighborhoodcomics.com/event/friday-night-magic-in-savannah/2026-07-31/
LOCATION:Neighborhood Comics\, 1205 Bull St.\, Savannah\, GA\, 31401\, United States
CATEGORIES:Community
ATTACH;FMTTYPE=image/jpeg:https://events.neighborhoodcomics.com/wp-content/uploads/2025/09/mtg.jpg
ORGANIZER;CN="Neighborhood Comics":MAILTO:team@neighborhoodcomics.com
END:VEVENT
END:VCALENDAR