BEGIN:VCALENDAR
VERSION:2.0
PRODID:-//Upcoming Events in Savannah, GA - ECPv6.15.20//NONSGML v1.0//EN
CALSCALE:GREGORIAN
METHOD:PUBLISH
X-ORIGINAL-URL:https://events.neighborhoodcomics.com
X-WR-CALDESC:Events for Upcoming Events in Savannah, GA
REFRESH-INTERVAL;VALUE=DURATION:PT1H
X-Robots-Tag:noindex
X-PUBLISHED-TTL:PT1H
BEGIN:VTIMEZONE
TZID:America/New_York
BEGIN:DAYLIGHT
TZOFFSETFROM:-0500
TZOFFSETTO:-0400
TZNAME:EDT
DTSTART:20240310T070000
END:DAYLIGHT
BEGIN:STANDARD
TZOFFSETFROM:-0400
TZOFFSETTO:-0500
TZNAME:EST
DTSTART:20241103T060000
END:STANDARD
BEGIN:DAYLIGHT
TZOFFSETFROM:-0500
TZOFFSETTO:-0400
TZNAME:EDT
DTSTART:20250309T070000
END:DAYLIGHT
BEGIN:STANDARD
TZOFFSETFROM:-0400
TZOFFSETTO:-0500
TZNAME:EST
DTSTART:20251102T060000
END:STANDARD
BEGIN:DAYLIGHT
TZOFFSETFROM:-0500
TZOFFSETTO:-0400
TZNAME:EDT
DTSTART:20260308T070000
END:DAYLIGHT
BEGIN:STANDARD
TZOFFSETFROM:-0400
TZOFFSETTO:-0500
TZNAME:EST
DTSTART:20261101T060000
END:STANDARD
END:VTIMEZONE
BEGIN:VEVENT
DTSTART;TZID=America/New_York:20250809T130000
DTEND;TZID=America/New_York:20250809T150000
DTSTAMP:20260421T193052
CREATED:20250702T210635Z
LAST-MODIFIED:20250702T210724Z
UID:10000820-1754744400-1754751600@events.neighborhoodcomics.com
SUMMARY:Keith Browning: Signing Blink and You'll Miss It
DESCRIPTION:We are thrilled to welcome Keith Browning for his first signing for Blink and You’ll Miss It (Boom Studios\, 2025).
URL:https://events.neighborhoodcomics.com/event/keith-browning-signing-blink-and-youll-miss-it/
LOCATION:Neighborhood Comics\, 1205 Bull St.\, Savannah\, GA\, 31401\, United States
CATEGORIES:Signings
ATTACH;FMTTYPE=image/jpeg:https://events.neighborhoodcomics.com/wp-content/uploads/2025/07/Blinkmiss_001_Cover_A_Main_Promo-copy.jpg
ORGANIZER;CN="Neighborhood Comics":MAILTO:team@neighborhoodcomics.com
END:VEVENT
BEGIN:VEVENT
DTSTART;TZID=America/New_York:20250811T183000
DTEND;TZID=America/New_York:20250811T203000
DTSTAMP:20260421T193052
CREATED:20250407T165426Z
LAST-MODIFIED:20250512T163236Z
UID:10000682-1754937000-1754944200@events.neighborhoodcomics.com
SUMMARY:Will Eisner: A Comics Biography Signing with Dan Mazur
DESCRIPTION:Meet the artist and co-author of the book\, Dan Mazur. \nBook Synopsis: \nExplore the life of Will Eisner\, one of the most influential artists in the history of comics through the most appropriate medium: a graphic novel! From his immigrant roots and childhood in New York\, starting his own comics studio and business\, and the creation and publication of his beloved comic\, The Spirit\, through popularizing the term “graphic novel” as the result of trying to convince a general trade publisher to publish the groundbreaking A Contract with God\, you’ll follow along in Eisner’s life journey. \nWith the most prestigious comics awards named after him\, Will Eisner is forever celebrated not only in what he created but his unerring belief in comics’ capacity to be better\, to reach higher\, to be a full art form in its own right. This is the life of this man of vision who helped to put comics on the map.
URL:https://events.neighborhoodcomics.com/event/will-eisner-a-comics-biography-signing-with-dan-mazur/
LOCATION:Neighborhood Comics\, 1205 Bull St.\, Savannah\, GA\, 31401\, United States
CATEGORIES:Signings
ATTACH;FMTTYPE=image/webp:https://events.neighborhoodcomics.com/wp-content/uploads/2025/04/eisnergn.webp
ORGANIZER;CN="Neighborhood Comics":MAILTO:team@neighborhoodcomics.com
END:VEVENT
BEGIN:VEVENT
DTSTART;TZID=America/New_York:20250816T130000
DTEND;TZID=America/New_York:20250816T150000
DTSTAMP:20260421T193052
CREATED:20250716T223601Z
LAST-MODIFIED:20250716T223926Z
UID:10000825-1755349200-1755356400@events.neighborhoodcomics.com
SUMMARY:Wish I Was a Baller Signing with Rashad Doucet and Amar Shah
DESCRIPTION:The next big thing from Scholastic Graphix! Meet the artist and author of Wish I Was a Baller.
URL:https://events.neighborhoodcomics.com/event/wish-i-was-a-baller-signing-with-rashad-doucet-and-amar-shah/
LOCATION:Neighborhood Comics\, 1205 Bull St.\, Savannah\, GA\, 31401\, United States
CATEGORIES:Signings
ATTACH;FMTTYPE=image/jpeg:https://events.neighborhoodcomics.com/wp-content/uploads/2025/07/ball.jpg
ORGANIZER;CN="Neighborhood Comics":MAILTO:team@neighborhoodcomics.com
END:VEVENT
END:VCALENDAR