BEGIN:VCALENDAR
VERSION:2.0
PRODID:-//Upcoming Events in Savannah, GA - ECPv6.15.20//NONSGML v1.0//EN
CALSCALE:GREGORIAN
METHOD:PUBLISH
X-ORIGINAL-URL:https://events.neighborhoodcomics.com
X-WR-CALDESC:Events for Upcoming Events in Savannah, GA
REFRESH-INTERVAL;VALUE=DURATION:PT1H
X-Robots-Tag:noindex
X-PUBLISHED-TTL:PT1H
BEGIN:VTIMEZONE
TZID:America/New_York
BEGIN:DAYLIGHT
TZOFFSETFROM:-0500
TZOFFSETTO:-0400
TZNAME:EDT
DTSTART:20270314T070000
END:DAYLIGHT
BEGIN:STANDARD
TZOFFSETFROM:-0400
TZOFFSETTO:-0500
TZNAME:EST
DTSTART:20271107T060000
END:STANDARD
BEGIN:DAYLIGHT
TZOFFSETFROM:-0500
TZOFFSETTO:-0400
TZNAME:EDT
DTSTART:20280312T070000
END:DAYLIGHT
BEGIN:STANDARD
TZOFFSETFROM:-0400
TZOFFSETTO:-0500
TZNAME:EST
DTSTART:20281105T060000
END:STANDARD
BEGIN:DAYLIGHT
TZOFFSETFROM:-0500
TZOFFSETTO:-0400
TZNAME:EDT
DTSTART:20290311T070000
END:DAYLIGHT
BEGIN:STANDARD
TZOFFSETFROM:-0400
TZOFFSETTO:-0500
TZNAME:EST
DTSTART:20291104T060000
END:STANDARD
END:VTIMEZONE
BEGIN:VEVENT
DTSTART;TZID=America/New_York:20280119T110000
DTEND;TZID=America/New_York:20280119T190000
DTSTAMP:20260420T113132
CREATED:20260319T225003Z
LAST-MODIFIED:20260319T231636Z
UID:10002293-1831892400-1831921200@events.neighborhoodcomics.com
SUMMARY:New Comic Book Day!
DESCRIPTION:New comic books are released every Wednesday and we have a killer selection! Not finding the comics you want? Create a subscription and you’re guaranteed a copy of your favorite comic series\, manga or graphic novel.  \n\n\n\n\nStart a Subscription\n\n\n\nView the New This Week In-Stock List\n\n\n\nBook Clubs
URL:https://events.neighborhoodcomics.com/event/new-comic-book-day/2028-01-19/
LOCATION:GA
ATTACH;FMTTYPE=image/jpeg:https://events.neighborhoodcomics.com/wp-content/uploads/2026/03/IMG_0230.jpg
END:VEVENT
BEGIN:VEVENT
DTSTART;TZID=America/New_York:20280119T180000
DTEND;TZID=America/New_York:20280119T210000
DTSTAMP:20260420T113132
CREATED:20230817T154036Z
LAST-MODIFIED:20230817T154622Z
UID:10000296-1831917600-1831928400@events.neighborhoodcomics.com
SUMMARY:Neighborhood Drink N Draw
DESCRIPTION:Sequential artists and illustrators meet-up 2x/month \n \n1st\, 3rd & 5th Wednesdays of the month – 6PM-9PM at White Whale Craft Ales. \nAll art supplies at Neighborhood Comics are 10% off from 6-7! \nHosted by Jamie Jones. \nMeet and network with local sequential artists and illustrators while you sketch and imbibe with your new best friends.
URL:https://events.neighborhoodcomics.com/event/neighborhood-drink-n-draw-3/2028-01-19/
LOCATION:White Whale Craft Ales\, 1207 Bull St\, Savannah\, GA\, 31401\, United States
CATEGORIES:Artists
ATTACH;FMTTYPE=image/png:https://events.neighborhoodcomics.com/wp-content/uploads/2023/08/drinkdraw.png
END:VEVENT
BEGIN:VEVENT
DTSTART;TZID=America/New_York:20280121T160000
DTEND;TZID=America/New_York:20280121T200000
DTSTAMP:20260420T113132
CREATED:20260320T004420Z
LAST-MODIFIED:20260320T004422Z
UID:10001871-1832083200-1832097600@events.neighborhoodcomics.com
SUMMARY:Friday Night Magic in Savannah
DESCRIPTION:FNM @ NBRHD! \n\n\n\nCome out for some Commander open play starting at 4PM. \n\n\n\n\nBook Clubs
URL:https://events.neighborhoodcomics.com/event/friday-night-magic-in-savannah/2028-01-21/
LOCATION:Neighborhood Comics\, 1205 Bull St.\, Savannah\, GA\, 31401\, United States
CATEGORIES:Community
ATTACH;FMTTYPE=image/jpeg:https://events.neighborhoodcomics.com/wp-content/uploads/2025/09/mtg.jpg
ORGANIZER;CN="Neighborhood Comics":MAILTO:team@neighborhoodcomics.com
END:VEVENT
BEGIN:VEVENT
DTSTART;TZID=America/New_York:20280124T160000
DTEND;TZID=America/New_York:20280124T200000
DTSTAMP:20260420T113132
CREATED:20260319T225714Z
LAST-MODIFIED:20260320T145716Z
UID:10001606-1832342400-1832356800@events.neighborhoodcomics.com
SUMMARY:Magic the Gathering Mondays
DESCRIPTION:Join us Mondays from 4-8PM for Magic Mondays! New players are welcome. We’ll have extra decks available on hand to borrow for anyone wanting to try out the game!
URL:https://events.neighborhoodcomics.com/event/magic-the-gathering-mondays-2/2028-01-24/
LOCATION:GA
CATEGORIES:Community
ATTACH;FMTTYPE=image/jpeg:https://events.neighborhoodcomics.com/wp-content/uploads/2025/09/mtg.jpg
END:VEVENT
BEGIN:VEVENT
DTSTART;TZID=America/New_York:20280125T000000
DTEND;TZID=America/New_York:20280125T235959
DTSTAMP:20260420T113132
CREATED:20250826T155718Z
LAST-MODIFIED:20260320T004738Z
UID:10001024-1832371200-1832457599@events.neighborhoodcomics.com
SUMMARY:2-for-1 Back Issues
DESCRIPTION:Every Tuesday\, all green ($3)\, yellow ($2) and blue ($1) label back issues are 2-for-1! \n\n\nBook Clubs
URL:https://events.neighborhoodcomics.com/event/2-for-1-back-issues/2028-01-25/
LOCATION:Neighborhood Comics\, 1205 Bull St.\, Savannah\, GA\, 31401\, United States
ATTACH;FMTTYPE=image/jpeg:https://events.neighborhoodcomics.com/wp-content/uploads/2025/08/backissues.jpg
ORGANIZER;CN="Neighborhood Comics":MAILTO:team@neighborhoodcomics.com
END:VEVENT
BEGIN:VEVENT
DTSTART;TZID=America/New_York:20280126T110000
DTEND;TZID=America/New_York:20280126T190000
DTSTAMP:20260420T113132
CREATED:20260319T225003Z
LAST-MODIFIED:20260319T231636Z
UID:10002294-1832497200-1832526000@events.neighborhoodcomics.com
SUMMARY:New Comic Book Day!
DESCRIPTION:New comic books are released every Wednesday and we have a killer selection! Not finding the comics you want? Create a subscription and you’re guaranteed a copy of your favorite comic series\, manga or graphic novel.  \n\n\n\n\nStart a Subscription\n\n\n\nView the New This Week In-Stock List\n\n\n\nBook Clubs
URL:https://events.neighborhoodcomics.com/event/new-comic-book-day/2028-01-26/
LOCATION:GA
ATTACH;FMTTYPE=image/jpeg:https://events.neighborhoodcomics.com/wp-content/uploads/2026/03/IMG_0230.jpg
END:VEVENT
BEGIN:VEVENT
DTSTART;TZID=America/New_York:20280128T160000
DTEND;TZID=America/New_York:20280128T200000
DTSTAMP:20260420T113132
CREATED:20260320T004420Z
LAST-MODIFIED:20260320T004422Z
UID:10001872-1832688000-1832702400@events.neighborhoodcomics.com
SUMMARY:Friday Night Magic in Savannah
DESCRIPTION:FNM @ NBRHD! \n\n\n\nCome out for some Commander open play starting at 4PM. \n\n\n\n\nBook Clubs
URL:https://events.neighborhoodcomics.com/event/friday-night-magic-in-savannah/2028-01-28/
LOCATION:Neighborhood Comics\, 1205 Bull St.\, Savannah\, GA\, 31401\, United States
CATEGORIES:Community
ATTACH;FMTTYPE=image/jpeg:https://events.neighborhoodcomics.com/wp-content/uploads/2025/09/mtg.jpg
ORGANIZER;CN="Neighborhood Comics":MAILTO:team@neighborhoodcomics.com
END:VEVENT
BEGIN:VEVENT
DTSTART;TZID=America/New_York:20280130T110000
DTEND;TZID=America/New_York:20280130T130000
DTSTAMP:20260420T113132
CREATED:20260402T184539Z
LAST-MODIFIED:20260402T185049Z
UID:10002625-1832842800-1832850000@events.neighborhoodcomics.com
SUMMARY:Savage Zine Club
DESCRIPTION:If you are interested in meeting other zine creators\, showing off your collection\, or just learning about the medium\, come hang out! Last Sunday of every month.
URL:https://events.neighborhoodcomics.com/event/savage-zine-club/2028-01-30/
LOCATION:Neighborhood Comics\, 1205 Bull St.\, Savannah\, GA\, 31401\, United States
CATEGORIES:Book Clubs
ATTACH;FMTTYPE=image/jpeg:https://events.neighborhoodcomics.com/wp-content/uploads/2026/04/savzine.jpg
ORGANIZER;CN="SAVAGE FST":MAILTO:info@savagefst.com
END:VEVENT
BEGIN:VEVENT
DTSTART;TZID=America/New_York:20280131T160000
DTEND;TZID=America/New_York:20280131T200000
DTSTAMP:20260420T113132
CREATED:20260319T225714Z
LAST-MODIFIED:20260320T145716Z
UID:10001607-1832947200-1832961600@events.neighborhoodcomics.com
SUMMARY:Magic the Gathering Mondays
DESCRIPTION:Join us Mondays from 4-8PM for Magic Mondays! New players are welcome. We’ll have extra decks available on hand to borrow for anyone wanting to try out the game!
URL:https://events.neighborhoodcomics.com/event/magic-the-gathering-mondays-2/2028-01-31/
LOCATION:GA
CATEGORIES:Community
ATTACH;FMTTYPE=image/jpeg:https://events.neighborhoodcomics.com/wp-content/uploads/2025/09/mtg.jpg
END:VEVENT
BEGIN:VEVENT
DTSTART;TZID=America/New_York:20280201T000000
DTEND;TZID=America/New_York:20280201T235959
DTSTAMP:20260420T113132
CREATED:20250826T155718Z
LAST-MODIFIED:20260320T004738Z
UID:10001025-1832976000-1833062399@events.neighborhoodcomics.com
SUMMARY:2-for-1 Back Issues
DESCRIPTION:Every Tuesday\, all green ($3)\, yellow ($2) and blue ($1) label back issues are 2-for-1! \n\n\nBook Clubs
URL:https://events.neighborhoodcomics.com/event/2-for-1-back-issues/2028-02-01/
LOCATION:Neighborhood Comics\, 1205 Bull St.\, Savannah\, GA\, 31401\, United States
ATTACH;FMTTYPE=image/jpeg:https://events.neighborhoodcomics.com/wp-content/uploads/2025/08/backissues.jpg
ORGANIZER;CN="Neighborhood Comics":MAILTO:team@neighborhoodcomics.com
END:VEVENT
BEGIN:VEVENT
DTSTART;TZID=America/New_York:20280202T110000
DTEND;TZID=America/New_York:20280202T190000
DTSTAMP:20260420T113132
CREATED:20260319T225003Z
LAST-MODIFIED:20260319T231636Z
UID:10002295-1833102000-1833130800@events.neighborhoodcomics.com
SUMMARY:New Comic Book Day!
DESCRIPTION:New comic books are released every Wednesday and we have a killer selection! Not finding the comics you want? Create a subscription and you’re guaranteed a copy of your favorite comic series\, manga or graphic novel.  \n\n\n\n\nStart a Subscription\n\n\n\nView the New This Week In-Stock List\n\n\n\nBook Clubs
URL:https://events.neighborhoodcomics.com/event/new-comic-book-day/2028-02-02/
LOCATION:GA
ATTACH;FMTTYPE=image/jpeg:https://events.neighborhoodcomics.com/wp-content/uploads/2026/03/IMG_0230.jpg
END:VEVENT
BEGIN:VEVENT
DTSTART;TZID=America/New_York:20280202T180000
DTEND;TZID=America/New_York:20280202T210000
DTSTAMP:20260420T113132
CREATED:20230817T153919Z
LAST-MODIFIED:20230817T154622Z
UID:10000216-1833127200-1833138000@events.neighborhoodcomics.com
SUMMARY:Neighborhood Drink N Draw
DESCRIPTION:Sequential artists and illustrators meet-up 2x/month \n \n1st\, 3rd & 5th Wednesdays of the month – 6PM-9PM at White Whale Craft Ales. \nAll art supplies at Neighborhood Comics are 10% off from 6-7! \nHosted by Jamie Jones. \nMeet and network with local sequential artists and illustrators while you sketch and imbibe with your new best friends.
URL:https://events.neighborhoodcomics.com/event/neighborhood-drink-n-draw-2/2028-02-02/
LOCATION:White Whale Craft Ales\, 1207 Bull St\, Savannah\, GA\, 31401\, United States
CATEGORIES:Artists
ATTACH;FMTTYPE=image/png:https://events.neighborhoodcomics.com/wp-content/uploads/2023/08/drinkdraw.png
END:VEVENT
BEGIN:VEVENT
DTSTART;TZID=America/New_York:20280204T160000
DTEND;TZID=America/New_York:20280204T200000
DTSTAMP:20260420T113132
CREATED:20260320T004420Z
LAST-MODIFIED:20260320T004422Z
UID:10001873-1833292800-1833307200@events.neighborhoodcomics.com
SUMMARY:Friday Night Magic in Savannah
DESCRIPTION:FNM @ NBRHD! \n\n\n\nCome out for some Commander open play starting at 4PM. \n\n\n\n\nBook Clubs
URL:https://events.neighborhoodcomics.com/event/friday-night-magic-in-savannah/2028-02-04/
LOCATION:Neighborhood Comics\, 1205 Bull St.\, Savannah\, GA\, 31401\, United States
CATEGORIES:Community
ATTACH;FMTTYPE=image/jpeg:https://events.neighborhoodcomics.com/wp-content/uploads/2025/09/mtg.jpg
ORGANIZER;CN="Neighborhood Comics":MAILTO:team@neighborhoodcomics.com
END:VEVENT
BEGIN:VEVENT
DTSTART;TZID=America/New_York:20280207T160000
DTEND;TZID=America/New_York:20280207T200000
DTSTAMP:20260420T113132
CREATED:20260319T225714Z
LAST-MODIFIED:20260320T145716Z
UID:10001608-1833552000-1833566400@events.neighborhoodcomics.com
SUMMARY:Magic the Gathering Mondays
DESCRIPTION:Join us Mondays from 4-8PM for Magic Mondays! New players are welcome. We’ll have extra decks available on hand to borrow for anyone wanting to try out the game!
URL:https://events.neighborhoodcomics.com/event/magic-the-gathering-mondays-2/2028-02-07/
LOCATION:GA
CATEGORIES:Community
ATTACH;FMTTYPE=image/jpeg:https://events.neighborhoodcomics.com/wp-content/uploads/2025/09/mtg.jpg
END:VEVENT
BEGIN:VEVENT
DTSTART;TZID=America/New_York:20280208T000000
DTEND;TZID=America/New_York:20280208T235959
DTSTAMP:20260420T113132
CREATED:20250826T155718Z
LAST-MODIFIED:20260320T004738Z
UID:10001026-1833580800-1833667199@events.neighborhoodcomics.com
SUMMARY:2-for-1 Back Issues
DESCRIPTION:Every Tuesday\, all green ($3)\, yellow ($2) and blue ($1) label back issues are 2-for-1! \n\n\nBook Clubs
URL:https://events.neighborhoodcomics.com/event/2-for-1-back-issues/2028-02-08/
LOCATION:Neighborhood Comics\, 1205 Bull St.\, Savannah\, GA\, 31401\, United States
ATTACH;FMTTYPE=image/jpeg:https://events.neighborhoodcomics.com/wp-content/uploads/2025/08/backissues.jpg
ORGANIZER;CN="Neighborhood Comics":MAILTO:team@neighborhoodcomics.com
END:VEVENT
BEGIN:VEVENT
DTSTART;TZID=America/New_York:20280209T110000
DTEND;TZID=America/New_York:20280209T190000
DTSTAMP:20260420T113132
CREATED:20260319T225003Z
LAST-MODIFIED:20260319T231636Z
UID:10002296-1833706800-1833735600@events.neighborhoodcomics.com
SUMMARY:New Comic Book Day!
DESCRIPTION:New comic books are released every Wednesday and we have a killer selection! Not finding the comics you want? Create a subscription and you’re guaranteed a copy of your favorite comic series\, manga or graphic novel.  \n\n\n\n\nStart a Subscription\n\n\n\nView the New This Week In-Stock List\n\n\n\nBook Clubs
URL:https://events.neighborhoodcomics.com/event/new-comic-book-day/2028-02-09/
LOCATION:GA
ATTACH;FMTTYPE=image/jpeg:https://events.neighborhoodcomics.com/wp-content/uploads/2026/03/IMG_0230.jpg
END:VEVENT
BEGIN:VEVENT
DTSTART;TZID=America/New_York:20280211T160000
DTEND;TZID=America/New_York:20280211T200000
DTSTAMP:20260420T113132
CREATED:20260320T004420Z
LAST-MODIFIED:20260320T004422Z
UID:10001874-1833897600-1833912000@events.neighborhoodcomics.com
SUMMARY:Friday Night Magic in Savannah
DESCRIPTION:FNM @ NBRHD! \n\n\n\nCome out for some Commander open play starting at 4PM. \n\n\n\n\nBook Clubs
URL:https://events.neighborhoodcomics.com/event/friday-night-magic-in-savannah/2028-02-11/
LOCATION:Neighborhood Comics\, 1205 Bull St.\, Savannah\, GA\, 31401\, United States
CATEGORIES:Community
ATTACH;FMTTYPE=image/jpeg:https://events.neighborhoodcomics.com/wp-content/uploads/2025/09/mtg.jpg
ORGANIZER;CN="Neighborhood Comics":MAILTO:team@neighborhoodcomics.com
END:VEVENT
BEGIN:VEVENT
DTSTART;TZID=America/New_York:20280213T170000
DTEND;TZID=America/New_York:20280213T190000
DTSTAMP:20260420T113132
CREATED:20260319T211129Z
LAST-MODIFIED:20260320T003528Z
UID:10002086-1834074000-1834081200@events.neighborhoodcomics.com
SUMMARY:Comics with Kate
DESCRIPTION:Second Sunday of every month from 5-7PM. Hosted by comic artist Kate Sherron. \n\n\n\nCheck the Discord channel for the current book and any schedule changes. \n\n\nBook Clubs
URL:https://events.neighborhoodcomics.com/event/comics-with-kate-5/2028-02-13/
LOCATION:Neighborhood Comics\, 1205 Bull St.\, Savannah\, GA\, 31401\, United States
CATEGORIES:Book Clubs
ATTACH;FMTTYPE=image/jpeg:https://events.neighborhoodcomics.com/wp-content/uploads/2024/02/katevent.jpg
ORGANIZER;CN="Neighborhood Comics":MAILTO:team@neighborhoodcomics.com
END:VEVENT
BEGIN:VEVENT
DTSTART;TZID=America/New_York:20280214T160000
DTEND;TZID=America/New_York:20280214T200000
DTSTAMP:20260420T113132
CREATED:20260319T225714Z
LAST-MODIFIED:20260320T145716Z
UID:10001609-1834156800-1834171200@events.neighborhoodcomics.com
SUMMARY:Magic the Gathering Mondays
DESCRIPTION:Join us Mondays from 4-8PM for Magic Mondays! New players are welcome. We’ll have extra decks available on hand to borrow for anyone wanting to try out the game!
URL:https://events.neighborhoodcomics.com/event/magic-the-gathering-mondays-2/2028-02-14/
LOCATION:GA
CATEGORIES:Community
ATTACH;FMTTYPE=image/jpeg:https://events.neighborhoodcomics.com/wp-content/uploads/2025/09/mtg.jpg
END:VEVENT
BEGIN:VEVENT
DTSTART;TZID=America/New_York:20280215T000000
DTEND;TZID=America/New_York:20280215T235959
DTSTAMP:20260420T113132
CREATED:20250826T155718Z
LAST-MODIFIED:20260320T004738Z
UID:10001027-1834185600-1834271999@events.neighborhoodcomics.com
SUMMARY:2-for-1 Back Issues
DESCRIPTION:Every Tuesday\, all green ($3)\, yellow ($2) and blue ($1) label back issues are 2-for-1! \n\n\nBook Clubs
URL:https://events.neighborhoodcomics.com/event/2-for-1-back-issues/2028-02-15/
LOCATION:Neighborhood Comics\, 1205 Bull St.\, Savannah\, GA\, 31401\, United States
ATTACH;FMTTYPE=image/jpeg:https://events.neighborhoodcomics.com/wp-content/uploads/2025/08/backissues.jpg
ORGANIZER;CN="Neighborhood Comics":MAILTO:team@neighborhoodcomics.com
END:VEVENT
BEGIN:VEVENT
DTSTART;TZID=America/New_York:20280216T110000
DTEND;TZID=America/New_York:20280216T190000
DTSTAMP:20260420T113132
CREATED:20260319T225003Z
LAST-MODIFIED:20260319T231636Z
UID:10002297-1834311600-1834340400@events.neighborhoodcomics.com
SUMMARY:New Comic Book Day!
DESCRIPTION:New comic books are released every Wednesday and we have a killer selection! Not finding the comics you want? Create a subscription and you’re guaranteed a copy of your favorite comic series\, manga or graphic novel.  \n\n\n\n\nStart a Subscription\n\n\n\nView the New This Week In-Stock List\n\n\n\nBook Clubs
URL:https://events.neighborhoodcomics.com/event/new-comic-book-day/2028-02-16/
LOCATION:GA
ATTACH;FMTTYPE=image/jpeg:https://events.neighborhoodcomics.com/wp-content/uploads/2026/03/IMG_0230.jpg
END:VEVENT
BEGIN:VEVENT
DTSTART;TZID=America/New_York:20280216T180000
DTEND;TZID=America/New_York:20280216T210000
DTSTAMP:20260420T113132
CREATED:20230817T154036Z
LAST-MODIFIED:20230817T154622Z
UID:10000297-1834336800-1834347600@events.neighborhoodcomics.com
SUMMARY:Neighborhood Drink N Draw
DESCRIPTION:Sequential artists and illustrators meet-up 2x/month \n \n1st\, 3rd & 5th Wednesdays of the month – 6PM-9PM at White Whale Craft Ales. \nAll art supplies at Neighborhood Comics are 10% off from 6-7! \nHosted by Jamie Jones. \nMeet and network with local sequential artists and illustrators while you sketch and imbibe with your new best friends.
URL:https://events.neighborhoodcomics.com/event/neighborhood-drink-n-draw-3/2028-02-16/
LOCATION:White Whale Craft Ales\, 1207 Bull St\, Savannah\, GA\, 31401\, United States
CATEGORIES:Artists
ATTACH;FMTTYPE=image/png:https://events.neighborhoodcomics.com/wp-content/uploads/2023/08/drinkdraw.png
END:VEVENT
BEGIN:VEVENT
DTSTART;TZID=America/New_York:20280218T160000
DTEND;TZID=America/New_York:20280218T200000
DTSTAMP:20260420T113132
CREATED:20260320T004420Z
LAST-MODIFIED:20260320T004422Z
UID:10001875-1834502400-1834516800@events.neighborhoodcomics.com
SUMMARY:Friday Night Magic in Savannah
DESCRIPTION:FNM @ NBRHD! \n\n\n\nCome out for some Commander open play starting at 4PM. \n\n\n\n\nBook Clubs
URL:https://events.neighborhoodcomics.com/event/friday-night-magic-in-savannah/2028-02-18/
LOCATION:Neighborhood Comics\, 1205 Bull St.\, Savannah\, GA\, 31401\, United States
CATEGORIES:Community
ATTACH;FMTTYPE=image/jpeg:https://events.neighborhoodcomics.com/wp-content/uploads/2025/09/mtg.jpg
ORGANIZER;CN="Neighborhood Comics":MAILTO:team@neighborhoodcomics.com
END:VEVENT
BEGIN:VEVENT
DTSTART;TZID=America/New_York:20280221T160000
DTEND;TZID=America/New_York:20280221T200000
DTSTAMP:20260420T113132
CREATED:20260319T225714Z
LAST-MODIFIED:20260320T145716Z
UID:10001610-1834761600-1834776000@events.neighborhoodcomics.com
SUMMARY:Magic the Gathering Mondays
DESCRIPTION:Join us Mondays from 4-8PM for Magic Mondays! New players are welcome. We’ll have extra decks available on hand to borrow for anyone wanting to try out the game!
URL:https://events.neighborhoodcomics.com/event/magic-the-gathering-mondays-2/2028-02-21/
LOCATION:GA
CATEGORIES:Community
ATTACH;FMTTYPE=image/jpeg:https://events.neighborhoodcomics.com/wp-content/uploads/2025/09/mtg.jpg
END:VEVENT
BEGIN:VEVENT
DTSTART;TZID=America/New_York:20280222T000000
DTEND;TZID=America/New_York:20280222T235959
DTSTAMP:20260420T113132
CREATED:20250826T155718Z
LAST-MODIFIED:20260320T004738Z
UID:10001028-1834790400-1834876799@events.neighborhoodcomics.com
SUMMARY:2-for-1 Back Issues
DESCRIPTION:Every Tuesday\, all green ($3)\, yellow ($2) and blue ($1) label back issues are 2-for-1! \n\n\nBook Clubs
URL:https://events.neighborhoodcomics.com/event/2-for-1-back-issues/2028-02-22/
LOCATION:Neighborhood Comics\, 1205 Bull St.\, Savannah\, GA\, 31401\, United States
ATTACH;FMTTYPE=image/jpeg:https://events.neighborhoodcomics.com/wp-content/uploads/2025/08/backissues.jpg
ORGANIZER;CN="Neighborhood Comics":MAILTO:team@neighborhoodcomics.com
END:VEVENT
BEGIN:VEVENT
DTSTART;TZID=America/New_York:20280223T110000
DTEND;TZID=America/New_York:20280223T190000
DTSTAMP:20260420T113132
CREATED:20260319T225003Z
LAST-MODIFIED:20260319T231636Z
UID:10002298-1834916400-1834945200@events.neighborhoodcomics.com
SUMMARY:New Comic Book Day!
DESCRIPTION:New comic books are released every Wednesday and we have a killer selection! Not finding the comics you want? Create a subscription and you’re guaranteed a copy of your favorite comic series\, manga or graphic novel.  \n\n\n\n\nStart a Subscription\n\n\n\nView the New This Week In-Stock List\n\n\n\nBook Clubs
URL:https://events.neighborhoodcomics.com/event/new-comic-book-day/2028-02-23/
LOCATION:GA
ATTACH;FMTTYPE=image/jpeg:https://events.neighborhoodcomics.com/wp-content/uploads/2026/03/IMG_0230.jpg
END:VEVENT
BEGIN:VEVENT
DTSTART;TZID=America/New_York:20280225T160000
DTEND;TZID=America/New_York:20280225T200000
DTSTAMP:20260420T113132
CREATED:20260320T004420Z
LAST-MODIFIED:20260320T004422Z
UID:10001876-1835107200-1835121600@events.neighborhoodcomics.com
SUMMARY:Friday Night Magic in Savannah
DESCRIPTION:FNM @ NBRHD! \n\n\n\nCome out for some Commander open play starting at 4PM. \n\n\n\n\nBook Clubs
URL:https://events.neighborhoodcomics.com/event/friday-night-magic-in-savannah/2028-02-25/
LOCATION:Neighborhood Comics\, 1205 Bull St.\, Savannah\, GA\, 31401\, United States
CATEGORIES:Community
ATTACH;FMTTYPE=image/jpeg:https://events.neighborhoodcomics.com/wp-content/uploads/2025/09/mtg.jpg
ORGANIZER;CN="Neighborhood Comics":MAILTO:team@neighborhoodcomics.com
END:VEVENT
BEGIN:VEVENT
DTSTART;TZID=America/New_York:20280227T110000
DTEND;TZID=America/New_York:20280227T130000
DTSTAMP:20260420T113132
CREATED:20260402T184539Z
LAST-MODIFIED:20260402T185049Z
UID:10002626-1835262000-1835269200@events.neighborhoodcomics.com
SUMMARY:Savage Zine Club
DESCRIPTION:If you are interested in meeting other zine creators\, showing off your collection\, or just learning about the medium\, come hang out! Last Sunday of every month.
URL:https://events.neighborhoodcomics.com/event/savage-zine-club/2028-02-27/
LOCATION:Neighborhood Comics\, 1205 Bull St.\, Savannah\, GA\, 31401\, United States
CATEGORIES:Book Clubs
ATTACH;FMTTYPE=image/jpeg:https://events.neighborhoodcomics.com/wp-content/uploads/2026/04/savzine.jpg
ORGANIZER;CN="SAVAGE FST":MAILTO:info@savagefst.com
END:VEVENT
BEGIN:VEVENT
DTSTART;TZID=America/New_York:20280228T160000
DTEND;TZID=America/New_York:20280228T200000
DTSTAMP:20260420T113132
CREATED:20260319T225714Z
LAST-MODIFIED:20260320T145716Z
UID:10001611-1835366400-1835380800@events.neighborhoodcomics.com
SUMMARY:Magic the Gathering Mondays
DESCRIPTION:Join us Mondays from 4-8PM for Magic Mondays! New players are welcome. We’ll have extra decks available on hand to borrow for anyone wanting to try out the game!
URL:https://events.neighborhoodcomics.com/event/magic-the-gathering-mondays-2/2028-02-28/
LOCATION:GA
CATEGORIES:Community
ATTACH;FMTTYPE=image/jpeg:https://events.neighborhoodcomics.com/wp-content/uploads/2025/09/mtg.jpg
END:VEVENT
BEGIN:VEVENT
DTSTART;TZID=America/New_York:20280229T000000
DTEND;TZID=America/New_York:20280229T235959
DTSTAMP:20260420T113132
CREATED:20250826T155718Z
LAST-MODIFIED:20260320T004738Z
UID:10001029-1835395200-1835481599@events.neighborhoodcomics.com
SUMMARY:2-for-1 Back Issues
DESCRIPTION:Every Tuesday\, all green ($3)\, yellow ($2) and blue ($1) label back issues are 2-for-1! \n\n\nBook Clubs
URL:https://events.neighborhoodcomics.com/event/2-for-1-back-issues/2028-02-29/
LOCATION:Neighborhood Comics\, 1205 Bull St.\, Savannah\, GA\, 31401\, United States
ATTACH;FMTTYPE=image/jpeg:https://events.neighborhoodcomics.com/wp-content/uploads/2025/08/backissues.jpg
ORGANIZER;CN="Neighborhood Comics":MAILTO:team@neighborhoodcomics.com
END:VEVENT
END:VCALENDAR