BEGIN:VCALENDAR
VERSION:2.0
PRODID:-//Upcoming Events in Savannah, GA - ECPv6.15.20//NONSGML v1.0//EN
CALSCALE:GREGORIAN
METHOD:PUBLISH
X-ORIGINAL-URL:https://events.neighborhoodcomics.com
X-WR-CALDESC:Events for Upcoming Events in Savannah, GA
REFRESH-INTERVAL;VALUE=DURATION:PT1H
X-Robots-Tag:noindex
X-PUBLISHED-TTL:PT1H
BEGIN:VTIMEZONE
TZID:America/New_York
BEGIN:DAYLIGHT
TZOFFSETFROM:-0500
TZOFFSETTO:-0400
TZNAME:EDT
DTSTART:20270314T070000
END:DAYLIGHT
BEGIN:STANDARD
TZOFFSETFROM:-0400
TZOFFSETTO:-0500
TZNAME:EST
DTSTART:20271107T060000
END:STANDARD
BEGIN:DAYLIGHT
TZOFFSETFROM:-0500
TZOFFSETTO:-0400
TZNAME:EDT
DTSTART:20280312T070000
END:DAYLIGHT
BEGIN:STANDARD
TZOFFSETFROM:-0400
TZOFFSETTO:-0500
TZNAME:EST
DTSTART:20281105T060000
END:STANDARD
BEGIN:DAYLIGHT
TZOFFSETFROM:-0500
TZOFFSETTO:-0400
TZNAME:EDT
DTSTART:20290311T070000
END:DAYLIGHT
BEGIN:STANDARD
TZOFFSETFROM:-0400
TZOFFSETTO:-0500
TZNAME:EST
DTSTART:20291104T060000
END:STANDARD
END:VTIMEZONE
BEGIN:VEVENT
DTSTART;TZID=America/New_York:20280721T160000
DTEND;TZID=America/New_York:20280721T200000
DTSTAMP:20260420T182045
CREATED:20260320T004420Z
LAST-MODIFIED:20260320T004422Z
UID:10001897-1847808000-1847822400@events.neighborhoodcomics.com
SUMMARY:Friday Night Magic in Savannah
DESCRIPTION:FNM @ NBRHD! \n\n\n\nCome out for some Commander open play starting at 4PM. \n\n\n\n\nBook Clubs
URL:https://events.neighborhoodcomics.com/event/friday-night-magic-in-savannah/2028-07-21/
LOCATION:Neighborhood Comics\, 1205 Bull St.\, Savannah\, GA\, 31401\, United States
CATEGORIES:Community
ATTACH;FMTTYPE=image/jpeg:https://events.neighborhoodcomics.com/wp-content/uploads/2025/09/mtg.jpg
ORGANIZER;CN="Neighborhood Comics":MAILTO:team@neighborhoodcomics.com
END:VEVENT
BEGIN:VEVENT
DTSTART;TZID=America/New_York:20280724T160000
DTEND;TZID=America/New_York:20280724T200000
DTSTAMP:20260420T182045
CREATED:20260319T225714Z
LAST-MODIFIED:20260320T145716Z
UID:10001632-1848067200-1848081600@events.neighborhoodcomics.com
SUMMARY:Magic the Gathering Mondays
DESCRIPTION:Join us Mondays from 4-8PM for Magic Mondays! New players are welcome. We’ll have extra decks available on hand to borrow for anyone wanting to try out the game!
URL:https://events.neighborhoodcomics.com/event/magic-the-gathering-mondays-2/2028-07-24/
LOCATION:GA
CATEGORIES:Community
ATTACH;FMTTYPE=image/jpeg:https://events.neighborhoodcomics.com/wp-content/uploads/2025/09/mtg.jpg
END:VEVENT
BEGIN:VEVENT
DTSTART;TZID=America/New_York:20280725T000000
DTEND;TZID=America/New_York:20280725T235959
DTSTAMP:20260420T182045
CREATED:20250826T155718Z
LAST-MODIFIED:20260320T004738Z
UID:10001050-1848096000-1848182399@events.neighborhoodcomics.com
SUMMARY:2-for-1 Back Issues
DESCRIPTION:Every Tuesday\, all green ($3)\, yellow ($2) and blue ($1) label back issues are 2-for-1! \n\n\nBook Clubs
URL:https://events.neighborhoodcomics.com/event/2-for-1-back-issues/2028-07-25/
LOCATION:Neighborhood Comics\, 1205 Bull St.\, Savannah\, GA\, 31401\, United States
ATTACH;FMTTYPE=image/jpeg:https://events.neighborhoodcomics.com/wp-content/uploads/2025/08/backissues.jpg
ORGANIZER;CN="Neighborhood Comics":MAILTO:team@neighborhoodcomics.com
END:VEVENT
BEGIN:VEVENT
DTSTART;TZID=America/New_York:20280726T110000
DTEND;TZID=America/New_York:20280726T190000
DTSTAMP:20260420T182045
CREATED:20260319T225003Z
LAST-MODIFIED:20260319T231636Z
UID:10002320-1848222000-1848250800@events.neighborhoodcomics.com
SUMMARY:New Comic Book Day!
DESCRIPTION:New comic books are released every Wednesday and we have a killer selection! Not finding the comics you want? Create a subscription and you’re guaranteed a copy of your favorite comic series\, manga or graphic novel.  \n\n\n\n\nStart a Subscription\n\n\n\nView the New This Week In-Stock List\n\n\n\nBook Clubs
URL:https://events.neighborhoodcomics.com/event/new-comic-book-day/2028-07-26/
LOCATION:GA
ATTACH;FMTTYPE=image/jpeg:https://events.neighborhoodcomics.com/wp-content/uploads/2026/03/IMG_0230.jpg
END:VEVENT
BEGIN:VEVENT
DTSTART;TZID=America/New_York:20280728T160000
DTEND;TZID=America/New_York:20280728T200000
DTSTAMP:20260420T182045
CREATED:20260320T004420Z
LAST-MODIFIED:20260320T004422Z
UID:10001898-1848412800-1848427200@events.neighborhoodcomics.com
SUMMARY:Friday Night Magic in Savannah
DESCRIPTION:FNM @ NBRHD! \n\n\n\nCome out for some Commander open play starting at 4PM. \n\n\n\n\nBook Clubs
URL:https://events.neighborhoodcomics.com/event/friday-night-magic-in-savannah/2028-07-28/
LOCATION:Neighborhood Comics\, 1205 Bull St.\, Savannah\, GA\, 31401\, United States
CATEGORIES:Community
ATTACH;FMTTYPE=image/jpeg:https://events.neighborhoodcomics.com/wp-content/uploads/2025/09/mtg.jpg
ORGANIZER;CN="Neighborhood Comics":MAILTO:team@neighborhoodcomics.com
END:VEVENT
BEGIN:VEVENT
DTSTART;TZID=America/New_York:20280730T110000
DTEND;TZID=America/New_York:20280730T130000
DTSTAMP:20260420T182045
CREATED:20260402T184539Z
LAST-MODIFIED:20260402T185049Z
UID:10002631-1848567600-1848574800@events.neighborhoodcomics.com
SUMMARY:Savage Zine Club
DESCRIPTION:If you are interested in meeting other zine creators\, showing off your collection\, or just learning about the medium\, come hang out! Last Sunday of every month.
URL:https://events.neighborhoodcomics.com/event/savage-zine-club/2028-07-30/
LOCATION:Neighborhood Comics\, 1205 Bull St.\, Savannah\, GA\, 31401\, United States
CATEGORIES:Book Clubs
ATTACH;FMTTYPE=image/jpeg:https://events.neighborhoodcomics.com/wp-content/uploads/2026/04/savzine.jpg
ORGANIZER;CN="SAVAGE FST":MAILTO:info@savagefst.com
END:VEVENT
BEGIN:VEVENT
DTSTART;TZID=America/New_York:20280731T160000
DTEND;TZID=America/New_York:20280731T200000
DTSTAMP:20260420T182045
CREATED:20260319T225714Z
LAST-MODIFIED:20260320T145716Z
UID:10001633-1848672000-1848686400@events.neighborhoodcomics.com
SUMMARY:Magic the Gathering Mondays
DESCRIPTION:Join us Mondays from 4-8PM for Magic Mondays! New players are welcome. We’ll have extra decks available on hand to borrow for anyone wanting to try out the game!
URL:https://events.neighborhoodcomics.com/event/magic-the-gathering-mondays-2/2028-07-31/
LOCATION:GA
CATEGORIES:Community
ATTACH;FMTTYPE=image/jpeg:https://events.neighborhoodcomics.com/wp-content/uploads/2025/09/mtg.jpg
END:VEVENT
BEGIN:VEVENT
DTSTART;TZID=America/New_York:20280801T000000
DTEND;TZID=America/New_York:20280801T235959
DTSTAMP:20260420T182045
CREATED:20250826T155718Z
LAST-MODIFIED:20260320T004738Z
UID:10001051-1848700800-1848787199@events.neighborhoodcomics.com
SUMMARY:2-for-1 Back Issues
DESCRIPTION:Every Tuesday\, all green ($3)\, yellow ($2) and blue ($1) label back issues are 2-for-1! \n\n\nBook Clubs
URL:https://events.neighborhoodcomics.com/event/2-for-1-back-issues/2028-08-01/
LOCATION:Neighborhood Comics\, 1205 Bull St.\, Savannah\, GA\, 31401\, United States
ATTACH;FMTTYPE=image/jpeg:https://events.neighborhoodcomics.com/wp-content/uploads/2025/08/backissues.jpg
ORGANIZER;CN="Neighborhood Comics":MAILTO:team@neighborhoodcomics.com
END:VEVENT
BEGIN:VEVENT
DTSTART;TZID=America/New_York:20280802T110000
DTEND;TZID=America/New_York:20280802T190000
DTSTAMP:20260420T182045
CREATED:20260319T225003Z
LAST-MODIFIED:20260319T231636Z
UID:10002321-1848826800-1848855600@events.neighborhoodcomics.com
SUMMARY:New Comic Book Day!
DESCRIPTION:New comic books are released every Wednesday and we have a killer selection! Not finding the comics you want? Create a subscription and you’re guaranteed a copy of your favorite comic series\, manga or graphic novel.  \n\n\n\n\nStart a Subscription\n\n\n\nView the New This Week In-Stock List\n\n\n\nBook Clubs
URL:https://events.neighborhoodcomics.com/event/new-comic-book-day/2028-08-02/
LOCATION:GA
ATTACH;FMTTYPE=image/jpeg:https://events.neighborhoodcomics.com/wp-content/uploads/2026/03/IMG_0230.jpg
END:VEVENT
BEGIN:VEVENT
DTSTART;TZID=America/New_York:20280802T180000
DTEND;TZID=America/New_York:20280802T210000
DTSTAMP:20260420T182045
CREATED:20230817T153919Z
LAST-MODIFIED:20230817T154622Z
UID:10000222-1848852000-1848862800@events.neighborhoodcomics.com
SUMMARY:Neighborhood Drink N Draw
DESCRIPTION:Sequential artists and illustrators meet-up 2x/month \n \n1st\, 3rd & 5th Wednesdays of the month – 6PM-9PM at White Whale Craft Ales. \nAll art supplies at Neighborhood Comics are 10% off from 6-7! \nHosted by Jamie Jones. \nMeet and network with local sequential artists and illustrators while you sketch and imbibe with your new best friends.
URL:https://events.neighborhoodcomics.com/event/neighborhood-drink-n-draw-2/2028-08-02/
LOCATION:White Whale Craft Ales\, 1207 Bull St\, Savannah\, GA\, 31401\, United States
CATEGORIES:Artists
ATTACH;FMTTYPE=image/png:https://events.neighborhoodcomics.com/wp-content/uploads/2023/08/drinkdraw.png
END:VEVENT
BEGIN:VEVENT
DTSTART;TZID=America/New_York:20280804T160000
DTEND;TZID=America/New_York:20280804T200000
DTSTAMP:20260420T182045
CREATED:20260320T004420Z
LAST-MODIFIED:20260320T004422Z
UID:10001899-1849017600-1849032000@events.neighborhoodcomics.com
SUMMARY:Friday Night Magic in Savannah
DESCRIPTION:FNM @ NBRHD! \n\n\n\nCome out for some Commander open play starting at 4PM. \n\n\n\n\nBook Clubs
URL:https://events.neighborhoodcomics.com/event/friday-night-magic-in-savannah/2028-08-04/
LOCATION:Neighborhood Comics\, 1205 Bull St.\, Savannah\, GA\, 31401\, United States
CATEGORIES:Community
ATTACH;FMTTYPE=image/jpeg:https://events.neighborhoodcomics.com/wp-content/uploads/2025/09/mtg.jpg
ORGANIZER;CN="Neighborhood Comics":MAILTO:team@neighborhoodcomics.com
END:VEVENT
BEGIN:VEVENT
DTSTART;TZID=America/New_York:20280807T160000
DTEND;TZID=America/New_York:20280807T200000
DTSTAMP:20260420T182045
CREATED:20260319T225714Z
LAST-MODIFIED:20260320T145716Z
UID:10001634-1849276800-1849291200@events.neighborhoodcomics.com
SUMMARY:Magic the Gathering Mondays
DESCRIPTION:Join us Mondays from 4-8PM for Magic Mondays! New players are welcome. We’ll have extra decks available on hand to borrow for anyone wanting to try out the game!
URL:https://events.neighborhoodcomics.com/event/magic-the-gathering-mondays-2/2028-08-07/
LOCATION:GA
CATEGORIES:Community
ATTACH;FMTTYPE=image/jpeg:https://events.neighborhoodcomics.com/wp-content/uploads/2025/09/mtg.jpg
END:VEVENT
BEGIN:VEVENT
DTSTART;TZID=America/New_York:20280808T000000
DTEND;TZID=America/New_York:20280808T235959
DTSTAMP:20260420T182045
CREATED:20250826T155718Z
LAST-MODIFIED:20260320T004738Z
UID:10001052-1849305600-1849391999@events.neighborhoodcomics.com
SUMMARY:2-for-1 Back Issues
DESCRIPTION:Every Tuesday\, all green ($3)\, yellow ($2) and blue ($1) label back issues are 2-for-1! \n\n\nBook Clubs
URL:https://events.neighborhoodcomics.com/event/2-for-1-back-issues/2028-08-08/
LOCATION:Neighborhood Comics\, 1205 Bull St.\, Savannah\, GA\, 31401\, United States
ATTACH;FMTTYPE=image/jpeg:https://events.neighborhoodcomics.com/wp-content/uploads/2025/08/backissues.jpg
ORGANIZER;CN="Neighborhood Comics":MAILTO:team@neighborhoodcomics.com
END:VEVENT
BEGIN:VEVENT
DTSTART;TZID=America/New_York:20280809T110000
DTEND;TZID=America/New_York:20280809T190000
DTSTAMP:20260420T182045
CREATED:20260319T225003Z
LAST-MODIFIED:20260319T231636Z
UID:10002322-1849431600-1849460400@events.neighborhoodcomics.com
SUMMARY:New Comic Book Day!
DESCRIPTION:New comic books are released every Wednesday and we have a killer selection! Not finding the comics you want? Create a subscription and you’re guaranteed a copy of your favorite comic series\, manga or graphic novel.  \n\n\n\n\nStart a Subscription\n\n\n\nView the New This Week In-Stock List\n\n\n\nBook Clubs
URL:https://events.neighborhoodcomics.com/event/new-comic-book-day/2028-08-09/
LOCATION:GA
ATTACH;FMTTYPE=image/jpeg:https://events.neighborhoodcomics.com/wp-content/uploads/2026/03/IMG_0230.jpg
END:VEVENT
BEGIN:VEVENT
DTSTART;TZID=America/New_York:20280811T160000
DTEND;TZID=America/New_York:20280811T200000
DTSTAMP:20260420T182045
CREATED:20260320T004420Z
LAST-MODIFIED:20260320T004422Z
UID:10001900-1849622400-1849636800@events.neighborhoodcomics.com
SUMMARY:Friday Night Magic in Savannah
DESCRIPTION:FNM @ NBRHD! \n\n\n\nCome out for some Commander open play starting at 4PM. \n\n\n\n\nBook Clubs
URL:https://events.neighborhoodcomics.com/event/friday-night-magic-in-savannah/2028-08-11/
LOCATION:Neighborhood Comics\, 1205 Bull St.\, Savannah\, GA\, 31401\, United States
CATEGORIES:Community
ATTACH;FMTTYPE=image/jpeg:https://events.neighborhoodcomics.com/wp-content/uploads/2025/09/mtg.jpg
ORGANIZER;CN="Neighborhood Comics":MAILTO:team@neighborhoodcomics.com
END:VEVENT
BEGIN:VEVENT
DTSTART;TZID=America/New_York:20280813T170000
DTEND;TZID=America/New_York:20280813T190000
DTSTAMP:20260420T182046
CREATED:20260319T211129Z
LAST-MODIFIED:20260320T003528Z
UID:10002092-1849798800-1849806000@events.neighborhoodcomics.com
SUMMARY:Comics with Kate
DESCRIPTION:Second Sunday of every month from 5-7PM. Hosted by comic artist Kate Sherron. \n\n\n\nCheck the Discord channel for the current book and any schedule changes. \n\n\nBook Clubs
URL:https://events.neighborhoodcomics.com/event/comics-with-kate-5/2028-08-13/
LOCATION:Neighborhood Comics\, 1205 Bull St.\, Savannah\, GA\, 31401\, United States
CATEGORIES:Book Clubs
ATTACH;FMTTYPE=image/jpeg:https://events.neighborhoodcomics.com/wp-content/uploads/2024/02/katevent.jpg
ORGANIZER;CN="Neighborhood Comics":MAILTO:team@neighborhoodcomics.com
END:VEVENT
BEGIN:VEVENT
DTSTART;TZID=America/New_York:20280814T160000
DTEND;TZID=America/New_York:20280814T200000
DTSTAMP:20260420T182046
CREATED:20260319T225714Z
LAST-MODIFIED:20260320T145716Z
UID:10001635-1849881600-1849896000@events.neighborhoodcomics.com
SUMMARY:Magic the Gathering Mondays
DESCRIPTION:Join us Mondays from 4-8PM for Magic Mondays! New players are welcome. We’ll have extra decks available on hand to borrow for anyone wanting to try out the game!
URL:https://events.neighborhoodcomics.com/event/magic-the-gathering-mondays-2/2028-08-14/
LOCATION:GA
CATEGORIES:Community
ATTACH;FMTTYPE=image/jpeg:https://events.neighborhoodcomics.com/wp-content/uploads/2025/09/mtg.jpg
END:VEVENT
BEGIN:VEVENT
DTSTART;TZID=America/New_York:20280815T000000
DTEND;TZID=America/New_York:20280815T235959
DTSTAMP:20260420T182046
CREATED:20250826T155718Z
LAST-MODIFIED:20260320T004738Z
UID:10001053-1849910400-1849996799@events.neighborhoodcomics.com
SUMMARY:2-for-1 Back Issues
DESCRIPTION:Every Tuesday\, all green ($3)\, yellow ($2) and blue ($1) label back issues are 2-for-1! \n\n\nBook Clubs
URL:https://events.neighborhoodcomics.com/event/2-for-1-back-issues/2028-08-15/
LOCATION:Neighborhood Comics\, 1205 Bull St.\, Savannah\, GA\, 31401\, United States
ATTACH;FMTTYPE=image/jpeg:https://events.neighborhoodcomics.com/wp-content/uploads/2025/08/backissues.jpg
ORGANIZER;CN="Neighborhood Comics":MAILTO:team@neighborhoodcomics.com
END:VEVENT
BEGIN:VEVENT
DTSTART;TZID=America/New_York:20280816T110000
DTEND;TZID=America/New_York:20280816T190000
DTSTAMP:20260420T182046
CREATED:20260319T225003Z
LAST-MODIFIED:20260319T231636Z
UID:10002323-1850036400-1850065200@events.neighborhoodcomics.com
SUMMARY:New Comic Book Day!
DESCRIPTION:New comic books are released every Wednesday and we have a killer selection! Not finding the comics you want? Create a subscription and you’re guaranteed a copy of your favorite comic series\, manga or graphic novel.  \n\n\n\n\nStart a Subscription\n\n\n\nView the New This Week In-Stock List\n\n\n\nBook Clubs
URL:https://events.neighborhoodcomics.com/event/new-comic-book-day/2028-08-16/
LOCATION:GA
ATTACH;FMTTYPE=image/jpeg:https://events.neighborhoodcomics.com/wp-content/uploads/2026/03/IMG_0230.jpg
END:VEVENT
BEGIN:VEVENT
DTSTART;TZID=America/New_York:20280816T180000
DTEND;TZID=America/New_York:20280816T210000
DTSTAMP:20260420T182046
CREATED:20230817T154036Z
LAST-MODIFIED:20230817T154622Z
UID:10000303-1850061600-1850072400@events.neighborhoodcomics.com
SUMMARY:Neighborhood Drink N Draw
DESCRIPTION:Sequential artists and illustrators meet-up 2x/month \n \n1st\, 3rd & 5th Wednesdays of the month – 6PM-9PM at White Whale Craft Ales. \nAll art supplies at Neighborhood Comics are 10% off from 6-7! \nHosted by Jamie Jones. \nMeet and network with local sequential artists and illustrators while you sketch and imbibe with your new best friends.
URL:https://events.neighborhoodcomics.com/event/neighborhood-drink-n-draw-3/2028-08-16/
LOCATION:White Whale Craft Ales\, 1207 Bull St\, Savannah\, GA\, 31401\, United States
CATEGORIES:Artists
ATTACH;FMTTYPE=image/png:https://events.neighborhoodcomics.com/wp-content/uploads/2023/08/drinkdraw.png
END:VEVENT
BEGIN:VEVENT
DTSTART;TZID=America/New_York:20280818T160000
DTEND;TZID=America/New_York:20280818T200000
DTSTAMP:20260420T182046
CREATED:20260320T004420Z
LAST-MODIFIED:20260320T004422Z
UID:10001901-1850227200-1850241600@events.neighborhoodcomics.com
SUMMARY:Friday Night Magic in Savannah
DESCRIPTION:FNM @ NBRHD! \n\n\n\nCome out for some Commander open play starting at 4PM. \n\n\n\n\nBook Clubs
URL:https://events.neighborhoodcomics.com/event/friday-night-magic-in-savannah/2028-08-18/
LOCATION:Neighborhood Comics\, 1205 Bull St.\, Savannah\, GA\, 31401\, United States
CATEGORIES:Community
ATTACH;FMTTYPE=image/jpeg:https://events.neighborhoodcomics.com/wp-content/uploads/2025/09/mtg.jpg
ORGANIZER;CN="Neighborhood Comics":MAILTO:team@neighborhoodcomics.com
END:VEVENT
BEGIN:VEVENT
DTSTART;TZID=America/New_York:20280821T160000
DTEND;TZID=America/New_York:20280821T200000
DTSTAMP:20260420T182046
CREATED:20260319T225714Z
LAST-MODIFIED:20260320T145716Z
UID:10001636-1850486400-1850500800@events.neighborhoodcomics.com
SUMMARY:Magic the Gathering Mondays
DESCRIPTION:Join us Mondays from 4-8PM for Magic Mondays! New players are welcome. We’ll have extra decks available on hand to borrow for anyone wanting to try out the game!
URL:https://events.neighborhoodcomics.com/event/magic-the-gathering-mondays-2/2028-08-21/
LOCATION:GA
CATEGORIES:Community
ATTACH;FMTTYPE=image/jpeg:https://events.neighborhoodcomics.com/wp-content/uploads/2025/09/mtg.jpg
END:VEVENT
BEGIN:VEVENT
DTSTART;TZID=America/New_York:20280822T000000
DTEND;TZID=America/New_York:20280822T235959
DTSTAMP:20260420T182046
CREATED:20250826T155718Z
LAST-MODIFIED:20260320T004738Z
UID:10001054-1850515200-1850601599@events.neighborhoodcomics.com
SUMMARY:2-for-1 Back Issues
DESCRIPTION:Every Tuesday\, all green ($3)\, yellow ($2) and blue ($1) label back issues are 2-for-1! \n\n\nBook Clubs
URL:https://events.neighborhoodcomics.com/event/2-for-1-back-issues/2028-08-22/
LOCATION:Neighborhood Comics\, 1205 Bull St.\, Savannah\, GA\, 31401\, United States
ATTACH;FMTTYPE=image/jpeg:https://events.neighborhoodcomics.com/wp-content/uploads/2025/08/backissues.jpg
ORGANIZER;CN="Neighborhood Comics":MAILTO:team@neighborhoodcomics.com
END:VEVENT
BEGIN:VEVENT
DTSTART;TZID=America/New_York:20280823T110000
DTEND;TZID=America/New_York:20280823T190000
DTSTAMP:20260420T182046
CREATED:20260319T225003Z
LAST-MODIFIED:20260319T231636Z
UID:10002324-1850641200-1850670000@events.neighborhoodcomics.com
SUMMARY:New Comic Book Day!
DESCRIPTION:New comic books are released every Wednesday and we have a killer selection! Not finding the comics you want? Create a subscription and you’re guaranteed a copy of your favorite comic series\, manga or graphic novel.  \n\n\n\n\nStart a Subscription\n\n\n\nView the New This Week In-Stock List\n\n\n\nBook Clubs
URL:https://events.neighborhoodcomics.com/event/new-comic-book-day/2028-08-23/
LOCATION:GA
ATTACH;FMTTYPE=image/jpeg:https://events.neighborhoodcomics.com/wp-content/uploads/2026/03/IMG_0230.jpg
END:VEVENT
BEGIN:VEVENT
DTSTART;TZID=America/New_York:20280825T160000
DTEND;TZID=America/New_York:20280825T200000
DTSTAMP:20260420T182046
CREATED:20260320T004420Z
LAST-MODIFIED:20260320T004422Z
UID:10001902-1850832000-1850846400@events.neighborhoodcomics.com
SUMMARY:Friday Night Magic in Savannah
DESCRIPTION:FNM @ NBRHD! \n\n\n\nCome out for some Commander open play starting at 4PM. \n\n\n\n\nBook Clubs
URL:https://events.neighborhoodcomics.com/event/friday-night-magic-in-savannah/2028-08-25/
LOCATION:Neighborhood Comics\, 1205 Bull St.\, Savannah\, GA\, 31401\, United States
CATEGORIES:Community
ATTACH;FMTTYPE=image/jpeg:https://events.neighborhoodcomics.com/wp-content/uploads/2025/09/mtg.jpg
ORGANIZER;CN="Neighborhood Comics":MAILTO:team@neighborhoodcomics.com
END:VEVENT
BEGIN:VEVENT
DTSTART;TZID=America/New_York:20280827T110000
DTEND;TZID=America/New_York:20280827T130000
DTSTAMP:20260420T182046
CREATED:20260402T184539Z
LAST-MODIFIED:20260402T185049Z
UID:10002632-1850986800-1850994000@events.neighborhoodcomics.com
SUMMARY:Savage Zine Club
DESCRIPTION:If you are interested in meeting other zine creators\, showing off your collection\, or just learning about the medium\, come hang out! Last Sunday of every month.
URL:https://events.neighborhoodcomics.com/event/savage-zine-club/2028-08-27/
LOCATION:Neighborhood Comics\, 1205 Bull St.\, Savannah\, GA\, 31401\, United States
CATEGORIES:Book Clubs
ATTACH;FMTTYPE=image/jpeg:https://events.neighborhoodcomics.com/wp-content/uploads/2026/04/savzine.jpg
ORGANIZER;CN="SAVAGE FST":MAILTO:info@savagefst.com
END:VEVENT
BEGIN:VEVENT
DTSTART;TZID=America/New_York:20280828T160000
DTEND;TZID=America/New_York:20280828T200000
DTSTAMP:20260420T182046
CREATED:20260319T225714Z
LAST-MODIFIED:20260320T145716Z
UID:10001637-1851091200-1851105600@events.neighborhoodcomics.com
SUMMARY:Magic the Gathering Mondays
DESCRIPTION:Join us Mondays from 4-8PM for Magic Mondays! New players are welcome. We’ll have extra decks available on hand to borrow for anyone wanting to try out the game!
URL:https://events.neighborhoodcomics.com/event/magic-the-gathering-mondays-2/2028-08-28/
LOCATION:GA
CATEGORIES:Community
ATTACH;FMTTYPE=image/jpeg:https://events.neighborhoodcomics.com/wp-content/uploads/2025/09/mtg.jpg
END:VEVENT
BEGIN:VEVENT
DTSTART;TZID=America/New_York:20280829T000000
DTEND;TZID=America/New_York:20280829T235959
DTSTAMP:20260420T182046
CREATED:20250826T155718Z
LAST-MODIFIED:20260320T004738Z
UID:10001055-1851120000-1851206399@events.neighborhoodcomics.com
SUMMARY:2-for-1 Back Issues
DESCRIPTION:Every Tuesday\, all green ($3)\, yellow ($2) and blue ($1) label back issues are 2-for-1! \n\n\nBook Clubs
URL:https://events.neighborhoodcomics.com/event/2-for-1-back-issues/2028-08-29/
LOCATION:Neighborhood Comics\, 1205 Bull St.\, Savannah\, GA\, 31401\, United States
ATTACH;FMTTYPE=image/jpeg:https://events.neighborhoodcomics.com/wp-content/uploads/2025/08/backissues.jpg
ORGANIZER;CN="Neighborhood Comics":MAILTO:team@neighborhoodcomics.com
END:VEVENT
BEGIN:VEVENT
DTSTART;TZID=America/New_York:20280830T110000
DTEND;TZID=America/New_York:20280830T190000
DTSTAMP:20260420T182046
CREATED:20260319T225003Z
LAST-MODIFIED:20260319T231636Z
UID:10002325-1851246000-1851274800@events.neighborhoodcomics.com
SUMMARY:New Comic Book Day!
DESCRIPTION:New comic books are released every Wednesday and we have a killer selection! Not finding the comics you want? Create a subscription and you’re guaranteed a copy of your favorite comic series\, manga or graphic novel.  \n\n\n\n\nStart a Subscription\n\n\n\nView the New This Week In-Stock List\n\n\n\nBook Clubs
URL:https://events.neighborhoodcomics.com/event/new-comic-book-day/2028-08-30/
LOCATION:GA
ATTACH;FMTTYPE=image/jpeg:https://events.neighborhoodcomics.com/wp-content/uploads/2026/03/IMG_0230.jpg
END:VEVENT
BEGIN:VEVENT
DTSTART;TZID=America/New_York:20280830T180000
DTEND;TZID=America/New_York:20280830T210000
DTSTAMP:20260420T182046
CREATED:20230817T153727Z
LAST-MODIFIED:20260320T005326Z
UID:10002124-1851271200-1851282000@events.neighborhoodcomics.com
SUMMARY:Neighborhood Drink N Draw
DESCRIPTION:Sequential artists and illustrators meet-up 2-3 x/month \n\n\n\n1st\, 3rd & 5th Wednesdays of the month – 6PM-9PM at White Whale Craft Ales. \n\n\n\nAll art supplies at Neighborhood Comics are 10% off from 6-7! \n\n\n\nHosted by Anthony Barbara. \n\n\n\nMeet and network with local sequential artists and illustrators while you sketch and imbibe with your new best friends.
URL:https://events.neighborhoodcomics.com/event/neighborhood-drink-n-draw/2028-08-30/
LOCATION:White Whale Craft Ales\, 1207 Bull St\, Savannah\, GA\, 31401\, United States
CATEGORIES:Artists
ATTACH;FMTTYPE=image/png:https://events.neighborhoodcomics.com/wp-content/uploads/2023/08/drinkdraw.png
END:VEVENT
END:VCALENDAR