BEGIN:VCALENDAR
VERSION:2.0
PRODID:-//Upcoming Events in Savannah, GA - ECPv6.15.20//NONSGML v1.0//EN
CALSCALE:GREGORIAN
METHOD:PUBLISH
X-ORIGINAL-URL:https://events.neighborhoodcomics.com
X-WR-CALDESC:Events for Upcoming Events in Savannah, GA
REFRESH-INTERVAL;VALUE=DURATION:PT1H
X-Robots-Tag:noindex
X-PUBLISHED-TTL:PT1H
BEGIN:VTIMEZONE
TZID:America/New_York
BEGIN:DAYLIGHT
TZOFFSETFROM:-0500
TZOFFSETTO:-0400
TZNAME:EDT
DTSTART:20290311T070000
END:DAYLIGHT
BEGIN:STANDARD
TZOFFSETFROM:-0400
TZOFFSETTO:-0500
TZNAME:EST
DTSTART:20291104T060000
END:STANDARD
BEGIN:DAYLIGHT
TZOFFSETFROM:-0500
TZOFFSETTO:-0400
TZNAME:EDT
DTSTART:20300310T070000
END:DAYLIGHT
BEGIN:STANDARD
TZOFFSETFROM:-0400
TZOFFSETTO:-0500
TZNAME:EST
DTSTART:20301103T060000
END:STANDARD
BEGIN:DAYLIGHT
TZOFFSETFROM:-0500
TZOFFSETTO:-0400
TZNAME:EDT
DTSTART:20310309T070000
END:DAYLIGHT
BEGIN:STANDARD
TZOFFSETFROM:-0400
TZOFFSETTO:-0500
TZNAME:EST
DTSTART:20311102T060000
END:STANDARD
END:VTIMEZONE
BEGIN:VEVENT
DTSTART;TZID=America/New_York:20300512T170000
DTEND;TZID=America/New_York:20300512T190000
DTSTAMP:20260423T064638
CREATED:20260319T211129Z
LAST-MODIFIED:20260320T003528Z
UID:10002113-1904835600-1904842800@events.neighborhoodcomics.com
SUMMARY:Comics with Kate
DESCRIPTION:Second Sunday of every month from 5-7PM. Hosted by comic artist Kate Sherron. \n\n\n\nCheck the Discord channel for the current book and any schedule changes. \n\n\nCommunity
URL:https://events.neighborhoodcomics.com/event/comics-with-kate-5/2030-05-12/
LOCATION:Neighborhood Comics\, 1205 Bull St.\, Savannah\, GA\, 31401\, United States
CATEGORIES:Book Clubs
ATTACH;FMTTYPE=image/jpeg:https://events.neighborhoodcomics.com/wp-content/uploads/2024/02/katevent.jpg
ORGANIZER;CN="Neighborhood Comics":MAILTO:team@neighborhoodcomics.com
END:VEVENT
BEGIN:VEVENT
DTSTART;TZID=America/New_York:20300513T160000
DTEND;TZID=America/New_York:20300513T200000
DTSTAMP:20260423T064638
CREATED:20260319T225714Z
LAST-MODIFIED:20260320T145716Z
UID:10001726-1904918400-1904932800@events.neighborhoodcomics.com
SUMMARY:Magic the Gathering Mondays
DESCRIPTION:Join us Mondays from 4-8PM for Magic Mondays! New players are welcome. We’ll have extra decks available on hand to borrow for anyone wanting to try out the game!
URL:https://events.neighborhoodcomics.com/event/magic-the-gathering-mondays-2/2030-05-13/
CATEGORIES:Community
ATTACH;FMTTYPE=image/jpeg:https://events.neighborhoodcomics.com/wp-content/uploads/2025/09/mtg.jpg
END:VEVENT
BEGIN:VEVENT
DTSTART;TZID=America/New_York:20300514T000000
DTEND;TZID=America/New_York:20300514T235959
DTSTAMP:20260423T064638
CREATED:20250826T155718Z
LAST-MODIFIED:20260320T004738Z
UID:10001144-1904947200-1905033599@events.neighborhoodcomics.com
SUMMARY:2-for-1 Back Issues
DESCRIPTION:Every Tuesday\, all green ($3)\, yellow ($2) and blue ($1) label back issues are 2-for-1! \n\n\nCommunity
URL:https://events.neighborhoodcomics.com/event/2-for-1-back-issues/2030-05-14/
LOCATION:Neighborhood Comics\, 1205 Bull St.\, Savannah\, GA\, 31401\, United States
ATTACH;FMTTYPE=image/jpeg:https://events.neighborhoodcomics.com/wp-content/uploads/2025/08/backissues.jpg
ORGANIZER;CN="Neighborhood Comics":MAILTO:team@neighborhoodcomics.com
END:VEVENT
BEGIN:VEVENT
DTSTART;TZID=America/New_York:20300515T110000
DTEND;TZID=America/New_York:20300515T190000
DTSTAMP:20260423T064638
CREATED:20260319T225003Z
LAST-MODIFIED:20260319T231636Z
UID:10002414-1905073200-1905102000@events.neighborhoodcomics.com
SUMMARY:New Comic Book Day!
DESCRIPTION:New comic books are released every Wednesday and we have a killer selection! Not finding the comics you want? Create a subscription and you’re guaranteed a copy of your favorite comic series\, manga or graphic novel.  \n\n\n\n\nStart a Subscription\n\n\n\nView the New This Week In-Stock List\n\n\n\nCommunity
URL:https://events.neighborhoodcomics.com/event/new-comic-book-day/2030-05-15/
ATTACH;FMTTYPE=image/jpeg:https://events.neighborhoodcomics.com/wp-content/uploads/2026/03/IMG_0230.jpg
END:VEVENT
BEGIN:VEVENT
DTSTART;TZID=America/New_York:20300515T180000
DTEND;TZID=America/New_York:20300515T210000
DTSTAMP:20260423T064638
CREATED:20230817T154036Z
LAST-MODIFIED:20230817T154622Z
UID:10002186-1905098400-1905109200@events.neighborhoodcomics.com
SUMMARY:Neighborhood Drink N Draw
DESCRIPTION:Sequential artists and illustrators meet-up 2x/month \n \n1st\, 3rd & 5th Wednesdays of the month – 6PM-9PM at White Whale Craft Ales. \nAll art supplies at Neighborhood Comics are 10% off from 6-7! \nHosted by Jamie Jones. \nMeet and network with local sequential artists and illustrators while you sketch and imbibe with your new best friends.
URL:https://events.neighborhoodcomics.com/event/neighborhood-drink-n-draw-3/2030-05-15/
LOCATION:White Whale Craft Ales\, 1207 Bull St\, Savannah\, GA\, 31401\, United States
CATEGORIES:Artists
ATTACH;FMTTYPE=image/png:https://events.neighborhoodcomics.com/wp-content/uploads/2023/08/drinkdraw.png
END:VEVENT
BEGIN:VEVENT
DTSTART;TZID=America/New_York:20300517T160000
DTEND;TZID=America/New_York:20300517T200000
DTSTAMP:20260423T064638
CREATED:20260320T004420Z
LAST-MODIFIED:20260320T004422Z
UID:10001992-1905264000-1905278400@events.neighborhoodcomics.com
SUMMARY:Friday Night Magic in Savannah
DESCRIPTION:FNM @ NBRHD! \n\n\n\nCome out for some Commander open play starting at 4PM. \n\n\n\n\nCommunity
URL:https://events.neighborhoodcomics.com/event/friday-night-magic-in-savannah/2030-05-17/
LOCATION:Neighborhood Comics\, 1205 Bull St.\, Savannah\, GA\, 31401\, United States
CATEGORIES:Community
ATTACH;FMTTYPE=image/jpeg:https://events.neighborhoodcomics.com/wp-content/uploads/2025/09/mtg.jpg
ORGANIZER;CN="Neighborhood Comics":MAILTO:team@neighborhoodcomics.com
END:VEVENT
BEGIN:VEVENT
DTSTART;TZID=America/New_York:20300520T160000
DTEND;TZID=America/New_York:20300520T200000
DTSTAMP:20260423T064638
CREATED:20260319T225714Z
LAST-MODIFIED:20260320T145716Z
UID:10001727-1905523200-1905537600@events.neighborhoodcomics.com
SUMMARY:Magic the Gathering Mondays
DESCRIPTION:Join us Mondays from 4-8PM for Magic Mondays! New players are welcome. We’ll have extra decks available on hand to borrow for anyone wanting to try out the game!
URL:https://events.neighborhoodcomics.com/event/magic-the-gathering-mondays-2/2030-05-20/
CATEGORIES:Community
ATTACH;FMTTYPE=image/jpeg:https://events.neighborhoodcomics.com/wp-content/uploads/2025/09/mtg.jpg
END:VEVENT
BEGIN:VEVENT
DTSTART;TZID=America/New_York:20300521T000000
DTEND;TZID=America/New_York:20300521T235959
DTSTAMP:20260423T064638
CREATED:20250826T155718Z
LAST-MODIFIED:20260320T004738Z
UID:10001145-1905552000-1905638399@events.neighborhoodcomics.com
SUMMARY:2-for-1 Back Issues
DESCRIPTION:Every Tuesday\, all green ($3)\, yellow ($2) and blue ($1) label back issues are 2-for-1! \n\n\nCommunity
URL:https://events.neighborhoodcomics.com/event/2-for-1-back-issues/2030-05-21/
LOCATION:Neighborhood Comics\, 1205 Bull St.\, Savannah\, GA\, 31401\, United States
ATTACH;FMTTYPE=image/jpeg:https://events.neighborhoodcomics.com/wp-content/uploads/2025/08/backissues.jpg
ORGANIZER;CN="Neighborhood Comics":MAILTO:team@neighborhoodcomics.com
END:VEVENT
BEGIN:VEVENT
DTSTART;TZID=America/New_York:20300522T110000
DTEND;TZID=America/New_York:20300522T190000
DTSTAMP:20260423T064638
CREATED:20260319T225003Z
LAST-MODIFIED:20260319T231636Z
UID:10002415-1905678000-1905706800@events.neighborhoodcomics.com
SUMMARY:New Comic Book Day!
DESCRIPTION:New comic books are released every Wednesday and we have a killer selection! Not finding the comics you want? Create a subscription and you’re guaranteed a copy of your favorite comic series\, manga or graphic novel.  \n\n\n\n\nStart a Subscription\n\n\n\nView the New This Week In-Stock List\n\n\n\nCommunity
URL:https://events.neighborhoodcomics.com/event/new-comic-book-day/2030-05-22/
ATTACH;FMTTYPE=image/jpeg:https://events.neighborhoodcomics.com/wp-content/uploads/2026/03/IMG_0230.jpg
END:VEVENT
BEGIN:VEVENT
DTSTART;TZID=America/New_York:20300524T160000
DTEND;TZID=America/New_York:20300524T200000
DTSTAMP:20260423T064638
CREATED:20260320T004420Z
LAST-MODIFIED:20260320T004422Z
UID:10001993-1905868800-1905883200@events.neighborhoodcomics.com
SUMMARY:Friday Night Magic in Savannah
DESCRIPTION:FNM @ NBRHD! \n\n\n\nCome out for some Commander open play starting at 4PM. \n\n\n\n\nCommunity
URL:https://events.neighborhoodcomics.com/event/friday-night-magic-in-savannah/2030-05-24/
LOCATION:Neighborhood Comics\, 1205 Bull St.\, Savannah\, GA\, 31401\, United States
CATEGORIES:Community
ATTACH;FMTTYPE=image/jpeg:https://events.neighborhoodcomics.com/wp-content/uploads/2025/09/mtg.jpg
ORGANIZER;CN="Neighborhood Comics":MAILTO:team@neighborhoodcomics.com
END:VEVENT
BEGIN:VEVENT
DTSTART;TZID=America/New_York:20300526T110000
DTEND;TZID=America/New_York:20300526T130000
DTSTAMP:20260423T064638
CREATED:20260402T184539Z
LAST-MODIFIED:20260402T185049Z
UID:10002653-1906023600-1906030800@events.neighborhoodcomics.com
SUMMARY:Savage Zine Club
DESCRIPTION:If you are interested in meeting other zine creators\, showing off your collection\, or just learning about the medium\, come hang out! Last Sunday of every month.
URL:https://events.neighborhoodcomics.com/event/savage-zine-club/2030-05-26/
LOCATION:Neighborhood Comics\, 1205 Bull St.\, Savannah\, GA\, 31401\, United States
CATEGORIES:Book Clubs
ATTACH;FMTTYPE=image/jpeg:https://events.neighborhoodcomics.com/wp-content/uploads/2026/04/savzine.jpg
ORGANIZER;CN="SAVAGE FST":MAILTO:info@savagefst.com
END:VEVENT
BEGIN:VEVENT
DTSTART;TZID=America/New_York:20300526T190000
DTEND;TZID=America/New_York:20300526T210000
DTSTAMP:20260423T064638
CREATED:20260422T165541Z
LAST-MODIFIED:20260422T165541Z
UID:10002727-1906052400-1906059600@events.neighborhoodcomics.com
SUMMARY:Open CoMIC Night
DESCRIPTION:Join local writers and artists as they share their comic creations. You can participate by having a digital link to your comic at the ready. Sign up at the door.
URL:https://events.neighborhoodcomics.com/event/open-comic-night/2030-05-26/
LOCATION:Neighborhood Comics\, 1205 Bull St.\, Savannah\, GA\, 31401\, United States
CATEGORIES:Artists,Community,Readers
ATTACH;FMTTYPE=image/jpeg:https://events.neighborhoodcomics.com/wp-content/uploads/2026/04/utot.jpg
END:VEVENT
BEGIN:VEVENT
DTSTART;TZID=America/New_York:20300527T160000
DTEND;TZID=America/New_York:20300527T200000
DTSTAMP:20260423T064638
CREATED:20260319T225714Z
LAST-MODIFIED:20260320T145716Z
UID:10001728-1906128000-1906142400@events.neighborhoodcomics.com
SUMMARY:Magic the Gathering Mondays
DESCRIPTION:Join us Mondays from 4-8PM for Magic Mondays! New players are welcome. We’ll have extra decks available on hand to borrow for anyone wanting to try out the game!
URL:https://events.neighborhoodcomics.com/event/magic-the-gathering-mondays-2/2030-05-27/
CATEGORIES:Community
ATTACH;FMTTYPE=image/jpeg:https://events.neighborhoodcomics.com/wp-content/uploads/2025/09/mtg.jpg
END:VEVENT
BEGIN:VEVENT
DTSTART;TZID=America/New_York:20300528T000000
DTEND;TZID=America/New_York:20300528T235959
DTSTAMP:20260423T064638
CREATED:20250826T155718Z
LAST-MODIFIED:20260320T004738Z
UID:10001146-1906156800-1906243199@events.neighborhoodcomics.com
SUMMARY:2-for-1 Back Issues
DESCRIPTION:Every Tuesday\, all green ($3)\, yellow ($2) and blue ($1) label back issues are 2-for-1! \n\n\nCommunity
URL:https://events.neighborhoodcomics.com/event/2-for-1-back-issues/2030-05-28/
LOCATION:Neighborhood Comics\, 1205 Bull St.\, Savannah\, GA\, 31401\, United States
ATTACH;FMTTYPE=image/jpeg:https://events.neighborhoodcomics.com/wp-content/uploads/2025/08/backissues.jpg
ORGANIZER;CN="Neighborhood Comics":MAILTO:team@neighborhoodcomics.com
END:VEVENT
BEGIN:VEVENT
DTSTART;TZID=America/New_York:20300529T110000
DTEND;TZID=America/New_York:20300529T190000
DTSTAMP:20260423T064638
CREATED:20260319T225003Z
LAST-MODIFIED:20260319T231636Z
UID:10002416-1906282800-1906311600@events.neighborhoodcomics.com
SUMMARY:New Comic Book Day!
DESCRIPTION:New comic books are released every Wednesday and we have a killer selection! Not finding the comics you want? Create a subscription and you’re guaranteed a copy of your favorite comic series\, manga or graphic novel.  \n\n\n\n\nStart a Subscription\n\n\n\nView the New This Week In-Stock List\n\n\n\nCommunity
URL:https://events.neighborhoodcomics.com/event/new-comic-book-day/2030-05-29/
ATTACH;FMTTYPE=image/jpeg:https://events.neighborhoodcomics.com/wp-content/uploads/2026/03/IMG_0230.jpg
END:VEVENT
BEGIN:VEVENT
DTSTART;TZID=America/New_York:20300529T180000
DTEND;TZID=America/New_York:20300529T210000
DTSTAMP:20260423T064638
CREATED:20230817T153727Z
LAST-MODIFIED:20260320T005326Z
UID:10002131-1906308000-1906318800@events.neighborhoodcomics.com
SUMMARY:Neighborhood Drink N Draw
DESCRIPTION:Sequential artists and illustrators meet-up 2-3 x/month \n\n\n\n1st\, 3rd & 5th Wednesdays of the month – 6PM-9PM at White Whale Craft Ales. \n\n\n\nAll art supplies at Neighborhood Comics are 10% off from 6-7! \n\n\n\nHosted by Anthony Barbara. \n\n\n\nMeet and network with local sequential artists and illustrators while you sketch and imbibe with your new best friends.
URL:https://events.neighborhoodcomics.com/event/neighborhood-drink-n-draw/2030-05-29/
LOCATION:White Whale Craft Ales\, 1207 Bull St\, Savannah\, GA\, 31401\, United States
CATEGORIES:Artists
ATTACH;FMTTYPE=image/png:https://events.neighborhoodcomics.com/wp-content/uploads/2023/08/drinkdraw.png
END:VEVENT
BEGIN:VEVENT
DTSTART;TZID=America/New_York:20300531T160000
DTEND;TZID=America/New_York:20300531T200000
DTSTAMP:20260423T064638
CREATED:20260320T004420Z
LAST-MODIFIED:20260320T004422Z
UID:10001994-1906473600-1906488000@events.neighborhoodcomics.com
SUMMARY:Friday Night Magic in Savannah
DESCRIPTION:FNM @ NBRHD! \n\n\n\nCome out for some Commander open play starting at 4PM. \n\n\n\n\nCommunity
URL:https://events.neighborhoodcomics.com/event/friday-night-magic-in-savannah/2030-05-31/
LOCATION:Neighborhood Comics\, 1205 Bull St.\, Savannah\, GA\, 31401\, United States
CATEGORIES:Community
ATTACH;FMTTYPE=image/jpeg:https://events.neighborhoodcomics.com/wp-content/uploads/2025/09/mtg.jpg
ORGANIZER;CN="Neighborhood Comics":MAILTO:team@neighborhoodcomics.com
END:VEVENT
BEGIN:VEVENT
DTSTART;TZID=America/New_York:20300603T160000
DTEND;TZID=America/New_York:20300603T200000
DTSTAMP:20260423T064638
CREATED:20260319T225714Z
LAST-MODIFIED:20260320T145716Z
UID:10001729-1906732800-1906747200@events.neighborhoodcomics.com
SUMMARY:Magic the Gathering Mondays
DESCRIPTION:Join us Mondays from 4-8PM for Magic Mondays! New players are welcome. We’ll have extra decks available on hand to borrow for anyone wanting to try out the game!
URL:https://events.neighborhoodcomics.com/event/magic-the-gathering-mondays-2/2030-06-03/
CATEGORIES:Community
ATTACH;FMTTYPE=image/jpeg:https://events.neighborhoodcomics.com/wp-content/uploads/2025/09/mtg.jpg
END:VEVENT
BEGIN:VEVENT
DTSTART;TZID=America/New_York:20300604T000000
DTEND;TZID=America/New_York:20300604T235959
DTSTAMP:20260423T064638
CREATED:20250826T155718Z
LAST-MODIFIED:20260320T004738Z
UID:10001147-1906761600-1906847999@events.neighborhoodcomics.com
SUMMARY:2-for-1 Back Issues
DESCRIPTION:Every Tuesday\, all green ($3)\, yellow ($2) and blue ($1) label back issues are 2-for-1! \n\n\nCommunity
URL:https://events.neighborhoodcomics.com/event/2-for-1-back-issues/2030-06-04/
LOCATION:Neighborhood Comics\, 1205 Bull St.\, Savannah\, GA\, 31401\, United States
ATTACH;FMTTYPE=image/jpeg:https://events.neighborhoodcomics.com/wp-content/uploads/2025/08/backissues.jpg
ORGANIZER;CN="Neighborhood Comics":MAILTO:team@neighborhoodcomics.com
END:VEVENT
BEGIN:VEVENT
DTSTART;TZID=America/New_York:20300605T000000
DTEND;TZID=America/New_York:20300605T235959
DTSTAMP:20260423T064638
CREATED:20250527T183806Z
LAST-MODIFIED:20260319T210714Z
UID:10002063-1906848000-1906934399@events.neighborhoodcomics.com
SUMMARY:Doom Patrol Day
DESCRIPTION:On the HBO Doom Patrol adaptation\, it was on June 5 that the town of Cloverton threw a city-wide celebration of the most unlikely superhero team ever. We’re keeping that spirit going by offering HALF OFF any one Doom Patrol or Vertigo Comics release including single issues\, paperbacks and hardcovers.
URL:https://events.neighborhoodcomics.com/event/doom-patrol-day/2030-06-05/
LOCATION:Neighborhood Comics\, 1205 Bull St.\, Savannah\, GA\, 31401\, United States
CATEGORIES:Community,Free Comics
ATTACH;FMTTYPE=image/png:https://events.neighborhoodcomics.com/wp-content/uploads/2025/05/DPD2.png
ORGANIZER;CN="Neighborhood Comics":MAILTO:team@neighborhoodcomics.com
END:VEVENT
BEGIN:VEVENT
DTSTART;TZID=America/New_York:20300605T110000
DTEND;TZID=America/New_York:20300605T190000
DTSTAMP:20260423T064638
CREATED:20260319T225003Z
LAST-MODIFIED:20260319T231636Z
UID:10002417-1906887600-1906916400@events.neighborhoodcomics.com
SUMMARY:New Comic Book Day!
DESCRIPTION:New comic books are released every Wednesday and we have a killer selection! Not finding the comics you want? Create a subscription and you’re guaranteed a copy of your favorite comic series\, manga or graphic novel.  \n\n\n\n\nStart a Subscription\n\n\n\nView the New This Week In-Stock List\n\n\n\nCommunity
URL:https://events.neighborhoodcomics.com/event/new-comic-book-day/2030-06-05/
ATTACH;FMTTYPE=image/jpeg:https://events.neighborhoodcomics.com/wp-content/uploads/2026/03/IMG_0230.jpg
END:VEVENT
BEGIN:VEVENT
DTSTART;TZID=America/New_York:20300605T180000
DTEND;TZID=America/New_York:20300605T210000
DTSTAMP:20260423T064638
CREATED:20230817T153919Z
LAST-MODIFIED:20230817T154622Z
UID:10002156-1906912800-1906923600@events.neighborhoodcomics.com
SUMMARY:Neighborhood Drink N Draw
DESCRIPTION:Sequential artists and illustrators meet-up 2x/month \n \n1st\, 3rd & 5th Wednesdays of the month – 6PM-9PM at White Whale Craft Ales. \nAll art supplies at Neighborhood Comics are 10% off from 6-7! \nHosted by Jamie Jones. \nMeet and network with local sequential artists and illustrators while you sketch and imbibe with your new best friends.
URL:https://events.neighborhoodcomics.com/event/neighborhood-drink-n-draw-2/2030-06-05/
LOCATION:White Whale Craft Ales\, 1207 Bull St\, Savannah\, GA\, 31401\, United States
CATEGORIES:Artists
ATTACH;FMTTYPE=image/png:https://events.neighborhoodcomics.com/wp-content/uploads/2023/08/drinkdraw.png
END:VEVENT
BEGIN:VEVENT
DTSTART;TZID=America/New_York:20300607T160000
DTEND;TZID=America/New_York:20300607T200000
DTSTAMP:20260423T064638
CREATED:20260320T004420Z
LAST-MODIFIED:20260320T004422Z
UID:10001995-1907078400-1907092800@events.neighborhoodcomics.com
SUMMARY:Friday Night Magic in Savannah
DESCRIPTION:FNM @ NBRHD! \n\n\n\nCome out for some Commander open play starting at 4PM. \n\n\n\n\nCommunity
URL:https://events.neighborhoodcomics.com/event/friday-night-magic-in-savannah/2030-06-07/
LOCATION:Neighborhood Comics\, 1205 Bull St.\, Savannah\, GA\, 31401\, United States
CATEGORIES:Community
ATTACH;FMTTYPE=image/jpeg:https://events.neighborhoodcomics.com/wp-content/uploads/2025/09/mtg.jpg
ORGANIZER;CN="Neighborhood Comics":MAILTO:team@neighborhoodcomics.com
END:VEVENT
BEGIN:VEVENT
DTSTART;TZID=America/New_York:20300609T170000
DTEND;TZID=America/New_York:20300609T190000
DTSTAMP:20260423T064638
CREATED:20260319T211129Z
LAST-MODIFIED:20260320T003528Z
UID:10002114-1907254800-1907262000@events.neighborhoodcomics.com
SUMMARY:Comics with Kate
DESCRIPTION:Second Sunday of every month from 5-7PM. Hosted by comic artist Kate Sherron. \n\n\n\nCheck the Discord channel for the current book and any schedule changes. \n\n\nCommunity
URL:https://events.neighborhoodcomics.com/event/comics-with-kate-5/2030-06-09/
LOCATION:Neighborhood Comics\, 1205 Bull St.\, Savannah\, GA\, 31401\, United States
CATEGORIES:Book Clubs
ATTACH;FMTTYPE=image/jpeg:https://events.neighborhoodcomics.com/wp-content/uploads/2024/02/katevent.jpg
ORGANIZER;CN="Neighborhood Comics":MAILTO:team@neighborhoodcomics.com
END:VEVENT
BEGIN:VEVENT
DTSTART;TZID=America/New_York:20300610T160000
DTEND;TZID=America/New_York:20300610T200000
DTSTAMP:20260423T064638
CREATED:20260319T225714Z
LAST-MODIFIED:20260320T145716Z
UID:10001730-1907337600-1907352000@events.neighborhoodcomics.com
SUMMARY:Magic the Gathering Mondays
DESCRIPTION:Join us Mondays from 4-8PM for Magic Mondays! New players are welcome. We’ll have extra decks available on hand to borrow for anyone wanting to try out the game!
URL:https://events.neighborhoodcomics.com/event/magic-the-gathering-mondays-2/2030-06-10/
CATEGORIES:Community
ATTACH;FMTTYPE=image/jpeg:https://events.neighborhoodcomics.com/wp-content/uploads/2025/09/mtg.jpg
END:VEVENT
BEGIN:VEVENT
DTSTART;TZID=America/New_York:20300611T000000
DTEND;TZID=America/New_York:20300611T235959
DTSTAMP:20260423T064638
CREATED:20250826T155718Z
LAST-MODIFIED:20260320T004738Z
UID:10001148-1907366400-1907452799@events.neighborhoodcomics.com
SUMMARY:2-for-1 Back Issues
DESCRIPTION:Every Tuesday\, all green ($3)\, yellow ($2) and blue ($1) label back issues are 2-for-1! \n\n\nCommunity
URL:https://events.neighborhoodcomics.com/event/2-for-1-back-issues/2030-06-11/
LOCATION:Neighborhood Comics\, 1205 Bull St.\, Savannah\, GA\, 31401\, United States
ATTACH;FMTTYPE=image/jpeg:https://events.neighborhoodcomics.com/wp-content/uploads/2025/08/backissues.jpg
ORGANIZER;CN="Neighborhood Comics":MAILTO:team@neighborhoodcomics.com
END:VEVENT
BEGIN:VEVENT
DTSTART;TZID=America/New_York:20300612T110000
DTEND;TZID=America/New_York:20300612T190000
DTSTAMP:20260423T064638
CREATED:20260319T225003Z
LAST-MODIFIED:20260319T231636Z
UID:10002418-1907492400-1907521200@events.neighborhoodcomics.com
SUMMARY:New Comic Book Day!
DESCRIPTION:New comic books are released every Wednesday and we have a killer selection! Not finding the comics you want? Create a subscription and you’re guaranteed a copy of your favorite comic series\, manga or graphic novel.  \n\n\n\n\nStart a Subscription\n\n\n\nView the New This Week In-Stock List\n\n\n\nCommunity
URL:https://events.neighborhoodcomics.com/event/new-comic-book-day/2030-06-12/
ATTACH;FMTTYPE=image/jpeg:https://events.neighborhoodcomics.com/wp-content/uploads/2026/03/IMG_0230.jpg
END:VEVENT
BEGIN:VEVENT
DTSTART;TZID=America/New_York:20300614T160000
DTEND;TZID=America/New_York:20300614T200000
DTSTAMP:20260423T064638
CREATED:20260320T004420Z
LAST-MODIFIED:20260320T004422Z
UID:10001996-1907683200-1907697600@events.neighborhoodcomics.com
SUMMARY:Friday Night Magic in Savannah
DESCRIPTION:FNM @ NBRHD! \n\n\n\nCome out for some Commander open play starting at 4PM. \n\n\n\n\nCommunity
URL:https://events.neighborhoodcomics.com/event/friday-night-magic-in-savannah/2030-06-14/
LOCATION:Neighborhood Comics\, 1205 Bull St.\, Savannah\, GA\, 31401\, United States
CATEGORIES:Community
ATTACH;FMTTYPE=image/jpeg:https://events.neighborhoodcomics.com/wp-content/uploads/2025/09/mtg.jpg
ORGANIZER;CN="Neighborhood Comics":MAILTO:team@neighborhoodcomics.com
END:VEVENT
BEGIN:VEVENT
DTSTART;TZID=America/New_York:20300617T160000
DTEND;TZID=America/New_York:20300617T200000
DTSTAMP:20260423T064638
CREATED:20260319T225714Z
LAST-MODIFIED:20260320T145716Z
UID:10001731-1907942400-1907956800@events.neighborhoodcomics.com
SUMMARY:Magic the Gathering Mondays
DESCRIPTION:Join us Mondays from 4-8PM for Magic Mondays! New players are welcome. We’ll have extra decks available on hand to borrow for anyone wanting to try out the game!
URL:https://events.neighborhoodcomics.com/event/magic-the-gathering-mondays-2/2030-06-17/
CATEGORIES:Community
ATTACH;FMTTYPE=image/jpeg:https://events.neighborhoodcomics.com/wp-content/uploads/2025/09/mtg.jpg
END:VEVENT
BEGIN:VEVENT
DTSTART;TZID=America/New_York:20300618T000000
DTEND;TZID=America/New_York:20300618T235959
DTSTAMP:20260423T064638
CREATED:20250826T155718Z
LAST-MODIFIED:20260320T004738Z
UID:10001149-1907971200-1908057599@events.neighborhoodcomics.com
SUMMARY:2-for-1 Back Issues
DESCRIPTION:Every Tuesday\, all green ($3)\, yellow ($2) and blue ($1) label back issues are 2-for-1! \n\n\nCommunity
URL:https://events.neighborhoodcomics.com/event/2-for-1-back-issues/2030-06-18/
LOCATION:Neighborhood Comics\, 1205 Bull St.\, Savannah\, GA\, 31401\, United States
ATTACH;FMTTYPE=image/jpeg:https://events.neighborhoodcomics.com/wp-content/uploads/2025/08/backissues.jpg
ORGANIZER;CN="Neighborhood Comics":MAILTO:team@neighborhoodcomics.com
END:VEVENT
END:VCALENDAR