BEGIN:VCALENDAR
VERSION:2.0
PRODID:-//Upcoming Events in Savannah, GA - ECPv6.15.20//NONSGML v1.0//EN
CALSCALE:GREGORIAN
METHOD:PUBLISH
X-WR-CALNAME:Upcoming Events in Savannah, GA
X-ORIGINAL-URL:https://events.neighborhoodcomics.com
X-WR-CALDESC:Events for Upcoming Events in Savannah, GA
REFRESH-INTERVAL;VALUE=DURATION:PT1H
X-Robots-Tag:noindex
X-PUBLISHED-TTL:PT1H
BEGIN:VTIMEZONE
TZID:America/New_York
BEGIN:DAYLIGHT
TZOFFSETFROM:-0500
TZOFFSETTO:-0400
TZNAME:EDT
DTSTART:20260308T070000
END:DAYLIGHT
BEGIN:STANDARD
TZOFFSETFROM:-0400
TZOFFSETTO:-0500
TZNAME:EST
DTSTART:20261101T060000
END:STANDARD
BEGIN:DAYLIGHT
TZOFFSETFROM:-0500
TZOFFSETTO:-0400
TZNAME:EDT
DTSTART:20270314T070000
END:DAYLIGHT
BEGIN:STANDARD
TZOFFSETFROM:-0400
TZOFFSETTO:-0500
TZNAME:EST
DTSTART:20271107T060000
END:STANDARD
BEGIN:DAYLIGHT
TZOFFSETFROM:-0500
TZOFFSETTO:-0400
TZNAME:EDT
DTSTART:20280312T070000
END:DAYLIGHT
BEGIN:STANDARD
TZOFFSETFROM:-0400
TZOFFSETTO:-0500
TZNAME:EST
DTSTART:20281105T060000
END:STANDARD
END:VTIMEZONE
BEGIN:VEVENT
DTSTART;TZID=America/New_York:20271109T000000
DTEND;TZID=America/New_York:20271109T235959
DTSTAMP:20260420T170254
CREATED:20250826T155718Z
LAST-MODIFIED:20260320T004738Z
UID:10001013-1825718400-1825804799@events.neighborhoodcomics.com
SUMMARY:2-for-1 Back Issues
DESCRIPTION:Every Tuesday\, all green ($3)\, yellow ($2) and blue ($1) label back issues are 2-for-1! \n\n\nBook Clubs
URL:https://events.neighborhoodcomics.com/event/2-for-1-back-issues/2027-11-09/
LOCATION:Neighborhood Comics\, 1205 Bull St.\, Savannah\, GA\, 31401\, United States
ATTACH;FMTTYPE=image/jpeg:https://events.neighborhoodcomics.com/wp-content/uploads/2025/08/backissues.jpg
ORGANIZER;CN="Neighborhood Comics":MAILTO:team@neighborhoodcomics.com
END:VEVENT
BEGIN:VEVENT
DTSTART;TZID=America/New_York:20271108T160000
DTEND;TZID=America/New_York:20271108T200000
DTSTAMP:20260420T170254
CREATED:20260319T225714Z
LAST-MODIFIED:20260320T145716Z
UID:10001595-1825689600-1825704000@events.neighborhoodcomics.com
SUMMARY:Magic the Gathering Mondays
DESCRIPTION:Join us Mondays from 4-8PM for Magic Mondays! New players are welcome. We’ll have extra decks available on hand to borrow for anyone wanting to try out the game!
URL:https://events.neighborhoodcomics.com/event/magic-the-gathering-mondays-2/2027-11-08/
LOCATION:GA
CATEGORIES:Community
ATTACH;FMTTYPE=image/jpeg:https://events.neighborhoodcomics.com/wp-content/uploads/2025/09/mtg.jpg
END:VEVENT
BEGIN:VEVENT
DTSTART;TZID=America/New_York:20271105T160000
DTEND;TZID=America/New_York:20271105T200000
DTSTAMP:20260420T170254
CREATED:20260320T004420Z
LAST-MODIFIED:20260320T004422Z
UID:10001860-1825430400-1825444800@events.neighborhoodcomics.com
SUMMARY:Friday Night Magic in Savannah
DESCRIPTION:FNM @ NBRHD! \n\n\n\nCome out for some Commander open play starting at 4PM. \n\n\n\n\nBook Clubs
URL:https://events.neighborhoodcomics.com/event/friday-night-magic-in-savannah/2027-11-05/
LOCATION:Neighborhood Comics\, 1205 Bull St.\, Savannah\, GA\, 31401\, United States
CATEGORIES:Community
ATTACH;FMTTYPE=image/jpeg:https://events.neighborhoodcomics.com/wp-content/uploads/2025/09/mtg.jpg
ORGANIZER;CN="Neighborhood Comics":MAILTO:team@neighborhoodcomics.com
END:VEVENT
BEGIN:VEVENT
DTSTART;TZID=America/New_York:20271103T180000
DTEND;TZID=America/New_York:20271103T210000
DTSTAMP:20260420T170254
CREATED:20230817T153919Z
LAST-MODIFIED:20230817T154622Z
UID:10000213-1825264800-1825275600@events.neighborhoodcomics.com
SUMMARY:Neighborhood Drink N Draw
DESCRIPTION:Sequential artists and illustrators meet-up 2x/month \n \n1st\, 3rd & 5th Wednesdays of the month – 6PM-9PM at White Whale Craft Ales. \nAll art supplies at Neighborhood Comics are 10% off from 6-7! \nHosted by Jamie Jones. \nMeet and network with local sequential artists and illustrators while you sketch and imbibe with your new best friends.
URL:https://events.neighborhoodcomics.com/event/neighborhood-drink-n-draw-2/2027-11-03/
LOCATION:White Whale Craft Ales\, 1207 Bull St\, Savannah\, GA\, 31401\, United States
CATEGORIES:Artists
ATTACH;FMTTYPE=image/png:https://events.neighborhoodcomics.com/wp-content/uploads/2023/08/drinkdraw.png
END:VEVENT
BEGIN:VEVENT
DTSTART;TZID=America/New_York:20271103T110000
DTEND;TZID=America/New_York:20271103T190000
DTSTAMP:20260420T170254
CREATED:20260319T225003Z
LAST-MODIFIED:20260319T231636Z
UID:10002282-1825239600-1825268400@events.neighborhoodcomics.com
SUMMARY:New Comic Book Day!
DESCRIPTION:New comic books are released every Wednesday and we have a killer selection! Not finding the comics you want? Create a subscription and you’re guaranteed a copy of your favorite comic series\, manga or graphic novel.  \n\n\n\n\nStart a Subscription\n\n\n\nView the New This Week In-Stock List\n\n\n\nBook Clubs
URL:https://events.neighborhoodcomics.com/event/new-comic-book-day/2027-11-03/
LOCATION:GA
ATTACH;FMTTYPE=image/jpeg:https://events.neighborhoodcomics.com/wp-content/uploads/2026/03/IMG_0230.jpg
END:VEVENT
BEGIN:VEVENT
DTSTART;TZID=America/New_York:20271102T000000
DTEND;TZID=America/New_York:20271102T235959
DTSTAMP:20260420T170254
CREATED:20250826T155718Z
LAST-MODIFIED:20260320T004738Z
UID:10001012-1825113600-1825199999@events.neighborhoodcomics.com
SUMMARY:2-for-1 Back Issues
DESCRIPTION:Every Tuesday\, all green ($3)\, yellow ($2) and blue ($1) label back issues are 2-for-1! \n\n\nBook Clubs
URL:https://events.neighborhoodcomics.com/event/2-for-1-back-issues/2027-11-02/
LOCATION:Neighborhood Comics\, 1205 Bull St.\, Savannah\, GA\, 31401\, United States
ATTACH;FMTTYPE=image/jpeg:https://events.neighborhoodcomics.com/wp-content/uploads/2025/08/backissues.jpg
ORGANIZER;CN="Neighborhood Comics":MAILTO:team@neighborhoodcomics.com
END:VEVENT
BEGIN:VEVENT
DTSTART;TZID=America/New_York:20271101T160000
DTEND;TZID=America/New_York:20271101T200000
DTSTAMP:20260420T170254
CREATED:20260319T225714Z
LAST-MODIFIED:20260320T145716Z
UID:10001594-1825084800-1825099200@events.neighborhoodcomics.com
SUMMARY:Magic the Gathering Mondays
DESCRIPTION:Join us Mondays from 4-8PM for Magic Mondays! New players are welcome. We’ll have extra decks available on hand to borrow for anyone wanting to try out the game!
URL:https://events.neighborhoodcomics.com/event/magic-the-gathering-mondays-2/2027-11-01/
LOCATION:GA
CATEGORIES:Community
ATTACH;FMTTYPE=image/jpeg:https://events.neighborhoodcomics.com/wp-content/uploads/2025/09/mtg.jpg
END:VEVENT
BEGIN:VEVENT
DTSTART;TZID=America/New_York:20271031T110000
DTEND;TZID=America/New_York:20271031T130000
DTSTAMP:20260420T170254
CREATED:20260402T184539Z
LAST-MODIFIED:20260402T185049Z
UID:10002622-1824980400-1824987600@events.neighborhoodcomics.com
SUMMARY:Savage Zine Club
DESCRIPTION:If you are interested in meeting other zine creators\, showing off your collection\, or just learning about the medium\, come hang out! Last Sunday of every month.
URL:https://events.neighborhoodcomics.com/event/savage-zine-club/2027-10-31/
LOCATION:Neighborhood Comics\, 1205 Bull St.\, Savannah\, GA\, 31401\, United States
CATEGORIES:Book Clubs
ATTACH;FMTTYPE=image/jpeg:https://events.neighborhoodcomics.com/wp-content/uploads/2026/04/savzine.jpg
ORGANIZER;CN="SAVAGE FST":MAILTO:info@savagefst.com
END:VEVENT
BEGIN:VEVENT
DTSTART;TZID=America/New_York:20271029T160000
DTEND;TZID=America/New_York:20271029T200000
DTSTAMP:20260420T170254
CREATED:20260320T004420Z
LAST-MODIFIED:20260320T004422Z
UID:10001859-1824825600-1824840000@events.neighborhoodcomics.com
SUMMARY:Friday Night Magic in Savannah
DESCRIPTION:FNM @ NBRHD! \n\n\n\nCome out for some Commander open play starting at 4PM. \n\n\n\n\nBook Clubs
URL:https://events.neighborhoodcomics.com/event/friday-night-magic-in-savannah/2027-10-29/
LOCATION:Neighborhood Comics\, 1205 Bull St.\, Savannah\, GA\, 31401\, United States
CATEGORIES:Community
ATTACH;FMTTYPE=image/jpeg:https://events.neighborhoodcomics.com/wp-content/uploads/2025/09/mtg.jpg
ORGANIZER;CN="Neighborhood Comics":MAILTO:team@neighborhoodcomics.com
END:VEVENT
BEGIN:VEVENT
DTSTART;TZID=America/New_York:20271027T110000
DTEND;TZID=America/New_York:20271027T190000
DTSTAMP:20260420T170254
CREATED:20260319T225003Z
LAST-MODIFIED:20260319T231636Z
UID:10002281-1824634800-1824663600@events.neighborhoodcomics.com
SUMMARY:New Comic Book Day!
DESCRIPTION:New comic books are released every Wednesday and we have a killer selection! Not finding the comics you want? Create a subscription and you’re guaranteed a copy of your favorite comic series\, manga or graphic novel.  \n\n\n\n\nStart a Subscription\n\n\n\nView the New This Week In-Stock List\n\n\n\nBook Clubs
URL:https://events.neighborhoodcomics.com/event/new-comic-book-day/2027-10-27/
LOCATION:GA
ATTACH;FMTTYPE=image/jpeg:https://events.neighborhoodcomics.com/wp-content/uploads/2026/03/IMG_0230.jpg
END:VEVENT
BEGIN:VEVENT
DTSTART;TZID=America/New_York:20271026T000000
DTEND;TZID=America/New_York:20271026T235959
DTSTAMP:20260420T170254
CREATED:20250826T155718Z
LAST-MODIFIED:20260320T004738Z
UID:10001011-1824508800-1824595199@events.neighborhoodcomics.com
SUMMARY:2-for-1 Back Issues
DESCRIPTION:Every Tuesday\, all green ($3)\, yellow ($2) and blue ($1) label back issues are 2-for-1! \n\n\nBook Clubs
URL:https://events.neighborhoodcomics.com/event/2-for-1-back-issues/2027-10-26/
LOCATION:Neighborhood Comics\, 1205 Bull St.\, Savannah\, GA\, 31401\, United States
ATTACH;FMTTYPE=image/jpeg:https://events.neighborhoodcomics.com/wp-content/uploads/2025/08/backissues.jpg
ORGANIZER;CN="Neighborhood Comics":MAILTO:team@neighborhoodcomics.com
END:VEVENT
BEGIN:VEVENT
DTSTART;TZID=America/New_York:20271025T160000
DTEND;TZID=America/New_York:20271025T200000
DTSTAMP:20260420T170254
CREATED:20260319T225714Z
LAST-MODIFIED:20260320T145716Z
UID:10001593-1824480000-1824494400@events.neighborhoodcomics.com
SUMMARY:Magic the Gathering Mondays
DESCRIPTION:Join us Mondays from 4-8PM for Magic Mondays! New players are welcome. We’ll have extra decks available on hand to borrow for anyone wanting to try out the game!
URL:https://events.neighborhoodcomics.com/event/magic-the-gathering-mondays-2/2027-10-25/
LOCATION:GA
CATEGORIES:Community
ATTACH;FMTTYPE=image/jpeg:https://events.neighborhoodcomics.com/wp-content/uploads/2025/09/mtg.jpg
END:VEVENT
BEGIN:VEVENT
DTSTART;TZID=America/New_York:20271022T160000
DTEND;TZID=America/New_York:20271022T200000
DTSTAMP:20260420T170254
CREATED:20260320T004420Z
LAST-MODIFIED:20260320T004422Z
UID:10001858-1824220800-1824235200@events.neighborhoodcomics.com
SUMMARY:Friday Night Magic in Savannah
DESCRIPTION:FNM @ NBRHD! \n\n\n\nCome out for some Commander open play starting at 4PM. \n\n\n\n\nBook Clubs
URL:https://events.neighborhoodcomics.com/event/friday-night-magic-in-savannah/2027-10-22/
LOCATION:Neighborhood Comics\, 1205 Bull St.\, Savannah\, GA\, 31401\, United States
CATEGORIES:Community
ATTACH;FMTTYPE=image/jpeg:https://events.neighborhoodcomics.com/wp-content/uploads/2025/09/mtg.jpg
ORGANIZER;CN="Neighborhood Comics":MAILTO:team@neighborhoodcomics.com
END:VEVENT
BEGIN:VEVENT
DTSTART;TZID=America/New_York:20271020T180000
DTEND;TZID=America/New_York:20271020T210000
DTSTAMP:20260420T170254
CREATED:20230817T154036Z
LAST-MODIFIED:20230817T154622Z
UID:10000293-1824055200-1824066000@events.neighborhoodcomics.com
SUMMARY:Neighborhood Drink N Draw
DESCRIPTION:Sequential artists and illustrators meet-up 2x/month \n \n1st\, 3rd & 5th Wednesdays of the month – 6PM-9PM at White Whale Craft Ales. \nAll art supplies at Neighborhood Comics are 10% off from 6-7! \nHosted by Jamie Jones. \nMeet and network with local sequential artists and illustrators while you sketch and imbibe with your new best friends.
URL:https://events.neighborhoodcomics.com/event/neighborhood-drink-n-draw-3/2027-10-20/
LOCATION:White Whale Craft Ales\, 1207 Bull St\, Savannah\, GA\, 31401\, United States
CATEGORIES:Artists
ATTACH;FMTTYPE=image/png:https://events.neighborhoodcomics.com/wp-content/uploads/2023/08/drinkdraw.png
END:VEVENT
BEGIN:VEVENT
DTSTART;TZID=America/New_York:20271020T110000
DTEND;TZID=America/New_York:20271020T190000
DTSTAMP:20260420T170254
CREATED:20260319T225003Z
LAST-MODIFIED:20260319T231636Z
UID:10002280-1824030000-1824058800@events.neighborhoodcomics.com
SUMMARY:New Comic Book Day!
DESCRIPTION:New comic books are released every Wednesday and we have a killer selection! Not finding the comics you want? Create a subscription and you’re guaranteed a copy of your favorite comic series\, manga or graphic novel.  \n\n\n\n\nStart a Subscription\n\n\n\nView the New This Week In-Stock List\n\n\n\nBook Clubs
URL:https://events.neighborhoodcomics.com/event/new-comic-book-day/2027-10-20/
LOCATION:GA
ATTACH;FMTTYPE=image/jpeg:https://events.neighborhoodcomics.com/wp-content/uploads/2026/03/IMG_0230.jpg
END:VEVENT
BEGIN:VEVENT
DTSTART;TZID=America/New_York:20271019T000000
DTEND;TZID=America/New_York:20271019T235959
DTSTAMP:20260420T170254
CREATED:20250826T155718Z
LAST-MODIFIED:20260320T004738Z
UID:10001010-1823904000-1823990399@events.neighborhoodcomics.com
SUMMARY:2-for-1 Back Issues
DESCRIPTION:Every Tuesday\, all green ($3)\, yellow ($2) and blue ($1) label back issues are 2-for-1! \n\n\nBook Clubs
URL:https://events.neighborhoodcomics.com/event/2-for-1-back-issues/2027-10-19/
LOCATION:Neighborhood Comics\, 1205 Bull St.\, Savannah\, GA\, 31401\, United States
ATTACH;FMTTYPE=image/jpeg:https://events.neighborhoodcomics.com/wp-content/uploads/2025/08/backissues.jpg
ORGANIZER;CN="Neighborhood Comics":MAILTO:team@neighborhoodcomics.com
END:VEVENT
BEGIN:VEVENT
DTSTART;TZID=America/New_York:20271018T160000
DTEND;TZID=America/New_York:20271018T200000
DTSTAMP:20260420T170254
CREATED:20260319T225714Z
LAST-MODIFIED:20260320T145716Z
UID:10001592-1823875200-1823889600@events.neighborhoodcomics.com
SUMMARY:Magic the Gathering Mondays
DESCRIPTION:Join us Mondays from 4-8PM for Magic Mondays! New players are welcome. We’ll have extra decks available on hand to borrow for anyone wanting to try out the game!
URL:https://events.neighborhoodcomics.com/event/magic-the-gathering-mondays-2/2027-10-18/
LOCATION:GA
CATEGORIES:Community
ATTACH;FMTTYPE=image/jpeg:https://events.neighborhoodcomics.com/wp-content/uploads/2025/09/mtg.jpg
END:VEVENT
BEGIN:VEVENT
DTSTART;TZID=America/New_York:20271015T160000
DTEND;TZID=America/New_York:20271015T200000
DTSTAMP:20260420T170254
CREATED:20260320T004420Z
LAST-MODIFIED:20260320T004422Z
UID:10001857-1823616000-1823630400@events.neighborhoodcomics.com
SUMMARY:Friday Night Magic in Savannah
DESCRIPTION:FNM @ NBRHD! \n\n\n\nCome out for some Commander open play starting at 4PM. \n\n\n\n\nBook Clubs
URL:https://events.neighborhoodcomics.com/event/friday-night-magic-in-savannah/2027-10-15/
LOCATION:Neighborhood Comics\, 1205 Bull St.\, Savannah\, GA\, 31401\, United States
CATEGORIES:Community
ATTACH;FMTTYPE=image/jpeg:https://events.neighborhoodcomics.com/wp-content/uploads/2025/09/mtg.jpg
ORGANIZER;CN="Neighborhood Comics":MAILTO:team@neighborhoodcomics.com
END:VEVENT
BEGIN:VEVENT
DTSTART;TZID=America/New_York:20271013T110000
DTEND;TZID=America/New_York:20271013T190000
DTSTAMP:20260420T170254
CREATED:20260319T225003Z
LAST-MODIFIED:20260319T231636Z
UID:10002279-1823425200-1823454000@events.neighborhoodcomics.com
SUMMARY:New Comic Book Day!
DESCRIPTION:New comic books are released every Wednesday and we have a killer selection! Not finding the comics you want? Create a subscription and you’re guaranteed a copy of your favorite comic series\, manga or graphic novel.  \n\n\n\n\nStart a Subscription\n\n\n\nView the New This Week In-Stock List\n\n\n\nBook Clubs
URL:https://events.neighborhoodcomics.com/event/new-comic-book-day/2027-10-13/
LOCATION:GA
ATTACH;FMTTYPE=image/jpeg:https://events.neighborhoodcomics.com/wp-content/uploads/2026/03/IMG_0230.jpg
END:VEVENT
BEGIN:VEVENT
DTSTART;TZID=America/New_York:20271012T000000
DTEND;TZID=America/New_York:20271012T235959
DTSTAMP:20260420T170254
CREATED:20250826T155718Z
LAST-MODIFIED:20260320T004738Z
UID:10001009-1823299200-1823385599@events.neighborhoodcomics.com
SUMMARY:2-for-1 Back Issues
DESCRIPTION:Every Tuesday\, all green ($3)\, yellow ($2) and blue ($1) label back issues are 2-for-1! \n\n\nBook Clubs
URL:https://events.neighborhoodcomics.com/event/2-for-1-back-issues/2027-10-12/
LOCATION:Neighborhood Comics\, 1205 Bull St.\, Savannah\, GA\, 31401\, United States
ATTACH;FMTTYPE=image/jpeg:https://events.neighborhoodcomics.com/wp-content/uploads/2025/08/backissues.jpg
ORGANIZER;CN="Neighborhood Comics":MAILTO:team@neighborhoodcomics.com
END:VEVENT
BEGIN:VEVENT
DTSTART;TZID=America/New_York:20271011T160000
DTEND;TZID=America/New_York:20271011T200000
DTSTAMP:20260420T170254
CREATED:20260319T225714Z
LAST-MODIFIED:20260320T145716Z
UID:10001591-1823270400-1823284800@events.neighborhoodcomics.com
SUMMARY:Magic the Gathering Mondays
DESCRIPTION:Join us Mondays from 4-8PM for Magic Mondays! New players are welcome. We’ll have extra decks available on hand to borrow for anyone wanting to try out the game!
URL:https://events.neighborhoodcomics.com/event/magic-the-gathering-mondays-2/2027-10-11/
LOCATION:GA
CATEGORIES:Community
ATTACH;FMTTYPE=image/jpeg:https://events.neighborhoodcomics.com/wp-content/uploads/2025/09/mtg.jpg
END:VEVENT
BEGIN:VEVENT
DTSTART;TZID=America/New_York:20271010T170000
DTEND;TZID=America/New_York:20271010T190000
DTSTAMP:20260420T170254
CREATED:20260319T211129Z
LAST-MODIFIED:20260320T003528Z
UID:10002082-1823187600-1823194800@events.neighborhoodcomics.com
SUMMARY:Comics with Kate
DESCRIPTION:Second Sunday of every month from 5-7PM. Hosted by comic artist Kate Sherron. \n\n\n\nCheck the Discord channel for the current book and any schedule changes. \n\n\nBook Clubs
URL:https://events.neighborhoodcomics.com/event/comics-with-kate-5/2027-10-10/
LOCATION:Neighborhood Comics\, 1205 Bull St.\, Savannah\, GA\, 31401\, United States
CATEGORIES:Book Clubs
ATTACH;FMTTYPE=image/jpeg:https://events.neighborhoodcomics.com/wp-content/uploads/2024/02/katevent.jpg
ORGANIZER;CN="Neighborhood Comics":MAILTO:team@neighborhoodcomics.com
END:VEVENT
BEGIN:VEVENT
DTSTART;TZID=America/New_York:20271008T160000
DTEND;TZID=America/New_York:20271008T200000
DTSTAMP:20260420T170254
CREATED:20260320T004420Z
LAST-MODIFIED:20260320T004422Z
UID:10001856-1823011200-1823025600@events.neighborhoodcomics.com
SUMMARY:Friday Night Magic in Savannah
DESCRIPTION:FNM @ NBRHD! \n\n\n\nCome out for some Commander open play starting at 4PM. \n\n\n\n\nBook Clubs
URL:https://events.neighborhoodcomics.com/event/friday-night-magic-in-savannah/2027-10-08/
LOCATION:Neighborhood Comics\, 1205 Bull St.\, Savannah\, GA\, 31401\, United States
CATEGORIES:Community
ATTACH;FMTTYPE=image/jpeg:https://events.neighborhoodcomics.com/wp-content/uploads/2025/09/mtg.jpg
ORGANIZER;CN="Neighborhood Comics":MAILTO:team@neighborhoodcomics.com
END:VEVENT
BEGIN:VEVENT
DTSTART;TZID=America/New_York:20271006T180000
DTEND;TZID=America/New_York:20271006T210000
DTSTAMP:20260420T170254
CREATED:20230817T153919Z
LAST-MODIFIED:20230817T154622Z
UID:10000212-1822845600-1822856400@events.neighborhoodcomics.com
SUMMARY:Neighborhood Drink N Draw
DESCRIPTION:Sequential artists and illustrators meet-up 2x/month \n \n1st\, 3rd & 5th Wednesdays of the month – 6PM-9PM at White Whale Craft Ales. \nAll art supplies at Neighborhood Comics are 10% off from 6-7! \nHosted by Jamie Jones. \nMeet and network with local sequential artists and illustrators while you sketch and imbibe with your new best friends.
URL:https://events.neighborhoodcomics.com/event/neighborhood-drink-n-draw-2/2027-10-06/
LOCATION:White Whale Craft Ales\, 1207 Bull St\, Savannah\, GA\, 31401\, United States
CATEGORIES:Artists
ATTACH;FMTTYPE=image/png:https://events.neighborhoodcomics.com/wp-content/uploads/2023/08/drinkdraw.png
END:VEVENT
BEGIN:VEVENT
DTSTART;TZID=America/New_York:20271006T110000
DTEND;TZID=America/New_York:20271006T190000
DTSTAMP:20260420T170254
CREATED:20260319T225003Z
LAST-MODIFIED:20260319T231636Z
UID:10002278-1822820400-1822849200@events.neighborhoodcomics.com
SUMMARY:New Comic Book Day!
DESCRIPTION:New comic books are released every Wednesday and we have a killer selection! Not finding the comics you want? Create a subscription and you’re guaranteed a copy of your favorite comic series\, manga or graphic novel.  \n\n\n\n\nStart a Subscription\n\n\n\nView the New This Week In-Stock List\n\n\n\nBook Clubs
URL:https://events.neighborhoodcomics.com/event/new-comic-book-day/2027-10-06/
LOCATION:GA
ATTACH;FMTTYPE=image/jpeg:https://events.neighborhoodcomics.com/wp-content/uploads/2026/03/IMG_0230.jpg
END:VEVENT
BEGIN:VEVENT
DTSTART;TZID=America/New_York:20271005T000000
DTEND;TZID=America/New_York:20271005T235959
DTSTAMP:20260420T170254
CREATED:20250826T155718Z
LAST-MODIFIED:20260320T004738Z
UID:10001008-1822694400-1822780799@events.neighborhoodcomics.com
SUMMARY:2-for-1 Back Issues
DESCRIPTION:Every Tuesday\, all green ($3)\, yellow ($2) and blue ($1) label back issues are 2-for-1! \n\n\nBook Clubs
URL:https://events.neighborhoodcomics.com/event/2-for-1-back-issues/2027-10-05/
LOCATION:Neighborhood Comics\, 1205 Bull St.\, Savannah\, GA\, 31401\, United States
ATTACH;FMTTYPE=image/jpeg:https://events.neighborhoodcomics.com/wp-content/uploads/2025/08/backissues.jpg
ORGANIZER;CN="Neighborhood Comics":MAILTO:team@neighborhoodcomics.com
END:VEVENT
BEGIN:VEVENT
DTSTART;TZID=America/New_York:20271004T160000
DTEND;TZID=America/New_York:20271004T200000
DTSTAMP:20260420T170254
CREATED:20260319T225714Z
LAST-MODIFIED:20260320T145716Z
UID:10001590-1822665600-1822680000@events.neighborhoodcomics.com
SUMMARY:Magic the Gathering Mondays
DESCRIPTION:Join us Mondays from 4-8PM for Magic Mondays! New players are welcome. We’ll have extra decks available on hand to borrow for anyone wanting to try out the game!
URL:https://events.neighborhoodcomics.com/event/magic-the-gathering-mondays-2/2027-10-04/
LOCATION:GA
CATEGORIES:Community
ATTACH;FMTTYPE=image/jpeg:https://events.neighborhoodcomics.com/wp-content/uploads/2025/09/mtg.jpg
END:VEVENT
BEGIN:VEVENT
DTSTART;TZID=America/New_York:20271001T160000
DTEND;TZID=America/New_York:20271001T200000
DTSTAMP:20260420T170254
CREATED:20260320T004420Z
LAST-MODIFIED:20260320T004422Z
UID:10001855-1822406400-1822420800@events.neighborhoodcomics.com
SUMMARY:Friday Night Magic in Savannah
DESCRIPTION:FNM @ NBRHD! \n\n\n\nCome out for some Commander open play starting at 4PM. \n\n\n\n\nBook Clubs
URL:https://events.neighborhoodcomics.com/event/friday-night-magic-in-savannah/2027-10-01/
LOCATION:Neighborhood Comics\, 1205 Bull St.\, Savannah\, GA\, 31401\, United States
CATEGORIES:Community
ATTACH;FMTTYPE=image/jpeg:https://events.neighborhoodcomics.com/wp-content/uploads/2025/09/mtg.jpg
ORGANIZER;CN="Neighborhood Comics":MAILTO:team@neighborhoodcomics.com
END:VEVENT
BEGIN:VEVENT
DTSTART;TZID=America/New_York:20270929T180000
DTEND;TZID=America/New_York:20270929T210000
DTSTAMP:20260420T170254
CREATED:20230817T153727Z
LAST-MODIFIED:20260320T005326Z
UID:10000108-1822240800-1822251600@events.neighborhoodcomics.com
SUMMARY:Neighborhood Drink N Draw
DESCRIPTION:Sequential artists and illustrators meet-up 2-3 x/month \n\n\n\n1st\, 3rd & 5th Wednesdays of the month – 6PM-9PM at White Whale Craft Ales. \n\n\n\nAll art supplies at Neighborhood Comics are 10% off from 6-7! \n\n\n\nHosted by Anthony Barbara. \n\n\n\nMeet and network with local sequential artists and illustrators while you sketch and imbibe with your new best friends.
URL:https://events.neighborhoodcomics.com/event/neighborhood-drink-n-draw/2027-09-29/
LOCATION:White Whale Craft Ales\, 1207 Bull St\, Savannah\, GA\, 31401\, United States
CATEGORIES:Artists
ATTACH;FMTTYPE=image/png:https://events.neighborhoodcomics.com/wp-content/uploads/2023/08/drinkdraw.png
END:VEVENT
BEGIN:VEVENT
DTSTART;TZID=America/New_York:20270929T110000
DTEND;TZID=America/New_York:20270929T190000
DTSTAMP:20260420T170254
CREATED:20260319T225003Z
LAST-MODIFIED:20260319T231636Z
UID:10002277-1822215600-1822244400@events.neighborhoodcomics.com
SUMMARY:New Comic Book Day!
DESCRIPTION:New comic books are released every Wednesday and we have a killer selection! Not finding the comics you want? Create a subscription and you’re guaranteed a copy of your favorite comic series\, manga or graphic novel.  \n\n\n\n\nStart a Subscription\n\n\n\nView the New This Week In-Stock List\n\n\n\nBook Clubs
URL:https://events.neighborhoodcomics.com/event/new-comic-book-day/2027-09-29/
LOCATION:GA
ATTACH;FMTTYPE=image/jpeg:https://events.neighborhoodcomics.com/wp-content/uploads/2026/03/IMG_0230.jpg
END:VEVENT
END:VCALENDAR