BEGIN:VCALENDAR
VERSION:2.0
PRODID:-//Upcoming Events in Savannah, GA - ECPv6.15.20//NONSGML v1.0//EN
CALSCALE:GREGORIAN
METHOD:PUBLISH
X-WR-CALNAME:Upcoming Events in Savannah, GA
X-ORIGINAL-URL:https://events.neighborhoodcomics.com
X-WR-CALDESC:Events for Upcoming Events in Savannah, GA
REFRESH-INTERVAL;VALUE=DURATION:PT1H
X-Robots-Tag:noindex
X-PUBLISHED-TTL:PT1H
BEGIN:VTIMEZONE
TZID:America/New_York
BEGIN:DAYLIGHT
TZOFFSETFROM:-0500
TZOFFSETTO:-0400
TZNAME:EDT
DTSTART:20280312T070000
END:DAYLIGHT
BEGIN:STANDARD
TZOFFSETFROM:-0400
TZOFFSETTO:-0500
TZNAME:EST
DTSTART:20281105T060000
END:STANDARD
BEGIN:DAYLIGHT
TZOFFSETFROM:-0500
TZOFFSETTO:-0400
TZNAME:EDT
DTSTART:20290311T070000
END:DAYLIGHT
BEGIN:STANDARD
TZOFFSETFROM:-0400
TZOFFSETTO:-0500
TZNAME:EST
DTSTART:20291104T060000
END:STANDARD
BEGIN:DAYLIGHT
TZOFFSETFROM:-0500
TZOFFSETTO:-0400
TZNAME:EDT
DTSTART:20300310T070000
END:DAYLIGHT
BEGIN:STANDARD
TZOFFSETFROM:-0400
TZOFFSETTO:-0500
TZNAME:EST
DTSTART:20301103T060000
END:STANDARD
END:VTIMEZONE
BEGIN:VEVENT
DTSTART;TZID=America/New_York:20290608T160000
DTEND;TZID=America/New_York:20290608T200000
DTSTAMP:20260421T200502
CREATED:20260320T004420Z
LAST-MODIFIED:20260320T004422Z
UID:10001943-1875628800-1875643200@events.neighborhoodcomics.com
SUMMARY:Friday Night Magic in Savannah
DESCRIPTION:FNM @ NBRHD! \n\n\n\nCome out for some Commander open play starting at 4PM. \n\n\n\n\nBook Clubs
URL:https://events.neighborhoodcomics.com/event/friday-night-magic-in-savannah/2029-06-08/
LOCATION:Neighborhood Comics\, 1205 Bull St.\, Savannah\, GA\, 31401\, United States
CATEGORIES:Community
ATTACH;FMTTYPE=image/jpeg:https://events.neighborhoodcomics.com/wp-content/uploads/2025/09/mtg.jpg
ORGANIZER;CN="Neighborhood Comics":MAILTO:team@neighborhoodcomics.com
END:VEVENT
BEGIN:VEVENT
DTSTART;TZID=America/New_York:20290606T180000
DTEND;TZID=America/New_York:20290606T210000
DTSTAMP:20260421T200502
CREATED:20230817T153919Z
LAST-MODIFIED:20230817T154622Z
UID:10002144-1875463200-1875474000@events.neighborhoodcomics.com
SUMMARY:Neighborhood Drink N Draw
DESCRIPTION:Sequential artists and illustrators meet-up 2x/month \n \n1st\, 3rd & 5th Wednesdays of the month – 6PM-9PM at White Whale Craft Ales. \nAll art supplies at Neighborhood Comics are 10% off from 6-7! \nHosted by Jamie Jones. \nMeet and network with local sequential artists and illustrators while you sketch and imbibe with your new best friends.
URL:https://events.neighborhoodcomics.com/event/neighborhood-drink-n-draw-2/2029-06-06/
LOCATION:White Whale Craft Ales\, 1207 Bull St\, Savannah\, GA\, 31401\, United States
CATEGORIES:Artists
ATTACH;FMTTYPE=image/png:https://events.neighborhoodcomics.com/wp-content/uploads/2023/08/drinkdraw.png
END:VEVENT
BEGIN:VEVENT
DTSTART;TZID=America/New_York:20290606T110000
DTEND;TZID=America/New_York:20290606T190000
DTSTAMP:20260421T200502
CREATED:20260319T225003Z
LAST-MODIFIED:20260319T231636Z
UID:10002365-1875438000-1875466800@events.neighborhoodcomics.com
SUMMARY:New Comic Book Day!
DESCRIPTION:New comic books are released every Wednesday and we have a killer selection! Not finding the comics you want? Create a subscription and you’re guaranteed a copy of your favorite comic series\, manga or graphic novel.  \n\n\n\n\nStart a Subscription\n\n\n\nView the New This Week In-Stock List\n\n\n\nBook Clubs
URL:https://events.neighborhoodcomics.com/event/new-comic-book-day/2029-06-06/
LOCATION:GA
ATTACH;FMTTYPE=image/jpeg:https://events.neighborhoodcomics.com/wp-content/uploads/2026/03/IMG_0230.jpg
END:VEVENT
BEGIN:VEVENT
DTSTART;TZID=America/New_York:20290605T000000
DTEND;TZID=America/New_York:20290605T235959
DTSTAMP:20260421T200502
CREATED:20250826T155718Z
LAST-MODIFIED:20260320T004738Z
UID:10001095-1875312000-1875398399@events.neighborhoodcomics.com
SUMMARY:2-for-1 Back Issues
DESCRIPTION:Every Tuesday\, all green ($3)\, yellow ($2) and blue ($1) label back issues are 2-for-1! \n\n\nBook Clubs
URL:https://events.neighborhoodcomics.com/event/2-for-1-back-issues/2029-06-05/
LOCATION:Neighborhood Comics\, 1205 Bull St.\, Savannah\, GA\, 31401\, United States
ATTACH;FMTTYPE=image/jpeg:https://events.neighborhoodcomics.com/wp-content/uploads/2025/08/backissues.jpg
ORGANIZER;CN="Neighborhood Comics":MAILTO:team@neighborhoodcomics.com
END:VEVENT
BEGIN:VEVENT
DTSTART;TZID=America/New_York:20290605T000000
DTEND;TZID=America/New_York:20290605T235959
DTSTAMP:20260421T200502
CREATED:20250527T183806Z
LAST-MODIFIED:20260319T210714Z
UID:10000694-1875312000-1875398399@events.neighborhoodcomics.com
SUMMARY:Doom Patrol Day
DESCRIPTION:On the HBO Doom Patrol adaptation\, it was on June 5 that the town of Cloverton threw a city-wide celebration of the most unlikely superhero team ever. We’re keeping that spirit going by offering HALF OFF any one Doom Patrol or Vertigo Comics release including single issues\, paperbacks and hardcovers.
URL:https://events.neighborhoodcomics.com/event/doom-patrol-day/2029-06-05/
LOCATION:Neighborhood Comics\, 1205 Bull St.\, Savannah\, GA\, 31401\, United States
CATEGORIES:Community,Free Comics
ATTACH;FMTTYPE=image/png:https://events.neighborhoodcomics.com/wp-content/uploads/2025/05/DPD2.png
ORGANIZER;CN="Neighborhood Comics":MAILTO:team@neighborhoodcomics.com
END:VEVENT
BEGIN:VEVENT
DTSTART;TZID=America/New_York:20290604T160000
DTEND;TZID=America/New_York:20290604T200000
DTSTAMP:20260421T200502
CREATED:20260319T225714Z
LAST-MODIFIED:20260320T145716Z
UID:10001677-1875283200-1875297600@events.neighborhoodcomics.com
SUMMARY:Magic the Gathering Mondays
DESCRIPTION:Join us Mondays from 4-8PM for Magic Mondays! New players are welcome. We’ll have extra decks available on hand to borrow for anyone wanting to try out the game!
URL:https://events.neighborhoodcomics.com/event/magic-the-gathering-mondays-2/2029-06-04/
LOCATION:GA
CATEGORIES:Community
ATTACH;FMTTYPE=image/jpeg:https://events.neighborhoodcomics.com/wp-content/uploads/2025/09/mtg.jpg
END:VEVENT
BEGIN:VEVENT
DTSTART;TZID=America/New_York:20290601T160000
DTEND;TZID=America/New_York:20290601T200000
DTSTAMP:20260421T200502
CREATED:20260320T004420Z
LAST-MODIFIED:20260320T004422Z
UID:10001942-1875024000-1875038400@events.neighborhoodcomics.com
SUMMARY:Friday Night Magic in Savannah
DESCRIPTION:FNM @ NBRHD! \n\n\n\nCome out for some Commander open play starting at 4PM. \n\n\n\n\nBook Clubs
URL:https://events.neighborhoodcomics.com/event/friday-night-magic-in-savannah/2029-06-01/
LOCATION:Neighborhood Comics\, 1205 Bull St.\, Savannah\, GA\, 31401\, United States
CATEGORIES:Community
ATTACH;FMTTYPE=image/jpeg:https://events.neighborhoodcomics.com/wp-content/uploads/2025/09/mtg.jpg
ORGANIZER;CN="Neighborhood Comics":MAILTO:team@neighborhoodcomics.com
END:VEVENT
BEGIN:VEVENT
DTSTART;TZID=America/New_York:20290530T180000
DTEND;TZID=America/New_York:20290530T210000
DTSTAMP:20260421T200502
CREATED:20230817T153727Z
LAST-MODIFIED:20260320T005326Z
UID:10002127-1874858400-1874869200@events.neighborhoodcomics.com
SUMMARY:Neighborhood Drink N Draw
DESCRIPTION:Sequential artists and illustrators meet-up 2-3 x/month \n\n\n\n1st\, 3rd & 5th Wednesdays of the month – 6PM-9PM at White Whale Craft Ales. \n\n\n\nAll art supplies at Neighborhood Comics are 10% off from 6-7! \n\n\n\nHosted by Anthony Barbara. \n\n\n\nMeet and network with local sequential artists and illustrators while you sketch and imbibe with your new best friends.
URL:https://events.neighborhoodcomics.com/event/neighborhood-drink-n-draw/2029-05-30/
LOCATION:White Whale Craft Ales\, 1207 Bull St\, Savannah\, GA\, 31401\, United States
CATEGORIES:Artists
ATTACH;FMTTYPE=image/png:https://events.neighborhoodcomics.com/wp-content/uploads/2023/08/drinkdraw.png
END:VEVENT
BEGIN:VEVENT
DTSTART;TZID=America/New_York:20290530T110000
DTEND;TZID=America/New_York:20290530T190000
DTSTAMP:20260421T200502
CREATED:20260319T225003Z
LAST-MODIFIED:20260319T231636Z
UID:10002364-1874833200-1874862000@events.neighborhoodcomics.com
SUMMARY:New Comic Book Day!
DESCRIPTION:New comic books are released every Wednesday and we have a killer selection! Not finding the comics you want? Create a subscription and you’re guaranteed a copy of your favorite comic series\, manga or graphic novel.  \n\n\n\n\nStart a Subscription\n\n\n\nView the New This Week In-Stock List\n\n\n\nBook Clubs
URL:https://events.neighborhoodcomics.com/event/new-comic-book-day/2029-05-30/
LOCATION:GA
ATTACH;FMTTYPE=image/jpeg:https://events.neighborhoodcomics.com/wp-content/uploads/2026/03/IMG_0230.jpg
END:VEVENT
BEGIN:VEVENT
DTSTART;TZID=America/New_York:20290529T000000
DTEND;TZID=America/New_York:20290529T235959
DTSTAMP:20260421T200502
CREATED:20250826T155718Z
LAST-MODIFIED:20260320T004738Z
UID:10001094-1874707200-1874793599@events.neighborhoodcomics.com
SUMMARY:2-for-1 Back Issues
DESCRIPTION:Every Tuesday\, all green ($3)\, yellow ($2) and blue ($1) label back issues are 2-for-1! \n\n\nBook Clubs
URL:https://events.neighborhoodcomics.com/event/2-for-1-back-issues/2029-05-29/
LOCATION:Neighborhood Comics\, 1205 Bull St.\, Savannah\, GA\, 31401\, United States
ATTACH;FMTTYPE=image/jpeg:https://events.neighborhoodcomics.com/wp-content/uploads/2025/08/backissues.jpg
ORGANIZER;CN="Neighborhood Comics":MAILTO:team@neighborhoodcomics.com
END:VEVENT
BEGIN:VEVENT
DTSTART;TZID=America/New_York:20290528T160000
DTEND;TZID=America/New_York:20290528T200000
DTSTAMP:20260421T200502
CREATED:20260319T225714Z
LAST-MODIFIED:20260320T145716Z
UID:10001676-1874678400-1874692800@events.neighborhoodcomics.com
SUMMARY:Magic the Gathering Mondays
DESCRIPTION:Join us Mondays from 4-8PM for Magic Mondays! New players are welcome. We’ll have extra decks available on hand to borrow for anyone wanting to try out the game!
URL:https://events.neighborhoodcomics.com/event/magic-the-gathering-mondays-2/2029-05-28/
LOCATION:GA
CATEGORIES:Community
ATTACH;FMTTYPE=image/jpeg:https://events.neighborhoodcomics.com/wp-content/uploads/2025/09/mtg.jpg
END:VEVENT
BEGIN:VEVENT
DTSTART;TZID=America/New_York:20290527T110000
DTEND;TZID=America/New_York:20290527T130000
DTSTAMP:20260421T200502
CREATED:20260402T184539Z
LAST-MODIFIED:20260402T185049Z
UID:10002641-1874574000-1874581200@events.neighborhoodcomics.com
SUMMARY:Savage Zine Club
DESCRIPTION:If you are interested in meeting other zine creators\, showing off your collection\, or just learning about the medium\, come hang out! Last Sunday of every month.
URL:https://events.neighborhoodcomics.com/event/savage-zine-club/2029-05-27/
LOCATION:Neighborhood Comics\, 1205 Bull St.\, Savannah\, GA\, 31401\, United States
CATEGORIES:Book Clubs
ATTACH;FMTTYPE=image/jpeg:https://events.neighborhoodcomics.com/wp-content/uploads/2026/04/savzine.jpg
ORGANIZER;CN="SAVAGE FST":MAILTO:info@savagefst.com
END:VEVENT
BEGIN:VEVENT
DTSTART;TZID=America/New_York:20290525T160000
DTEND;TZID=America/New_York:20290525T200000
DTSTAMP:20260421T200502
CREATED:20260320T004420Z
LAST-MODIFIED:20260320T004422Z
UID:10001941-1874419200-1874433600@events.neighborhoodcomics.com
SUMMARY:Friday Night Magic in Savannah
DESCRIPTION:FNM @ NBRHD! \n\n\n\nCome out for some Commander open play starting at 4PM. \n\n\n\n\nBook Clubs
URL:https://events.neighborhoodcomics.com/event/friday-night-magic-in-savannah/2029-05-25/
LOCATION:Neighborhood Comics\, 1205 Bull St.\, Savannah\, GA\, 31401\, United States
CATEGORIES:Community
ATTACH;FMTTYPE=image/jpeg:https://events.neighborhoodcomics.com/wp-content/uploads/2025/09/mtg.jpg
ORGANIZER;CN="Neighborhood Comics":MAILTO:team@neighborhoodcomics.com
END:VEVENT
BEGIN:VEVENT
DTSTART;TZID=America/New_York:20290523T110000
DTEND;TZID=America/New_York:20290523T190000
DTSTAMP:20260421T200502
CREATED:20260319T225003Z
LAST-MODIFIED:20260319T231636Z
UID:10002363-1874228400-1874257200@events.neighborhoodcomics.com
SUMMARY:New Comic Book Day!
DESCRIPTION:New comic books are released every Wednesday and we have a killer selection! Not finding the comics you want? Create a subscription and you’re guaranteed a copy of your favorite comic series\, manga or graphic novel.  \n\n\n\n\nStart a Subscription\n\n\n\nView the New This Week In-Stock List\n\n\n\nBook Clubs
URL:https://events.neighborhoodcomics.com/event/new-comic-book-day/2029-05-23/
LOCATION:GA
ATTACH;FMTTYPE=image/jpeg:https://events.neighborhoodcomics.com/wp-content/uploads/2026/03/IMG_0230.jpg
END:VEVENT
BEGIN:VEVENT
DTSTART;TZID=America/New_York:20290522T000000
DTEND;TZID=America/New_York:20290522T235959
DTSTAMP:20260421T200502
CREATED:20250826T155718Z
LAST-MODIFIED:20260320T004738Z
UID:10001093-1874102400-1874188799@events.neighborhoodcomics.com
SUMMARY:2-for-1 Back Issues
DESCRIPTION:Every Tuesday\, all green ($3)\, yellow ($2) and blue ($1) label back issues are 2-for-1! \n\n\nBook Clubs
URL:https://events.neighborhoodcomics.com/event/2-for-1-back-issues/2029-05-22/
LOCATION:Neighborhood Comics\, 1205 Bull St.\, Savannah\, GA\, 31401\, United States
ATTACH;FMTTYPE=image/jpeg:https://events.neighborhoodcomics.com/wp-content/uploads/2025/08/backissues.jpg
ORGANIZER;CN="Neighborhood Comics":MAILTO:team@neighborhoodcomics.com
END:VEVENT
BEGIN:VEVENT
DTSTART;TZID=America/New_York:20290521T160000
DTEND;TZID=America/New_York:20290521T200000
DTSTAMP:20260421T200502
CREATED:20260319T225714Z
LAST-MODIFIED:20260320T145716Z
UID:10001675-1874073600-1874088000@events.neighborhoodcomics.com
SUMMARY:Magic the Gathering Mondays
DESCRIPTION:Join us Mondays from 4-8PM for Magic Mondays! New players are welcome. We’ll have extra decks available on hand to borrow for anyone wanting to try out the game!
URL:https://events.neighborhoodcomics.com/event/magic-the-gathering-mondays-2/2029-05-21/
LOCATION:GA
CATEGORIES:Community
ATTACH;FMTTYPE=image/jpeg:https://events.neighborhoodcomics.com/wp-content/uploads/2025/09/mtg.jpg
END:VEVENT
BEGIN:VEVENT
DTSTART;TZID=America/New_York:20290518T160000
DTEND;TZID=America/New_York:20290518T200000
DTSTAMP:20260421T200502
CREATED:20260320T004420Z
LAST-MODIFIED:20260320T004422Z
UID:10001940-1873814400-1873828800@events.neighborhoodcomics.com
SUMMARY:Friday Night Magic in Savannah
DESCRIPTION:FNM @ NBRHD! \n\n\n\nCome out for some Commander open play starting at 4PM. \n\n\n\n\nBook Clubs
URL:https://events.neighborhoodcomics.com/event/friday-night-magic-in-savannah/2029-05-18/
LOCATION:Neighborhood Comics\, 1205 Bull St.\, Savannah\, GA\, 31401\, United States
CATEGORIES:Community
ATTACH;FMTTYPE=image/jpeg:https://events.neighborhoodcomics.com/wp-content/uploads/2025/09/mtg.jpg
ORGANIZER;CN="Neighborhood Comics":MAILTO:team@neighborhoodcomics.com
END:VEVENT
BEGIN:VEVENT
DTSTART;TZID=America/New_York:20290516T180000
DTEND;TZID=America/New_York:20290516T210000
DTSTAMP:20260421T200502
CREATED:20230817T154036Z
LAST-MODIFIED:20230817T154622Z
UID:10002174-1873648800-1873659600@events.neighborhoodcomics.com
SUMMARY:Neighborhood Drink N Draw
DESCRIPTION:Sequential artists and illustrators meet-up 2x/month \n \n1st\, 3rd & 5th Wednesdays of the month – 6PM-9PM at White Whale Craft Ales. \nAll art supplies at Neighborhood Comics are 10% off from 6-7! \nHosted by Jamie Jones. \nMeet and network with local sequential artists and illustrators while you sketch and imbibe with your new best friends.
URL:https://events.neighborhoodcomics.com/event/neighborhood-drink-n-draw-3/2029-05-16/
LOCATION:White Whale Craft Ales\, 1207 Bull St\, Savannah\, GA\, 31401\, United States
CATEGORIES:Artists
ATTACH;FMTTYPE=image/png:https://events.neighborhoodcomics.com/wp-content/uploads/2023/08/drinkdraw.png
END:VEVENT
BEGIN:VEVENT
DTSTART;TZID=America/New_York:20290516T110000
DTEND;TZID=America/New_York:20290516T190000
DTSTAMP:20260421T200502
CREATED:20260319T225003Z
LAST-MODIFIED:20260319T231636Z
UID:10002362-1873623600-1873652400@events.neighborhoodcomics.com
SUMMARY:New Comic Book Day!
DESCRIPTION:New comic books are released every Wednesday and we have a killer selection! Not finding the comics you want? Create a subscription and you’re guaranteed a copy of your favorite comic series\, manga or graphic novel.  \n\n\n\n\nStart a Subscription\n\n\n\nView the New This Week In-Stock List\n\n\n\nBook Clubs
URL:https://events.neighborhoodcomics.com/event/new-comic-book-day/2029-05-16/
LOCATION:GA
ATTACH;FMTTYPE=image/jpeg:https://events.neighborhoodcomics.com/wp-content/uploads/2026/03/IMG_0230.jpg
END:VEVENT
BEGIN:VEVENT
DTSTART;TZID=America/New_York:20290515T000000
DTEND;TZID=America/New_York:20290515T235959
DTSTAMP:20260421T200502
CREATED:20250826T155718Z
LAST-MODIFIED:20260320T004738Z
UID:10001092-1873497600-1873583999@events.neighborhoodcomics.com
SUMMARY:2-for-1 Back Issues
DESCRIPTION:Every Tuesday\, all green ($3)\, yellow ($2) and blue ($1) label back issues are 2-for-1! \n\n\nBook Clubs
URL:https://events.neighborhoodcomics.com/event/2-for-1-back-issues/2029-05-15/
LOCATION:Neighborhood Comics\, 1205 Bull St.\, Savannah\, GA\, 31401\, United States
ATTACH;FMTTYPE=image/jpeg:https://events.neighborhoodcomics.com/wp-content/uploads/2025/08/backissues.jpg
ORGANIZER;CN="Neighborhood Comics":MAILTO:team@neighborhoodcomics.com
END:VEVENT
BEGIN:VEVENT
DTSTART;TZID=America/New_York:20290514T160000
DTEND;TZID=America/New_York:20290514T200000
DTSTAMP:20260421T200502
CREATED:20260319T225714Z
LAST-MODIFIED:20260320T145716Z
UID:10001674-1873468800-1873483200@events.neighborhoodcomics.com
SUMMARY:Magic the Gathering Mondays
DESCRIPTION:Join us Mondays from 4-8PM for Magic Mondays! New players are welcome. We’ll have extra decks available on hand to borrow for anyone wanting to try out the game!
URL:https://events.neighborhoodcomics.com/event/magic-the-gathering-mondays-2/2029-05-14/
LOCATION:GA
CATEGORIES:Community
ATTACH;FMTTYPE=image/jpeg:https://events.neighborhoodcomics.com/wp-content/uploads/2025/09/mtg.jpg
END:VEVENT
BEGIN:VEVENT
DTSTART;TZID=America/New_York:20290513T170000
DTEND;TZID=America/New_York:20290513T190000
DTSTAMP:20260421T200502
CREATED:20260319T211129Z
LAST-MODIFIED:20260320T003528Z
UID:10002101-1873386000-1873393200@events.neighborhoodcomics.com
SUMMARY:Comics with Kate
DESCRIPTION:Second Sunday of every month from 5-7PM. Hosted by comic artist Kate Sherron. \n\n\n\nCheck the Discord channel for the current book and any schedule changes. \n\n\nBook Clubs
URL:https://events.neighborhoodcomics.com/event/comics-with-kate-5/2029-05-13/
LOCATION:Neighborhood Comics\, 1205 Bull St.\, Savannah\, GA\, 31401\, United States
CATEGORIES:Book Clubs
ATTACH;FMTTYPE=image/jpeg:https://events.neighborhoodcomics.com/wp-content/uploads/2024/02/katevent.jpg
ORGANIZER;CN="Neighborhood Comics":MAILTO:team@neighborhoodcomics.com
END:VEVENT
BEGIN:VEVENT
DTSTART;TZID=America/New_York:20290511T160000
DTEND;TZID=America/New_York:20290511T200000
DTSTAMP:20260421T200502
CREATED:20260320T004420Z
LAST-MODIFIED:20260320T004422Z
UID:10001939-1873209600-1873224000@events.neighborhoodcomics.com
SUMMARY:Friday Night Magic in Savannah
DESCRIPTION:FNM @ NBRHD! \n\n\n\nCome out for some Commander open play starting at 4PM. \n\n\n\n\nBook Clubs
URL:https://events.neighborhoodcomics.com/event/friday-night-magic-in-savannah/2029-05-11/
LOCATION:Neighborhood Comics\, 1205 Bull St.\, Savannah\, GA\, 31401\, United States
CATEGORIES:Community
ATTACH;FMTTYPE=image/jpeg:https://events.neighborhoodcomics.com/wp-content/uploads/2025/09/mtg.jpg
ORGANIZER;CN="Neighborhood Comics":MAILTO:team@neighborhoodcomics.com
END:VEVENT
BEGIN:VEVENT
DTSTART;TZID=America/New_York:20290509T110000
DTEND;TZID=America/New_York:20290509T190000
DTSTAMP:20260421T200502
CREATED:20260319T225003Z
LAST-MODIFIED:20260319T231636Z
UID:10002361-1873018800-1873047600@events.neighborhoodcomics.com
SUMMARY:New Comic Book Day!
DESCRIPTION:New comic books are released every Wednesday and we have a killer selection! Not finding the comics you want? Create a subscription and you’re guaranteed a copy of your favorite comic series\, manga or graphic novel.  \n\n\n\n\nStart a Subscription\n\n\n\nView the New This Week In-Stock List\n\n\n\nBook Clubs
URL:https://events.neighborhoodcomics.com/event/new-comic-book-day/2029-05-09/
LOCATION:GA
ATTACH;FMTTYPE=image/jpeg:https://events.neighborhoodcomics.com/wp-content/uploads/2026/03/IMG_0230.jpg
END:VEVENT
BEGIN:VEVENT
DTSTART;TZID=America/New_York:20290508T000000
DTEND;TZID=America/New_York:20290508T235959
DTSTAMP:20260421T200502
CREATED:20250826T155718Z
LAST-MODIFIED:20260320T004738Z
UID:10001091-1872892800-1872979199@events.neighborhoodcomics.com
SUMMARY:2-for-1 Back Issues
DESCRIPTION:Every Tuesday\, all green ($3)\, yellow ($2) and blue ($1) label back issues are 2-for-1! \n\n\nBook Clubs
URL:https://events.neighborhoodcomics.com/event/2-for-1-back-issues/2029-05-08/
LOCATION:Neighborhood Comics\, 1205 Bull St.\, Savannah\, GA\, 31401\, United States
ATTACH;FMTTYPE=image/jpeg:https://events.neighborhoodcomics.com/wp-content/uploads/2025/08/backissues.jpg
ORGANIZER;CN="Neighborhood Comics":MAILTO:team@neighborhoodcomics.com
END:VEVENT
BEGIN:VEVENT
DTSTART;TZID=America/New_York:20290507T160000
DTEND;TZID=America/New_York:20290507T200000
DTSTAMP:20260421T200502
CREATED:20260319T225714Z
LAST-MODIFIED:20260320T145716Z
UID:10001673-1872864000-1872878400@events.neighborhoodcomics.com
SUMMARY:Magic the Gathering Mondays
DESCRIPTION:Join us Mondays from 4-8PM for Magic Mondays! New players are welcome. We’ll have extra decks available on hand to borrow for anyone wanting to try out the game!
URL:https://events.neighborhoodcomics.com/event/magic-the-gathering-mondays-2/2029-05-07/
LOCATION:GA
CATEGORIES:Community
ATTACH;FMTTYPE=image/jpeg:https://events.neighborhoodcomics.com/wp-content/uploads/2025/09/mtg.jpg
END:VEVENT
BEGIN:VEVENT
DTSTART;TZID=America/New_York:20290504T160000
DTEND;TZID=America/New_York:20290504T200000
DTSTAMP:20260421T200502
CREATED:20260320T004420Z
LAST-MODIFIED:20260320T004422Z
UID:10001938-1872604800-1872619200@events.neighborhoodcomics.com
SUMMARY:Friday Night Magic in Savannah
DESCRIPTION:FNM @ NBRHD! \n\n\n\nCome out for some Commander open play starting at 4PM. \n\n\n\n\nBook Clubs
URL:https://events.neighborhoodcomics.com/event/friday-night-magic-in-savannah/2029-05-04/
LOCATION:Neighborhood Comics\, 1205 Bull St.\, Savannah\, GA\, 31401\, United States
CATEGORIES:Community
ATTACH;FMTTYPE=image/jpeg:https://events.neighborhoodcomics.com/wp-content/uploads/2025/09/mtg.jpg
ORGANIZER;CN="Neighborhood Comics":MAILTO:team@neighborhoodcomics.com
END:VEVENT
BEGIN:VEVENT
DTSTART;TZID=America/New_York:20290502T180000
DTEND;TZID=America/New_York:20290502T210000
DTSTAMP:20260421T200502
CREATED:20230817T153919Z
LAST-MODIFIED:20230817T154622Z
UID:10002143-1872439200-1872450000@events.neighborhoodcomics.com
SUMMARY:Neighborhood Drink N Draw
DESCRIPTION:Sequential artists and illustrators meet-up 2x/month \n \n1st\, 3rd & 5th Wednesdays of the month – 6PM-9PM at White Whale Craft Ales. \nAll art supplies at Neighborhood Comics are 10% off from 6-7! \nHosted by Jamie Jones. \nMeet and network with local sequential artists and illustrators while you sketch and imbibe with your new best friends.
URL:https://events.neighborhoodcomics.com/event/neighborhood-drink-n-draw-2/2029-05-02/
LOCATION:White Whale Craft Ales\, 1207 Bull St\, Savannah\, GA\, 31401\, United States
CATEGORIES:Artists
ATTACH;FMTTYPE=image/png:https://events.neighborhoodcomics.com/wp-content/uploads/2023/08/drinkdraw.png
END:VEVENT
BEGIN:VEVENT
DTSTART;TZID=America/New_York:20290502T110000
DTEND;TZID=America/New_York:20290502T190000
DTSTAMP:20260421T200502
CREATED:20260319T225003Z
LAST-MODIFIED:20260319T231636Z
UID:10002360-1872414000-1872442800@events.neighborhoodcomics.com
SUMMARY:New Comic Book Day!
DESCRIPTION:New comic books are released every Wednesday and we have a killer selection! Not finding the comics you want? Create a subscription and you’re guaranteed a copy of your favorite comic series\, manga or graphic novel.  \n\n\n\n\nStart a Subscription\n\n\n\nView the New This Week In-Stock List\n\n\n\nBook Clubs
URL:https://events.neighborhoodcomics.com/event/new-comic-book-day/2029-05-02/
LOCATION:GA
ATTACH;FMTTYPE=image/jpeg:https://events.neighborhoodcomics.com/wp-content/uploads/2026/03/IMG_0230.jpg
END:VEVENT
BEGIN:VEVENT
DTSTART;TZID=America/New_York:20290501T000000
DTEND;TZID=America/New_York:20290501T235959
DTSTAMP:20260421T200502
CREATED:20250826T155718Z
LAST-MODIFIED:20260320T004738Z
UID:10001090-1872288000-1872374399@events.neighborhoodcomics.com
SUMMARY:2-for-1 Back Issues
DESCRIPTION:Every Tuesday\, all green ($3)\, yellow ($2) and blue ($1) label back issues are 2-for-1! \n\n\nBook Clubs
URL:https://events.neighborhoodcomics.com/event/2-for-1-back-issues/2029-05-01/
LOCATION:Neighborhood Comics\, 1205 Bull St.\, Savannah\, GA\, 31401\, United States
ATTACH;FMTTYPE=image/jpeg:https://events.neighborhoodcomics.com/wp-content/uploads/2025/08/backissues.jpg
ORGANIZER;CN="Neighborhood Comics":MAILTO:team@neighborhoodcomics.com
END:VEVENT
END:VCALENDAR