BEGIN:VCALENDAR
VERSION:2.0
PRODID:-//Upcoming Events in Savannah, GA - ECPv6.15.20//NONSGML v1.0//EN
CALSCALE:GREGORIAN
METHOD:PUBLISH
X-WR-CALNAME:Upcoming Events in Savannah, GA
X-ORIGINAL-URL:https://events.neighborhoodcomics.com
X-WR-CALDESC:Events for Upcoming Events in Savannah, GA
REFRESH-INTERVAL;VALUE=DURATION:PT1H
X-Robots-Tag:noindex
X-PUBLISHED-TTL:PT1H
BEGIN:VTIMEZONE
TZID:America/New_York
BEGIN:DAYLIGHT
TZOFFSETFROM:-0500
TZOFFSETTO:-0400
TZNAME:EDT
DTSTART:20250309T070000
END:DAYLIGHT
BEGIN:STANDARD
TZOFFSETFROM:-0400
TZOFFSETTO:-0500
TZNAME:EST
DTSTART:20251102T060000
END:STANDARD
BEGIN:DAYLIGHT
TZOFFSETFROM:-0500
TZOFFSETTO:-0400
TZNAME:EDT
DTSTART:20260308T070000
END:DAYLIGHT
BEGIN:STANDARD
TZOFFSETFROM:-0400
TZOFFSETTO:-0500
TZNAME:EST
DTSTART:20261101T060000
END:STANDARD
BEGIN:DAYLIGHT
TZOFFSETFROM:-0500
TZOFFSETTO:-0400
TZNAME:EDT
DTSTART:20270314T070000
END:DAYLIGHT
BEGIN:STANDARD
TZOFFSETFROM:-0400
TZOFFSETTO:-0500
TZNAME:EST
DTSTART:20271107T060000
END:STANDARD
BEGIN:DAYLIGHT
TZOFFSETFROM:-0500
TZOFFSETTO:-0400
TZNAME:EDT
DTSTART:20280312T070000
END:DAYLIGHT
BEGIN:STANDARD
TZOFFSETFROM:-0400
TZOFFSETTO:-0500
TZNAME:EST
DTSTART:20281105T060000
END:STANDARD
BEGIN:DAYLIGHT
TZOFFSETFROM:-0500
TZOFFSETTO:-0400
TZNAME:EDT
DTSTART:20290311T070000
END:DAYLIGHT
BEGIN:STANDARD
TZOFFSETFROM:-0400
TZOFFSETTO:-0500
TZNAME:EST
DTSTART:20291104T060000
END:STANDARD
END:VTIMEZONE
BEGIN:VEVENT
DTSTART;TZID=America/New_York:20260426T190000
DTEND;TZID=America/New_York:20260426T210000
DTSTAMP:20260422T154212
CREATED:20260422T165541Z
LAST-MODIFIED:20260422T165541Z
UID:10002678-1777230000-1777237200@events.neighborhoodcomics.com
SUMMARY:Open CoMIC Night
DESCRIPTION:Join local writers and artists as they share their comic creations. You can participate by having a digital link to your comic at the ready. Sign up at the door.
URL:https://events.neighborhoodcomics.com/event/open-comic-night/2026-04-26/
LOCATION:Neighborhood Comics\, 1205 Bull St.\, Savannah\, GA\, 31401\, United States
CATEGORIES:Artists,Community,Readers
ATTACH;FMTTYPE=image/jpeg:https://events.neighborhoodcomics.com/wp-content/uploads/2026/04/utot.jpg
END:VEVENT
BEGIN:VEVENT
DTSTART;TZID=America/New_York:20260531T190000
DTEND;TZID=America/New_York:20260531T210000
DTSTAMP:20260422T154212
CREATED:20260422T165541Z
LAST-MODIFIED:20260422T165541Z
UID:10002679-1780254000-1780261200@events.neighborhoodcomics.com
SUMMARY:Open CoMIC Night
DESCRIPTION:Join local writers and artists as they share their comic creations. You can participate by having a digital link to your comic at the ready. Sign up at the door.
URL:https://events.neighborhoodcomics.com/event/open-comic-night/2026-05-31/
LOCATION:Neighborhood Comics\, 1205 Bull St.\, Savannah\, GA\, 31401\, United States
CATEGORIES:Artists,Community,Readers
ATTACH;FMTTYPE=image/jpeg:https://events.neighborhoodcomics.com/wp-content/uploads/2026/04/utot.jpg
END:VEVENT
BEGIN:VEVENT
DTSTART;TZID=America/New_York:20260628T190000
DTEND;TZID=America/New_York:20260628T210000
DTSTAMP:20260422T154212
CREATED:20260422T165541Z
LAST-MODIFIED:20260422T165541Z
UID:10002680-1782673200-1782680400@events.neighborhoodcomics.com
SUMMARY:Open CoMIC Night
DESCRIPTION:Join local writers and artists as they share their comic creations. You can participate by having a digital link to your comic at the ready. Sign up at the door.
URL:https://events.neighborhoodcomics.com/event/open-comic-night/2026-06-28/
LOCATION:Neighborhood Comics\, 1205 Bull St.\, Savannah\, GA\, 31401\, United States
CATEGORIES:Artists,Community,Readers
ATTACH;FMTTYPE=image/jpeg:https://events.neighborhoodcomics.com/wp-content/uploads/2026/04/utot.jpg
END:VEVENT
BEGIN:VEVENT
DTSTART;TZID=America/New_York:20260726T190000
DTEND;TZID=America/New_York:20260726T210000
DTSTAMP:20260422T154212
CREATED:20260422T165541Z
LAST-MODIFIED:20260422T165541Z
UID:10002681-1785092400-1785099600@events.neighborhoodcomics.com
SUMMARY:Open CoMIC Night
DESCRIPTION:Join local writers and artists as they share their comic creations. You can participate by having a digital link to your comic at the ready. Sign up at the door.
URL:https://events.neighborhoodcomics.com/event/open-comic-night/2026-07-26/
LOCATION:Neighborhood Comics\, 1205 Bull St.\, Savannah\, GA\, 31401\, United States
CATEGORIES:Artists,Community,Readers
ATTACH;FMTTYPE=image/jpeg:https://events.neighborhoodcomics.com/wp-content/uploads/2026/04/utot.jpg
END:VEVENT
BEGIN:VEVENT
DTSTART;TZID=America/New_York:20260830T190000
DTEND;TZID=America/New_York:20260830T210000
DTSTAMP:20260422T154212
CREATED:20260422T165541Z
LAST-MODIFIED:20260422T165541Z
UID:10002682-1788116400-1788123600@events.neighborhoodcomics.com
SUMMARY:Open CoMIC Night
DESCRIPTION:Join local writers and artists as they share their comic creations. You can participate by having a digital link to your comic at the ready. Sign up at the door.
URL:https://events.neighborhoodcomics.com/event/open-comic-night/2026-08-30/
LOCATION:Neighborhood Comics\, 1205 Bull St.\, Savannah\, GA\, 31401\, United States
CATEGORIES:Artists,Community,Readers
ATTACH;FMTTYPE=image/jpeg:https://events.neighborhoodcomics.com/wp-content/uploads/2026/04/utot.jpg
END:VEVENT
BEGIN:VEVENT
DTSTART;TZID=America/New_York:20260927T190000
DTEND;TZID=America/New_York:20260927T210000
DTSTAMP:20260422T154212
CREATED:20260422T165541Z
LAST-MODIFIED:20260422T165541Z
UID:10002683-1790535600-1790542800@events.neighborhoodcomics.com
SUMMARY:Open CoMIC Night
DESCRIPTION:Join local writers and artists as they share their comic creations. You can participate by having a digital link to your comic at the ready. Sign up at the door.
URL:https://events.neighborhoodcomics.com/event/open-comic-night/2026-09-27/
LOCATION:Neighborhood Comics\, 1205 Bull St.\, Savannah\, GA\, 31401\, United States
CATEGORIES:Artists,Community,Readers
ATTACH;FMTTYPE=image/jpeg:https://events.neighborhoodcomics.com/wp-content/uploads/2026/04/utot.jpg
END:VEVENT
BEGIN:VEVENT
DTSTART;TZID=America/New_York:20261025T190000
DTEND;TZID=America/New_York:20261025T210000
DTSTAMP:20260422T154212
CREATED:20260422T165541Z
LAST-MODIFIED:20260422T165541Z
UID:10002684-1792954800-1792962000@events.neighborhoodcomics.com
SUMMARY:Open CoMIC Night
DESCRIPTION:Join local writers and artists as they share their comic creations. You can participate by having a digital link to your comic at the ready. Sign up at the door.
URL:https://events.neighborhoodcomics.com/event/open-comic-night/2026-10-25/
LOCATION:Neighborhood Comics\, 1205 Bull St.\, Savannah\, GA\, 31401\, United States
CATEGORIES:Artists,Community,Readers
ATTACH;FMTTYPE=image/jpeg:https://events.neighborhoodcomics.com/wp-content/uploads/2026/04/utot.jpg
END:VEVENT
BEGIN:VEVENT
DTSTART;TZID=America/New_York:20261129T190000
DTEND;TZID=America/New_York:20261129T210000
DTSTAMP:20260422T154212
CREATED:20260422T165541Z
LAST-MODIFIED:20260422T165541Z
UID:10002685-1795978800-1795986000@events.neighborhoodcomics.com
SUMMARY:Open CoMIC Night
DESCRIPTION:Join local writers and artists as they share their comic creations. You can participate by having a digital link to your comic at the ready. Sign up at the door.
URL:https://events.neighborhoodcomics.com/event/open-comic-night/2026-11-29/
LOCATION:Neighborhood Comics\, 1205 Bull St.\, Savannah\, GA\, 31401\, United States
CATEGORIES:Artists,Community,Readers
ATTACH;FMTTYPE=image/jpeg:https://events.neighborhoodcomics.com/wp-content/uploads/2026/04/utot.jpg
END:VEVENT
BEGIN:VEVENT
DTSTART;TZID=America/New_York:20261227T190000
DTEND;TZID=America/New_York:20261227T210000
DTSTAMP:20260422T154212
CREATED:20260422T165541Z
LAST-MODIFIED:20260422T165541Z
UID:10002686-1798398000-1798405200@events.neighborhoodcomics.com
SUMMARY:Open CoMIC Night
DESCRIPTION:Join local writers and artists as they share their comic creations. You can participate by having a digital link to your comic at the ready. Sign up at the door.
URL:https://events.neighborhoodcomics.com/event/open-comic-night/2026-12-27/
LOCATION:Neighborhood Comics\, 1205 Bull St.\, Savannah\, GA\, 31401\, United States
CATEGORIES:Artists,Community,Readers
ATTACH;FMTTYPE=image/jpeg:https://events.neighborhoodcomics.com/wp-content/uploads/2026/04/utot.jpg
END:VEVENT
BEGIN:VEVENT
DTSTART;TZID=America/New_York:20270131T190000
DTEND;TZID=America/New_York:20270131T210000
DTSTAMP:20260422T154212
CREATED:20260422T165541Z
LAST-MODIFIED:20260422T165541Z
UID:10002687-1801422000-1801429200@events.neighborhoodcomics.com
SUMMARY:Open CoMIC Night
DESCRIPTION:Join local writers and artists as they share their comic creations. You can participate by having a digital link to your comic at the ready. Sign up at the door.
URL:https://events.neighborhoodcomics.com/event/open-comic-night/2027-01-31/
LOCATION:Neighborhood Comics\, 1205 Bull St.\, Savannah\, GA\, 31401\, United States
CATEGORIES:Artists,Community,Readers
ATTACH;FMTTYPE=image/jpeg:https://events.neighborhoodcomics.com/wp-content/uploads/2026/04/utot.jpg
END:VEVENT
BEGIN:VEVENT
DTSTART;TZID=America/New_York:20270228T190000
DTEND;TZID=America/New_York:20270228T210000
DTSTAMP:20260422T154212
CREATED:20260422T165541Z
LAST-MODIFIED:20260422T165541Z
UID:10002688-1803841200-1803848400@events.neighborhoodcomics.com
SUMMARY:Open CoMIC Night
DESCRIPTION:Join local writers and artists as they share their comic creations. You can participate by having a digital link to your comic at the ready. Sign up at the door.
URL:https://events.neighborhoodcomics.com/event/open-comic-night/2027-02-28/
LOCATION:Neighborhood Comics\, 1205 Bull St.\, Savannah\, GA\, 31401\, United States
CATEGORIES:Artists,Community,Readers
ATTACH;FMTTYPE=image/jpeg:https://events.neighborhoodcomics.com/wp-content/uploads/2026/04/utot.jpg
END:VEVENT
BEGIN:VEVENT
DTSTART;TZID=America/New_York:20270328T190000
DTEND;TZID=America/New_York:20270328T210000
DTSTAMP:20260422T154212
CREATED:20260422T165541Z
LAST-MODIFIED:20260422T165541Z
UID:10002689-1806260400-1806267600@events.neighborhoodcomics.com
SUMMARY:Open CoMIC Night
DESCRIPTION:Join local writers and artists as they share their comic creations. You can participate by having a digital link to your comic at the ready. Sign up at the door.
URL:https://events.neighborhoodcomics.com/event/open-comic-night/2027-03-28/
LOCATION:Neighborhood Comics\, 1205 Bull St.\, Savannah\, GA\, 31401\, United States
CATEGORIES:Artists,Community,Readers
ATTACH;FMTTYPE=image/jpeg:https://events.neighborhoodcomics.com/wp-content/uploads/2026/04/utot.jpg
END:VEVENT
BEGIN:VEVENT
DTSTART;TZID=America/New_York:20270425T190000
DTEND;TZID=America/New_York:20270425T210000
DTSTAMP:20260422T154212
CREATED:20260422T165541Z
LAST-MODIFIED:20260422T165541Z
UID:10002690-1808679600-1808686800@events.neighborhoodcomics.com
SUMMARY:Open CoMIC Night
DESCRIPTION:Join local writers and artists as they share their comic creations. You can participate by having a digital link to your comic at the ready. Sign up at the door.
URL:https://events.neighborhoodcomics.com/event/open-comic-night/2027-04-25/
LOCATION:Neighborhood Comics\, 1205 Bull St.\, Savannah\, GA\, 31401\, United States
CATEGORIES:Artists,Community,Readers
ATTACH;FMTTYPE=image/jpeg:https://events.neighborhoodcomics.com/wp-content/uploads/2026/04/utot.jpg
END:VEVENT
BEGIN:VEVENT
DTSTART;TZID=America/New_York:20270530T190000
DTEND;TZID=America/New_York:20270530T210000
DTSTAMP:20260422T154212
CREATED:20260422T165541Z
LAST-MODIFIED:20260422T165541Z
UID:10002691-1811703600-1811710800@events.neighborhoodcomics.com
SUMMARY:Open CoMIC Night
DESCRIPTION:Join local writers and artists as they share their comic creations. You can participate by having a digital link to your comic at the ready. Sign up at the door.
URL:https://events.neighborhoodcomics.com/event/open-comic-night/2027-05-30/
LOCATION:Neighborhood Comics\, 1205 Bull St.\, Savannah\, GA\, 31401\, United States
CATEGORIES:Artists,Community,Readers
ATTACH;FMTTYPE=image/jpeg:https://events.neighborhoodcomics.com/wp-content/uploads/2026/04/utot.jpg
END:VEVENT
BEGIN:VEVENT
DTSTART;TZID=America/New_York:20270627T190000
DTEND;TZID=America/New_York:20270627T210000
DTSTAMP:20260422T154212
CREATED:20260422T165541Z
LAST-MODIFIED:20260422T165541Z
UID:10002692-1814122800-1814130000@events.neighborhoodcomics.com
SUMMARY:Open CoMIC Night
DESCRIPTION:Join local writers and artists as they share their comic creations. You can participate by having a digital link to your comic at the ready. Sign up at the door.
URL:https://events.neighborhoodcomics.com/event/open-comic-night/2027-06-27/
LOCATION:Neighborhood Comics\, 1205 Bull St.\, Savannah\, GA\, 31401\, United States
CATEGORIES:Artists,Community,Readers
ATTACH;FMTTYPE=image/jpeg:https://events.neighborhoodcomics.com/wp-content/uploads/2026/04/utot.jpg
END:VEVENT
BEGIN:VEVENT
DTSTART;TZID=America/New_York:20270725T190000
DTEND;TZID=America/New_York:20270725T210000
DTSTAMP:20260422T154212
CREATED:20260422T165541Z
LAST-MODIFIED:20260422T165541Z
UID:10002693-1816542000-1816549200@events.neighborhoodcomics.com
SUMMARY:Open CoMIC Night
DESCRIPTION:Join local writers and artists as they share their comic creations. You can participate by having a digital link to your comic at the ready. Sign up at the door.
URL:https://events.neighborhoodcomics.com/event/open-comic-night/2027-07-25/
LOCATION:Neighborhood Comics\, 1205 Bull St.\, Savannah\, GA\, 31401\, United States
CATEGORIES:Artists,Community,Readers
ATTACH;FMTTYPE=image/jpeg:https://events.neighborhoodcomics.com/wp-content/uploads/2026/04/utot.jpg
END:VEVENT
BEGIN:VEVENT
DTSTART;TZID=America/New_York:20270829T190000
DTEND;TZID=America/New_York:20270829T210000
DTSTAMP:20260422T154212
CREATED:20260422T165541Z
LAST-MODIFIED:20260422T165541Z
UID:10002694-1819566000-1819573200@events.neighborhoodcomics.com
SUMMARY:Open CoMIC Night
DESCRIPTION:Join local writers and artists as they share their comic creations. You can participate by having a digital link to your comic at the ready. Sign up at the door.
URL:https://events.neighborhoodcomics.com/event/open-comic-night/2027-08-29/
LOCATION:Neighborhood Comics\, 1205 Bull St.\, Savannah\, GA\, 31401\, United States
CATEGORIES:Artists,Community,Readers
ATTACH;FMTTYPE=image/jpeg:https://events.neighborhoodcomics.com/wp-content/uploads/2026/04/utot.jpg
END:VEVENT
BEGIN:VEVENT
DTSTART;TZID=America/New_York:20270926T190000
DTEND;TZID=America/New_York:20270926T210000
DTSTAMP:20260422T154212
CREATED:20260422T165541Z
LAST-MODIFIED:20260422T165541Z
UID:10002695-1821985200-1821992400@events.neighborhoodcomics.com
SUMMARY:Open CoMIC Night
DESCRIPTION:Join local writers and artists as they share their comic creations. You can participate by having a digital link to your comic at the ready. Sign up at the door.
URL:https://events.neighborhoodcomics.com/event/open-comic-night/2027-09-26/
LOCATION:Neighborhood Comics\, 1205 Bull St.\, Savannah\, GA\, 31401\, United States
CATEGORIES:Artists,Community,Readers
ATTACH;FMTTYPE=image/jpeg:https://events.neighborhoodcomics.com/wp-content/uploads/2026/04/utot.jpg
END:VEVENT
BEGIN:VEVENT
DTSTART;TZID=America/New_York:20271031T190000
DTEND;TZID=America/New_York:20271031T210000
DTSTAMP:20260422T154212
CREATED:20260422T165541Z
LAST-MODIFIED:20260422T165541Z
UID:10002696-1825009200-1825016400@events.neighborhoodcomics.com
SUMMARY:Open CoMIC Night
DESCRIPTION:Join local writers and artists as they share their comic creations. You can participate by having a digital link to your comic at the ready. Sign up at the door.
URL:https://events.neighborhoodcomics.com/event/open-comic-night/2027-10-31/
LOCATION:Neighborhood Comics\, 1205 Bull St.\, Savannah\, GA\, 31401\, United States
CATEGORIES:Artists,Community,Readers
ATTACH;FMTTYPE=image/jpeg:https://events.neighborhoodcomics.com/wp-content/uploads/2026/04/utot.jpg
END:VEVENT
BEGIN:VEVENT
DTSTART;TZID=America/New_York:20271128T190000
DTEND;TZID=America/New_York:20271128T210000
DTSTAMP:20260422T154212
CREATED:20260422T165541Z
LAST-MODIFIED:20260422T165541Z
UID:10002697-1827428400-1827435600@events.neighborhoodcomics.com
SUMMARY:Open CoMIC Night
DESCRIPTION:Join local writers and artists as they share their comic creations. You can participate by having a digital link to your comic at the ready. Sign up at the door.
URL:https://events.neighborhoodcomics.com/event/open-comic-night/2027-11-28/
LOCATION:Neighborhood Comics\, 1205 Bull St.\, Savannah\, GA\, 31401\, United States
CATEGORIES:Artists,Community,Readers
ATTACH;FMTTYPE=image/jpeg:https://events.neighborhoodcomics.com/wp-content/uploads/2026/04/utot.jpg
END:VEVENT
BEGIN:VEVENT
DTSTART;TZID=America/New_York:20271226T190000
DTEND;TZID=America/New_York:20271226T210000
DTSTAMP:20260422T154212
CREATED:20260422T165541Z
LAST-MODIFIED:20260422T165541Z
UID:10002698-1829847600-1829854800@events.neighborhoodcomics.com
SUMMARY:Open CoMIC Night
DESCRIPTION:Join local writers and artists as they share their comic creations. You can participate by having a digital link to your comic at the ready. Sign up at the door.
URL:https://events.neighborhoodcomics.com/event/open-comic-night/2027-12-26/
LOCATION:Neighborhood Comics\, 1205 Bull St.\, Savannah\, GA\, 31401\, United States
CATEGORIES:Artists,Community,Readers
ATTACH;FMTTYPE=image/jpeg:https://events.neighborhoodcomics.com/wp-content/uploads/2026/04/utot.jpg
END:VEVENT
BEGIN:VEVENT
DTSTART;TZID=America/New_York:20280130T190000
DTEND;TZID=America/New_York:20280130T210000
DTSTAMP:20260422T154212
CREATED:20260422T165541Z
LAST-MODIFIED:20260422T165541Z
UID:10002699-1832871600-1832878800@events.neighborhoodcomics.com
SUMMARY:Open CoMIC Night
DESCRIPTION:Join local writers and artists as they share their comic creations. You can participate by having a digital link to your comic at the ready. Sign up at the door.
URL:https://events.neighborhoodcomics.com/event/open-comic-night/2028-01-30/
LOCATION:Neighborhood Comics\, 1205 Bull St.\, Savannah\, GA\, 31401\, United States
CATEGORIES:Artists,Community,Readers
ATTACH;FMTTYPE=image/jpeg:https://events.neighborhoodcomics.com/wp-content/uploads/2026/04/utot.jpg
END:VEVENT
BEGIN:VEVENT
DTSTART;TZID=America/New_York:20280227T190000
DTEND;TZID=America/New_York:20280227T210000
DTSTAMP:20260422T154212
CREATED:20260422T165541Z
LAST-MODIFIED:20260422T165541Z
UID:10002700-1835290800-1835298000@events.neighborhoodcomics.com
SUMMARY:Open CoMIC Night
DESCRIPTION:Join local writers and artists as they share their comic creations. You can participate by having a digital link to your comic at the ready. Sign up at the door.
URL:https://events.neighborhoodcomics.com/event/open-comic-night/2028-02-27/
LOCATION:Neighborhood Comics\, 1205 Bull St.\, Savannah\, GA\, 31401\, United States
CATEGORIES:Artists,Community,Readers
ATTACH;FMTTYPE=image/jpeg:https://events.neighborhoodcomics.com/wp-content/uploads/2026/04/utot.jpg
END:VEVENT
BEGIN:VEVENT
DTSTART;TZID=America/New_York:20280326T190000
DTEND;TZID=America/New_York:20280326T210000
DTSTAMP:20260422T154212
CREATED:20260422T165541Z
LAST-MODIFIED:20260422T165541Z
UID:10002701-1837710000-1837717200@events.neighborhoodcomics.com
SUMMARY:Open CoMIC Night
DESCRIPTION:Join local writers and artists as they share their comic creations. You can participate by having a digital link to your comic at the ready. Sign up at the door.
URL:https://events.neighborhoodcomics.com/event/open-comic-night/2028-03-26/
LOCATION:Neighborhood Comics\, 1205 Bull St.\, Savannah\, GA\, 31401\, United States
CATEGORIES:Artists,Community,Readers
ATTACH;FMTTYPE=image/jpeg:https://events.neighborhoodcomics.com/wp-content/uploads/2026/04/utot.jpg
END:VEVENT
BEGIN:VEVENT
DTSTART;TZID=America/New_York:20280430T190000
DTEND;TZID=America/New_York:20280430T210000
DTSTAMP:20260422T154212
CREATED:20260422T165541Z
LAST-MODIFIED:20260422T165541Z
UID:10002702-1840734000-1840741200@events.neighborhoodcomics.com
SUMMARY:Open CoMIC Night
DESCRIPTION:Join local writers and artists as they share their comic creations. You can participate by having a digital link to your comic at the ready. Sign up at the door.
URL:https://events.neighborhoodcomics.com/event/open-comic-night/2028-04-30/
LOCATION:Neighborhood Comics\, 1205 Bull St.\, Savannah\, GA\, 31401\, United States
CATEGORIES:Artists,Community,Readers
ATTACH;FMTTYPE=image/jpeg:https://events.neighborhoodcomics.com/wp-content/uploads/2026/04/utot.jpg
END:VEVENT
BEGIN:VEVENT
DTSTART;TZID=America/New_York:20280528T190000
DTEND;TZID=America/New_York:20280528T210000
DTSTAMP:20260422T154212
CREATED:20260422T165541Z
LAST-MODIFIED:20260422T165541Z
UID:10002703-1843153200-1843160400@events.neighborhoodcomics.com
SUMMARY:Open CoMIC Night
DESCRIPTION:Join local writers and artists as they share their comic creations. You can participate by having a digital link to your comic at the ready. Sign up at the door.
URL:https://events.neighborhoodcomics.com/event/open-comic-night/2028-05-28/
LOCATION:Neighborhood Comics\, 1205 Bull St.\, Savannah\, GA\, 31401\, United States
CATEGORIES:Artists,Community,Readers
ATTACH;FMTTYPE=image/jpeg:https://events.neighborhoodcomics.com/wp-content/uploads/2026/04/utot.jpg
END:VEVENT
BEGIN:VEVENT
DTSTART;TZID=America/New_York:20280625T190000
DTEND;TZID=America/New_York:20280625T210000
DTSTAMP:20260422T154212
CREATED:20260422T165541Z
LAST-MODIFIED:20260422T165541Z
UID:10002704-1845572400-1845579600@events.neighborhoodcomics.com
SUMMARY:Open CoMIC Night
DESCRIPTION:Join local writers and artists as they share their comic creations. You can participate by having a digital link to your comic at the ready. Sign up at the door.
URL:https://events.neighborhoodcomics.com/event/open-comic-night/2028-06-25/
LOCATION:Neighborhood Comics\, 1205 Bull St.\, Savannah\, GA\, 31401\, United States
CATEGORIES:Artists,Community,Readers
ATTACH;FMTTYPE=image/jpeg:https://events.neighborhoodcomics.com/wp-content/uploads/2026/04/utot.jpg
END:VEVENT
BEGIN:VEVENT
DTSTART;TZID=America/New_York:20280730T190000
DTEND;TZID=America/New_York:20280730T210000
DTSTAMP:20260422T154212
CREATED:20260422T165541Z
LAST-MODIFIED:20260422T165541Z
UID:10002705-1848596400-1848603600@events.neighborhoodcomics.com
SUMMARY:Open CoMIC Night
DESCRIPTION:Join local writers and artists as they share their comic creations. You can participate by having a digital link to your comic at the ready. Sign up at the door.
URL:https://events.neighborhoodcomics.com/event/open-comic-night/2028-07-30/
LOCATION:Neighborhood Comics\, 1205 Bull St.\, Savannah\, GA\, 31401\, United States
CATEGORIES:Artists,Community,Readers
ATTACH;FMTTYPE=image/jpeg:https://events.neighborhoodcomics.com/wp-content/uploads/2026/04/utot.jpg
END:VEVENT
BEGIN:VEVENT
DTSTART;TZID=America/New_York:20280827T190000
DTEND;TZID=America/New_York:20280827T210000
DTSTAMP:20260422T154212
CREATED:20260422T165541Z
LAST-MODIFIED:20260422T165541Z
UID:10002706-1851015600-1851022800@events.neighborhoodcomics.com
SUMMARY:Open CoMIC Night
DESCRIPTION:Join local writers and artists as they share their comic creations. You can participate by having a digital link to your comic at the ready. Sign up at the door.
URL:https://events.neighborhoodcomics.com/event/open-comic-night/2028-08-27/
LOCATION:Neighborhood Comics\, 1205 Bull St.\, Savannah\, GA\, 31401\, United States
CATEGORIES:Artists,Community,Readers
ATTACH;FMTTYPE=image/jpeg:https://events.neighborhoodcomics.com/wp-content/uploads/2026/04/utot.jpg
END:VEVENT
BEGIN:VEVENT
DTSTART;TZID=America/New_York:20280924T190000
DTEND;TZID=America/New_York:20280924T210000
DTSTAMP:20260422T154212
CREATED:20260422T165541Z
LAST-MODIFIED:20260422T165541Z
UID:10002707-1853434800-1853442000@events.neighborhoodcomics.com
SUMMARY:Open CoMIC Night
DESCRIPTION:Join local writers and artists as they share their comic creations. You can participate by having a digital link to your comic at the ready. Sign up at the door.
URL:https://events.neighborhoodcomics.com/event/open-comic-night/2028-09-24/
LOCATION:Neighborhood Comics\, 1205 Bull St.\, Savannah\, GA\, 31401\, United States
CATEGORIES:Artists,Community,Readers
ATTACH;FMTTYPE=image/jpeg:https://events.neighborhoodcomics.com/wp-content/uploads/2026/04/utot.jpg
END:VEVENT
END:VCALENDAR